Workbook

Sheet Hub coords
A1: Blue Ridge Hubs adjusted from 1999 to 2013 survey for Triumph (TR) and GeoXH receivers
A3: Used CORS station CPXF GNSS basestation data for all corrections
A5: 1999 DNR Surveyor's coordinates NAD 83 UTM, Zone 10, meters (HARN)
A6: 2B_1999 | B6: 487604.59 | C6: 5189381.8 | D6: 46 51 28.30083 N | E6: 123 09 45.40271 W
A8: 2013 NAD(2011) Epoch 2010.0 UTM, Zone 10, meters
A9: 2B_2013_CPXF_TR (GNSS) (AUTO 12 deg cut-off) | B9: 487604.78 | C9: 5189382
A13: ID | B13: X_1999 | C13: Y_1999 | D13: X_2013_TR | E13: Y_2013_TR
A14: 10A | B14: 487963.89 | C14: 5189790.4 | D14: 487964.07 | E14: 5189790.6
A15: 10B | B15: 487737.48 | C15: 5189045.1 | D15: 487737.66 | E15: 5189045.3
A16: 10C | B16: 487514.36 | C16: 5189443.1 | D16: 487514.55 | E16: 5189443.3
A17: 11A | B17: 487977.76 | C17: 5189688.9 | D17: 487977.94 | E17: 5189689.1
A18: 11B | B18: 487737.47 | C18: 5188935.8 | D18: 487737.66 | E18: 5188936
A19: 11C | B19: 487327.87 | C19: 5189518.8 | D19: 487328.05 | E19: 5189519
A20: 12A | B20: 487922.04 | C20: 5189683.9 | D20: 487922.22 | E20: 5189684.1
A21: 12B | B21: 487627.86 | C21: 5188969.8 | D21: 487628.05 | E21: 5188970
A22: 12C | B22: 487253.33 | C22: 5189490.5 | D22: 487253.52 | E22: 5189490.7
A23: 13A | B23: 487870.63 | C23: 5189669.8 | D23: 487870.82 | E23: 5189670
A24: 13B | B24: 487678.22 | C24: 5189053.6 | D24: 487678.4 | E24: 5189053.8
A25: 13C | B25: 487214.44 | C25: 5189465.2 | D25: 487214.62 | E25: 5189465.4
... A70: 8A | B70: 488014.65 | C70: 5189869.3 | D70: 488014.84 | E70: 5189869.5
A71: 8APIN | D71: 488015.7 | E71: 5189870.8 | F71: Note: TR2 and GeoXH files were collected at a pin flag 1.5m, AZ =35 deg of 8A stake; therefore 8A_PIN coordinates are 1.5m NE of 8A stake
A72: 8B | B72: 487770.3 | C72: 5189136.9 | D72: 487770.48 | E72: 5189137.1 | F72: LEAP rover file was collected at 8A stake.
A73: 8C | B73: 487562.92 | C73: 5189817.1 | D73: 487563.11 | E73: 5189817.3
A74: 9A | B74: 487975.14 | C74: 5189856.4 | D74: 487975.33 | E74: 5189856.6
A75: 9B | B75: 487766.77 | C75: 5189099.8 | D75: 487766.96 | E75: 5189100
A76: 9C | B76: 487504.91 | C76: 5189661.4 | D76: 487505.09 | E76: 5189661.6
A77: T1P2 | B77: 488186.82 | C77: 5189614.7 | D77: 488187 | E77: 5189614.9
A78: T1P3 | B78: 488279.68 | C78: 5189613.3 | D78: 488279.87 | E78: 5189613.5
A79: T1P8 | B79: 488278.19 | C79: 5189704.2 | D79: 488278.37 | E79: 5189704.4
A80: T3P10 | B80: 487713.3 | C80: 5189833.2 | D80: 487713.48 | E80: 5189833.4
A81: T3P12 | B81: 487713.62 | C81: 5189642 | D81: 487713.8 | E81: 5189642.3
A82: T3P13 | B82: 487714.73 | C82: 5189535.7 | D82: 487714.91 | E82: 5189535.9
A83: T3P14 | B83: 487714.68 | C83: 5189429 | D83: 487714.87 | E83: 5189429.2
A84: T3P15 | B84: 487611.98 | C84: 5189433.8 | D84: 487612.17 | E84: 5189434
... A119: T6P8 | B119: 487956.08 | C119: 5189505.5 | D119: 487956.26 | E119: 5189505.8

Sheet Time_vs_accuracy
A2: Occup. Time (mins) | B2: Number of hubs | C2: Number of samples per hub | D2: Number of total samples | E2: Mean Horz Error | F2: Stdev of Horz error (m) | G2: Min. Horz error (m) | H2: Max. Horz Error | I2: RMSE horz error (m)
A3: 5 | B3: 33 | C3: 30 | D3: =B3*C3 -> 990 | E3: 2.2491097 | F3: 1.44 | G3: 0.029506101 | H3: 9.5915149 | I3: 2.67
A4: 10 | B4: 33 | C4: 30 | D4: =B4*C4 -> 990 | E4: 2.04 | F4: 1.24 | G4: 0.037258691 | H4: 7.4777239 | I4: 2.39
A5: 15 | B5: 33 | C5: 30 | D5: =B5*C5 -> 990 | E5: 1.85 | F5: 1.17 | G5: 0.01549871 | H5: 7.0110495 | I5: 2.19
A6: 20 | B6: 33 | C6: 30 | D6: =B6*C6 -> 990 | E6: 1.76 | F6: 1.14 | G6: 0.017076593 | H6: 8.3687074 | I6: 2.1
A7: 30 | B7: 33 | C7: 30 | D7: =B7*C7 -> 990 | E7: 1.63 | F7: 1.04 | G7: 0.032490152 | H7: 5.3515818 | I7: 1.94
A8: 60 | B8: 33 | C8: 1 | D8: =B8*C8 -> 33 | E8: 1.43 | F8: 0.95 | G8: 0.1 | H8: 4.01 | I8: 1.71
A10: Note: Max 1-hr error was at stake T6P13. TR1 error for T6P13 was 1.65 and TR1 max error was 2.17 at 8A.
A38: Occupation time | B38: Satellite arc traveled | E38: Distance to 2' Diam tree bole | F38: Arc blocked by tree bole deg | G38: tan | H38: arctan rad | I38: arctan deg
A39: 5 | B39: =360/(24*60/A39) -> 1.25 | E39: 10 | F39: =I39*2 -> 11.421186 | G39: =1/E39 -> 0.1 | H39: =ATAN(G39) -> 0.099668652 | I39: =DEGREES(H39) -> 5.7105931
A40: 10 | B40: =360/(24*60/A40) -> 2.5 | E40: 20 | F40: =I40*2 -> 5.7248105 | G40: =1/E40 -> 0.05 | H40: =ATAN(G40) -> 0.049958396 | I40: =DEGREES(H40) -> 2.8624052
A41: 15 | B41: =360/(24*60/A41) -> 3.75 | E41: 30 | F41: =I41*2 -> 3.8183049 | G41: =1/E41 -> 0.033333333 | H41: =ATAN(G41) -> 0.033320996 | I41: =DEGREES(H41) -> 1.9091524
A42: 20 | B42: =360/(24*60/A42) -> 5 | E42: 40 | F42: =I42*2 -> 2.8641924 | G42: =1/E42 -> 0.025 | H42: =ATAN(G42) -> 0.024994794 | I42: =DEGREES(H42) -> 1.4320962
A43: 30 | B43: =360/(24*60/A43) -> 7.5 | E43: 50 | F43: =I43*2 -> 2.2915257 | G43: =1/E43 -> 0.02 | H43: =ATAN(G43) -> 0.019997334 | I43: =DEGREES(H43) -> 1.1457628
A44: 60 | B44: =360/(24*60/A44) -> 15 | E44: 60 | F44: =I44*2 -> 1.9096825 | G44: =1/E44 -> 0.016666667 | H44: =ATAN(G44) -> 0.016665124 | I44: =DEGREES(H44) -> 0.95484125
E45: 70 | F45: =I45*2 -> 1.6369109 | G45: =1/E45 -> 0.014285714 | H45: =ATAN(G45) -> 0.014284743 | I45: =DEGREES(H45) -> 0.81845546
E46: 80 | F46: =I46*2 -> 1.4323199 | G46: =1/E46 -> 0.0125 | H46: =ATAN(G46) -> 0.012499349 | I46: =DEGREES(H46) -> 0.71615995
E47: 90 | F47: =I47*2 -> 1.2731872 | G47: =1/E47 -> 0.011111111 | H47: =ATAN(G47) -> 0.011110654 | I47: =DEGREES(H47) -> 0.63659358
E48: 100 | F48: =I48*2 -> 1.1458774 | G48: =1/E48 -> 0.01 | H48: =ATAN(G48) -> 0.0099996667 | I48: =DEGREES(H48) -> 0.5729387
T56: 20 | U56: =2.12356+T56*-0.012968 -> 1.8642
T57: 21 | U57: =2.12356+T57*-0.012968 -> 1.851232
T58: 22 | U58: =2.12356+T58*-0.012968 -> 1.838264
T59: 23 | U59: =2.12356+T59*-0.012968 -> 1.825296
T60: 24 | U60: =2.12356+T60*-0.012968 -> 1.812328
T61: 25 | U61: =2.12356+T61*-0.012968 -> 1.79936
T62: 26 | U62: =2.12356+T62*-0.012968 -> 1.786392
B74: Occupution Time (mins) | C74: Sub-samples per stake | D74: Mean Horz Error | E74: Stdev of Mean Horz Error | F74: Min. Horz Error | G74: Max. Horz Error | H74: RMSE Horz Error
B75: 5 | C75: 30 | D75: 2.2575814 | E75: 1.4449853 | F75: 0.029506101 | G75: 9.5915149 | H75: 2.68005
B76: 10 | C76: 30 | D76: 2.0237827 | E76: 1.2582992 | F76: 0.037258691 | G76: 7.4777239 | H76: 2.3827516
B77: 15 | C77: 30 | D77: 1.8267461 | E77: 1.1853002 | F77: 0.01549871 | G77: 7.0110495 | H77: 2.1772919
B78: 20 | C78: 30 | D78: 1.7413129 | E78: 1.1469178 | F78: 0.017076593 | G78: 8.3687074 | H78: 2.0847873
B79: 30 | C79: 30 | D79: 1.637402 | E79: 1.0610761 | F79: 0.032490152 | G79: 5.3515818 | H79: 1.9508704
B80: 60 | C80: 1 | D80: 1.439 | E80: -- | F80: -- | G80: -- | H80: --

Sheet Time vs horz err individ hubs
A1: GeoXH
B2: 5min | G2: 15min | L2: 30min | Q2: 60min
A3: Survey Stake | B3: 5-min Mean Err | C3: Stdev of err | D3: Min | E3: Max | F3: RSME | G3: 15-min Mean Err | H3: Stdev of err | I3: Min | J3: Max | K3: RSME | L3: 30-min Mean Err | M3: Stdev of err | N3: Min | O3: Max | P3: RSME | Q3: 1-hr Err
A4: 10A | B4: 2.4166226 | C4: 1.4041635 | D4: 0.64018654 | E4: 7.1938078 | F4: 2.7831668 | G4: 1.6784639 | H4: 1.054779 | I4: 0.31153396 | J4: 3.9469852 | K4: 1.9729963 | L4: 1.6220603 | M4: 1.1371145 | N4: 0.1675721 | O4: 3.2870826 | P4: 1.9700274 | Q4: 1.3076812
A5: 11A | B5: 3.6595288 | C5: 1.2882399 | D5: 1.0807866 | E5: 6.980427 | F5: 3.8725179 | G5: 2.8736071 | H5: 0.57759551 | I5: 1.9787862 | J5: 3.6470695 | K5: 2.9291831 | L5: 3.0152285 | M5: 0.24344257 | N5: 2.6016201 | O5: 3.5372435 | P5: 3.0247135 | Q5: 2.8086881
A6: 12A | B6: 2.9710648 | C6: 0.85196794 | D6: 1.6910884 | E6: 4.774156 | F6: 3.0868885 | G6: 2.3212203 | H6: 0.56016352 | I6: 1.1487333 | J6: 3.5486522 | K6: 2.3856629 | L6: 2.4269556 | M6: 0.32018631 | N6: 1.785472 | O6: 2.9703501 | P6: 2.4472874 | Q6: 2.6799246
A7: 13A | B7: 3.3821514 | C7: 1.6045214 | D7: 0.99728502 | E7: 6.2680052 | F7: 3.7319728 | G7: 2.7852545 | H7: 0.84850887 | I7: 1.4800594 | J7: 4.5616355 | K7: 2.9075094 | L7: 2.2999623 | M7: 0.39191236 | N7: 1.4878681 | O7: 3.2425916 | P7: 2.3320167 | Q7: 2.0254273
A8: 14A | B8: 2.1940159 | C8: 1.5858647 | D8: 0.34980482 | E8: 4.7703648 | F8: 2.6916241 | G8: 1.8593696 | H8: 0.58540863 | I8: 0.61513674 | J8: 2.7971555 | K8: 1.946416 | L8: 1.70862 | M8: 0.20750416 | N8: 1.1090799 | O8: 2.0371665 | P8: 1.7207571 | Q8: 1.7122571
A9: 15A | B9: 1.9941878 | C9: 1.1997341 | D9: 0.22784602 | E9: 6.698014 | F9: 2.3169308 | G9: 1.3401573 | H9: 0.5068202 | I9: 0.50771942 | J9: 2.705627 | K9: 1.4297993 | L9: 1.1552594 | M9: 0.43843656 | N9: 0.24927336 | O9: 2.1996723 | P9: 1.2330626 | Q9: 1.5454619
A10: 16A | B10: 1.9090322 | C10: 1.1455219 | D10: 0.34292391 | E10: 4.614549 | F10: 2.2165026 | G10: 2.2499534 | H10: 0.77945605 | I10: 0.51120075 | J10: 3.4717515 | K10: 2.3768867 | L10: 1.9945847 | M10: 0.66155604 | N10: 0.6027069 | O10: 2.7301749 | P10: 2.0979599 | Q10: 1.9245946
A11: 17A | B11: 1.965876 | C11: 1.1891805 | D11: 0.094786128 | E11: 4.6395803 | F11: 2.2872867 | G11: 1.6585942 | H11: 0.58175911 | I11: 0.69741179 | J11: 3.3267777 | K11: 1.7544506 | L11: 1.4494499 | M11: 0.43234436 | N11: 0.43476386 | O11: 1.974415 | P11: 1.5104953 | Q11: 0.88979459
A12: 21A | B12: 2.3371121 | C12: 0.79069527 | D12: 0.83721205 | E12: 3.762755 | F12: 2.4630168 | G12: 1.6067314 | H12: 0.50620274 | I12: 0.92266918 | J12: 2.6768512 | K12: 1.682048 | L12: 1.4419704 | M12: 0.37402265 | N12: 0.93420823 | O12: 2.3469552 | P12: 1.4881225 | Q12: 1.3169039
A13: 22A | B13: 2.1005913 | C13: 1.1716338 | D13: 0.41971349 | E13: 5.4852586 | F13: 2.3957153 | G13: 1.4944358 | H13: 0.41791437 | I13: 0.88396109 | J13: 2.3797407 | K13: 1.5498932 | L13: 1.9066492 | M13: 0.36129963 | N13: 1.1930851 | O13: 2.3875614 | P13: 1.939458 | Q13: 1.543796
A14: 24A | B14: 2.4375138 | C14: 1.2087911 | D14: 0.52790966 | E14: 5.2992978 | F14: 2.7118156 | G14: 2.0060599 | H14: 0.5808586 | I14: 1.1550932 | J14: 3.0944068 | K14: 2.0857676 | L14: 1.5502202 | M14: 0.38450336 | N14: 0.88903544 | O14: 2.4916556 | P14: 1.5956496 | Q14: 1.2823515
A15: 26A | B15: 0.72183334 | C15: 0.48747219 | D15: 0.32702387 | E15: 2.5098109 | F15: 0.86645919 | G15: 0.42053671 | H15: 0.11807328 | I15: 0.30928112 | J15: 0.8469444 | K15: 0.43626564 | L15: 0.39107059 | M15: 0.037002438 | N15: 0.3231034 | O15: 0.49681164 | P15: 0.39275915 | Q15: 0.33683707
... A36: T6P8 | B36: 2.7695915 | C36: 0.96128446 | D36: 1.0144676 | E36: 4.997181 | F36: 2.9264146 | G36: 2.619278 | H36: 0.41259141 | I36: 1.5877637 | J36: 3.4570527 | K36: 2.6505045 | L36: 2.1726705 | M36: 0.36925747 | N36: 1.498261 | O36: 3.2401696 | P36: 2.2027943 | Q36: 2.6836168
A37: Ave= | B37: =AVERAGE(B4:B36) -> 2.2548376 | C37: =AVERAGE(C4:C36) -> 1.1335765 | D37: =AVERAGE(D4:D36) -> 0.58582706 | E37: =AVERAGE(E4:E36) -> 5.0941768 | F37: =AVERAGE(F4:F36) -> 2.5286395 | G37: =AVERAGE(G4:G36) -> 1.8468617 | H37: =AVERAGE(H4:H36) -> 0.73785106 | I37: =AVERAGE(I4:I36) -> 0.70766254 | ... Q37: =AVERAGE(Q4:Q36) -> 1.4344706
A38: Max= | B38: =MAX(B4:B36) -> 4.4798413 | C38: =MAX(C4:C36) -> 2.0025509 | D38: =MAX(D4:D36) -> 1.7278409 | E38: =MAX(E4:E36) -> 9.5915149 | F38: =MAX(F4:F36) -> 4.6928988 | G38: =MAX(G4:G36) -> 4.0628913 | H38: =MAX(H4:H36) -> 1.7376088 | I38: =MAX(I4:I36) -> 1.9787862 | ... Q38: =MAX(Q4:Q36) -> 4.0057053
A39: Count= | B39: =COUNT(B4:B36) -> 33
W42: t-Test: Paired Two Sample for Means
X44: 5-min Mean Err | Y44: 1-hr Err
W45: Mean | X45: 2.2840205 | Y45: 1.4387229
W46: Variance | X46: 0.74938135 | Y46: 0.91311483
W47: Observations | X47: 35 | Y47: 35
W48: Pearson Correlation | X48: 0.89079412
W49: Hypothesized Mean Difference | X49: 0
W50: df | X50: 34
W51: t Stat | X51: 11.510533
W52: P(T<=t) one-tail | X52: 1.4124456e-13
W53: t Critical one-tail | X53: 1.6909243
W54: P(T<=t) two-tail | X54: 2.8248912e-13
W55: t Critical two-tail | X55: 2.0322445
W58: t-Test: Paired Two Sample for Means
X60: 15-min Mean Err | Y60: 1-hr Err
W61: Mean | X61: 1.8593515 | Y61: 1.4387229
W62: Variance | X62: 0.77790872 | Y62: 0.91311483
W63: Observations | X63: 35 | Y63: 35
W64: Pearson Correlation | X64: 0.91243442
W65: Hypothesized Mean Difference | X65: 0
W66: df | X66: 34
...

Sheet All_times_R
A1: Hub | B1: Hub_OT | C1: Datafile | D1: Occup_time | E1: Draw_No | F1: Horz_Err
A2: 10A | B2: =CONCATENATE(A2,"_",D2) -> 10A_5min | C2: 10A_300_1.cor | D2: 5min | E2: Draw_1 | F2: 2.2007755
A3: 10A | B3: =CONCATENATE(A3,"_",D3) -> 10A_5min | C3: 10A_300_10.cor | D3: 5min | E3: Draw_10 | F3: 2.1147019
A4: 10A | B4: =CONCATENATE(A4,"_",D4) -> 10A_5min | C4: 10A_300_11.cor | D4: 5min | E4: Draw_11 | F4: 4.376469
A5: 10A | B5: =CONCATENATE(A5,"_",D5) -> 10A_5min | C5: 10A_300_12.cor | D5: 5min | E5: Draw_12 | F5: 0.64018654
A6: 10A | B6: =CONCATENATE(A6,"_",D6) -> 10A_5min | C6: 10A_300_13.cor | D6: 5min | E6: Draw_13 | F6: 1.2455784
A7: 10A | B7: =CONCATENATE(A7,"_",D7) -> 10A_5min | C7: 10A_300_14.cor | D7: 5min | E7: Draw_14 | F7: 1.401956
A8: 10A | B8: =CONCATENATE(A8,"_",D8) -> 10A_5min | C8: 10A_300_15.cor | D8: 5min | E8: Draw_15 | F8: 0.83170188
A9: 10A | B9: =CONCATENATE(A9,"_",D9) -> 10A_5min | C9: 10A_300_16.cor | D9: 5min | E9: Draw_16 | F9: 3.3519427
A10: 10A | B10: =CONCATENATE(A10,"_",D10) -> 10A_5min | C10: 10A_300_17.cor | D10: 5min | E10: Draw_17 | F10: 1.7953222
A11: 10A | B11: =CONCATENATE(A11,"_",D11) -> 10A_5min | C11: 10A_300_18.cor | D11: 5min | E11: Draw_18 | F11: 1.7394798
A12: 10A | B12: =CONCATENATE(A12,"_",D12) -> 10A_5min | C12: 10A_300_19.cor | D12: 5min | E12: Draw_19 | F12: 1.3040035
A13: 10A | B13: =CONCATENATE(A13,"_",D13) -> 10A_5min | C13: 10A_300_2.cor | D13: 5min | E13: Draw_2 | F13: 4.1368339
... A4951: T6P8 | B4951: =CONCATENATE(A4951,"_",D4951) -> T6P8_30min | C4951: T6P8_1800_9.cor | D4951: 30min | E4951: Draw_9 | F4951: 3.0043493

Sheet Sum_all_times_R
A1: Hub | B1: Occup_time | C1: mean | D1: sd | E1: max
A2: 10A | B2: 5min | C2: 2.4166226 | D2: 1.4041635 | E2: 7.1938078
A3: 11A | B3: 5min | C3: 3.6595288 | D3: 1.2882399 | E3: 6.980427
A4: 12A | B4: 5min | C4: 2.9710648 | D4: 0.85196794 | E4: 4.774156
A5: 13A | B5: 5min | C5: 3.3821514 | D5: 1.6045213 | E5: 6.2680052
A6: 14A | B6: 5min | C6: 2.1940159 | D6: 1.5858647 | E6: 4.7703648
A7: 15A | B7: 5min | C7: 1.9941878 | D7: 1.1997341 | E7: 6.698014
A8: 16A | B8: 5min | C8: 1.9090322 | D8: 1.1455219 | E8: 4.614549
A9: 17A | B9: 5min | C9: 1.965876 | D9: 1.1891805 | E9: 4.6395803
A10: 21A | B10: 5min | C10: 2.3371121 | D10: 0.79069527 | E10: 3.762755
A11: 22A | B11: 5min | C11: 2.1005913 | D11: 1.1716338 | E11: 5.4852586
A12: 24A | B12: 5min | C12: 2.4375138 | D12: 1.2087911 | E12: 5.2992978
A13: 26A | B13: 5min | C13: 0.7218333 | D13: 0.48747219 | E13: 2.5098109
... A166: T6P8 | B166: 30min | C166: 2.1726705 | D166: 0.36925747 | E166: 3.2401696

Sheet R_GeoXH_vs_TR1
A1: Hub | B1: Geo_Horz_Err | C1: TR1_Horz_Err | D1: Geo^2 | E1: TR1^2
A2: 10a | B2: 1.3076812 | C2: 0.9900393 | D2: =B2*B2 -> 1.71003 | E2: =C2*C2 -> 0.98017781
A3: 11a | B3: 2.8086881 | C3: 1.3493375 | D3: =B3*B3 -> 7.888729 | E3: =C3*C3 -> 1.8207117
A4: 12a | B4: 2.6799246 | C4: 0.80771657 | D4: =B4*B4 -> 7.1819956 | E4: =C4*C4 -> 0.65240605
A5: 13a | B5: 2.0254273 | C5: 1.5054999 | D5: =B5*B5 -> 4.1023556 | E5: =C5*C5 -> 2.2665299
A6: 14a | B6: 1.7122571 | C6: 1.4035311 | D6: =B6*B6 -> 2.9318244 | E6: =C6*C6 -> 1.9698996
A7: 15a | B7: 1.5454619 | C7: 1.3171625 | D7: =B7*B7 -> 2.3884524 | E7: =C7*C7 -> 1.7349171
A8: 16a | B8: 1.9245946 | C8: 1.0407265 | D8: =B8*B8 -> 3.7040644 | E8: =C8*C8 -> 1.0831117
A9: 17a | B9: 0.88979459 | C9: 0.13084869 | D9: =B9*B9 -> 0.79173441 | E9: =C9*C9 -> 0.01712138
A10: 21a | B10: 1.3169039 | C10: 1.270065 | D10: =B10*B10 -> 1.7342358 | E10: =C10*C10 -> 1.6130651
A11: 22a | B11: 1.543796 | C11: 1.0131755 | D11: =B11*B11 -> 2.3833062 | E11: =C11*C11 -> 1.0265246
A12: 24a | B12: 1.2823515 | C12: 0.16306103 | D12: =B12*B12 -> 1.6444254 | E12: =C12*C12 -> 0.0265889
A13: 26a | B13: 0.33683707 | C13: 0.13619552 | D13: =B13*B13 -> 0.11345921 | E13: =C13*C13 -> 0.01854922
... A34: T6p8 | B34: 2.6836168 | C34: 1.7502107 | D34: =B34*B34 -> 7.2017992 | E34: =C34*C34 -> 3.0632376

Sheet Mean_15min
A1: 15-min error GeoXH PFO
A3: numSummary(gps[,"Horz_Err"], groups=gps$Draw_No, statistics=c("mean", "sd",
A4: "IQR", "quantiles"), quantiles=c(0,.25,.5,.75,1))
B6: mean | C6: sd | D6: IQR | E6: 0 | F6: 0.25 | G6: 0.5 | H6: 0.75 | I6: 1 | J6: data:n
A7: Draw_1 | B7: 1.804769 | C7: 1.125933 | D7: 1.5874 | E7: 0.09528384 | F7: 0.9476037 | G7: 1.6053 | H7: 2.535004 | I7: 4.930756 | J7: 165
A8: Draw_10 | B8: 1.796326 | C8: 1.172542 | D8: 1.517153 | E8: 0.03822054 | F8: 0.8937718 | G8: 1.649919 | H8: 2.410924 | I8: 5.810534 | J8: 165
A9: Draw_11 | B9: 1.811002 | C9: 1.170634 | D9: 1.499666 | E9: 0.06512918 | F9: 1.0280278 | G9: 1.56387 | H9: 2.527694 | I9: 6.107346 | J9: 165
A10: Draw_12 | B10: 1.916405 | C10: 1.304638 | D10: 1.675737 | E10: 0.01549871 | F10: 0.8885731 | G10: 1.724762 | H10: 2.56431 | I10: 5.920775 | J10: 165 | L10: Bin | M10: Frequency
A11: Draw_13 | B11: 2.010372 | C11: 1.273377 | D11: 1.762789 | E11: 0.03774136 | F11: 1.0406503 | G11: 1.755252 | H11: 2.803439 | I11: 6.20414 | J11: 165 | L11: 1.796326 | M11: 1
A12: Draw_14 | B12: 1.959488 | C12: 1.343018 | D12: 1.735343 | E12: 0.01809448 | F12: 1.0140671 | G12: 1.685662 | H12: 2.74941 | I12: 7.646284 | J12: 165 | L12: 1.850802 | M12: 7
A13: Draw_15 | B13: 1.88933 | C13: 1.220507 | D13: 1.749446 | E13: 0.12016077 | F13: 0.9141455 | G13: 1.708927 | H13: 2.663592 | I13: 6.726251 | J13: 165 | L13: 1.905278 | M13: 8
A14: Draw_16 | B14: 1.970215 | C14: 1.317483 | D14: 1.665928 | E14: 0.05826843 | F14: 1.0109231 | G14: 1.719467 | H14: 2.676851 | I14: 6.400641 | J14: 165 | L14: 1.959754 | M14: 8
A15: Draw_17 | B15: 2.021165 | C15: 1.223974 | D15: 1.529422 | E15: 0.10260609 | F15: 1.1724655 | G15: 1.839904 | H15: 2.701888 | I15: 5.477758 | J15: 165 | L15: 2.01423 | M15: 4
A16: Draw_18 | B16: 1.850693 | C16: 1.270376 | D16: 1.679011 | E16: 0.04173979 | F16: 0.8647385 | G16: 1.669697 | H16: 2.543749 | I16: 6.698014 | J16: 165 | L16: More | M16: 2
A17: Draw_19 | B17: 1.926663 | C17: 1.321352 | D17: 1.398684 | E17: 0.07272146 | F17: 1.0214002 | G17: 1.722132 | H17: 2.420084 | I17: 7.392485 | J17: 165
A18: Draw_2 | B18: 1.963295 | C18: 1.25709 | D18: 1.645881 | E18: 0.04181399 | F18: 0.998099 | G18: 1.834899 | H18: 2.64398 | I18: 6.330832 | J18: 165
A19: Draw_20 | B19: 1.835692 | C19: 1.107403 | D19: 1.642364 | E19: 0.04902459 | F19: 0.9182708 | G19: 1.640255 | H19: 2.560635 | I19: 5.384909 | J19: 165
A20: Draw_21 | B20: 2.068706 | C20: 1.314041 | D20: 1.648915 | E20: 0.02461727 | F20: 1.0523989 | G20: 1.927883 | H20: 2.701314 | I20: 6.756539 | J20: 165
A21: Draw_22 | B21: 1.893163 | C21: 1.12389 | D21: 1.302454 | E21: 0.08542722 | F21: 1.1463669 | G21: 1.747838 | H21: 2.448821 | I21: 5.449356 | J21: 165
A22: Draw_23 | B22: 1.992388 | C22: 1.251916 | D22: 1.4865 | E22: 0.07610788 | F22: 1.1114186 | G22: 1.770777 | H22: 2.597918 | I22: 5.585824 | J22: 165
A23: Draw_24 | B23: 1.933974 | C23: 1.203062 | D23: 1.648613 | E23: 0.05358181 | F23: 0.9846395 | G23: 1.738149 | H23: 2.633252 | I23: 5.80053 | J23: 165
A24: Draw_25 | B24: 1.887062 | C24: 1.249805 | D24: 1.328182 | E24: 0.04219964 | F24: 1.0429071 | G24: 1.752407 | H24: 2.371089 | I24: 7.193808 | J24: 165
A25: Draw_26 | B25: 1.828933 | C25: 1.117799 | D25: 1.691594 | E25: 0.11152941 | F25: 0.8904512 | G25: 1.704326 | H25: 2.582045 | I25: 5.356348 | J25: 165
A26: Draw_27 | B26: 1.902861 | C26: 1.257597 | D26: 1.583857 | E26: 0.0295061 | F26: 0.9910254 | G26: 1.687297 | H26: 2.574883 | I26: 7.39248 | J26: 165
A27: Draw_28 | B27: 1.880254 | C27: 1.128198 | D27: 1.493447 | E27: 0.09262618 | F27: 1.0679443 | G27: 1.67778 | H27: 2.561391 | I27: 5.705397 | J27: 165
A28: Draw_29 | B28: 1.901374 | C28: 1.212077 | D28: 1.419007 | E28: 0.16956595 | F28: 0.9971569 | G28: 1.734799 | H28: 2.416163 | I28: 6.562045 | J28: 165
... A36: Draw_9 | B36: 1.907436 | C36: 1.335363 | D36: 1.842392 | E36: 0.03249015 | F36: 0.9160435 | G36: 1.730905 | H36: 2.758435 | I36: 8.368707 | J36: 165
A37: ave | B37: =AVERAGE(B$7:B$36) -> 1.9072478
A38: max | B38: =MAX(B$7:B$36) -> 2.068706
A39: min | B39: =MIN(B$7:B$36) -> 1.796326
A40: stdev | B40: =_xlfn.STDEV.S(B$7:B$36) -> 0.066245862
A41: count | B41: =COUNT(B$7:B$36) -> 30

Sheet R_TR1_15min_vs_GeoXH_draw21
A1: Hub | B1: TR1_Horz_Err | C1: GeoXH_15min_Mean_Horz_err | D1: Geo_Draw21_err | E1: L1_rinex_Geo_Draw21_err
A2: 10A | B2: 3.0708111 | C2: 1.6784639 | D2: 1.4769456 | E2: 0.39349727
A3: 11A | B3: 2.1372829 | C3: 2.8736071 | D3: 3.3701654 | E3: 0.91685875
A4: 12A | B4: 2.6518089 | C4: 2.3212203 | D4: 2.2453031 | E4: 2.8034615
A5: 13A | B5: 2.7022372 | C5: 2.7852545 | D5: 2.1671264 | E5: 1.4522828
A6: 14A | B6: 3.8492796 | C6: 1.8593696 | D6: 2.6394944 | E6: 1.6529919
A7: 15A | B7: 0.97878448 | C7: 1.3401573 | D7: 1.5367804 | E7: 1.104945
A8: 16A | B8: 0.21476091 | C8: 2.2499534 | D8: 2.4043865 | E8: 2.8227707
A9: 17A | B9: 1.4125298 | C9: 1.6585942 | D9: 1.5641029 | E9: 0.67707957
A10: 21A | B10: 2.2444726 | C10: 1.6067314 | D10: 1.8131154 | E10: 1.00102
A11: 22A | B11: 0.93156833 | C11: 1.4944358 | D11: 2.3797407 | E11: 0.50342444
A12: 24A | B12: 2.2334749 | C12: 2.0060599 | D12: 2.159393 | E12: 1.9345139
A13: 26A | B13: 0.94353449 | C13: 0.42053671 | D13: 0.42770552 | E13: 0.25784036
... A34: T6P8 | B34: 0.71076578 | C34: 2.619278 | D34: 2.9218501 | E34: 1.2370878

Sheet R_T6P5_PFO_vs_L1
A1: Hub | B1: Hub_OT | C1: Datafile | D1: Draw | E1: Occup_time | F1: Draw_No | G1: PFO_Horz_Err | H1: PFO_No_GPS_sats | I1: PFO_No_GLO_sats | J1: PFO_Total_sats | K1: L1_rinex_Horz_Err | L1: L1_No_GPS_sats | M1: L1_No_GLO_sats | N1: L1_Total_sats
A2: T6P5 | B2: T6P5_15min | C2: T6P5_900_1.cor | D2: 1 | E2: 15min | F2: Draw_1 | G2: 1.949387 | H2: 9 | I2: 8 | J2: =H2+I2 -> 17 | K2: 4.4894018 | L2: 10 | M2: 8 | N2: =L2+M2 -> 18
A3: T6P5 | B3: T6P5_15min | C3: T6P5_900_2.cor | D3: 2 | E3: 15min | F3: Draw_2 | G3: 4.59958 | H3: 10 | I3: 7 | J3: =H3+I3 -> 17 | K3: 3.1253828 | L3: 10 | M3: 7 | N3: =L3+M3 -> 17
A4: T6P5 | B4: T6P5_15min | C4: T6P5_900_3.cor | D4: 3 | E4: 15min | F4: Draw_3 | G4: 3.705465 | H4: 9 | I4: 7 | J4: =H4+I4 -> 16 | K4: 1.8924048 | L4: 9 | M4: 7 | N4: =L4+M4 -> 16
A5: T6P5 | B5: T6P5_15min | C5: T6P5_900_4.cor | D5: 4 | E5: 15min | F5: Draw_4 | G5: 1.280801 | H5: 10 | I5: 7 | J5: =H5+I5 -> 17 | K5: 2.2063827 | L5: 10 | M5: 7 | N5: =L5+M5 -> 17
A6: T6P5 | B6: T6P5_15min | C6: T6P5_900_5.cor | D6: 5 | E6: 15min | F6: Draw_5 | G6: 1.526081 | H6: 9 | I6: 8 | J6: =H6+I6 -> 17 | K6: 4.4144538 | L6: 9 | M6: 8 | N6: =L6+M6 -> 17
A7: T6P5 | B7: T6P5_15min | C7: T6P5_900_6.cor | D7: 6 | E7: 15min | F7: Draw_6 | G7: 3.675753 | H7: 9 | I7: 7 | J7: =H7+I7 -> 16 | K7: 3.361559 | L7: 11 | M7: 7 | N7: =L7+M7 -> 18
A8: T6P5 | B8: T6P5_15min | C8: T6P5_900_7.cor | D8: 7 | E8: 15min | F8: Draw_7 | G8: 6.267636 | H8: 10 | I8: 7 | J8: =H8+I8 -> 17 | K8: 3.3268119 | L8: 10 | M8: 7 | N8: =L8+M8 -> 17
A9: T6P5 | B9: T6P5_15min | C9: T6P5_900_8.cor | D9: 8 | E9: 15min | F9: Draw_8 | G9: 7.01105 | H9: 9 | I9: 8 | J9: =H9+I9 -> 17 | K9: 4.4451348 | L9: 9 | M9: 8 | N9: =L9+M9 -> 17
A10: T6P5 | B10: T6P5_15min | C10: T6P5_900_9.cor | D10: 9 | E10: 15min | F10: Draw_9 | G10: 6.792503 | H10: 9 | I10: 7 | J10: =H10+I10 -> 16 | K10: 4.2666678 | L10: 9 | M10: 7 | N10: =L10+M10 -> 16
A11: T6P5 | B11: T6P5_15min | C11: T6P5_900_10.cor | D11: 10 | E11: 15min | F11: Draw_10 | G11: 5.810534 | H11: 4 | I11: 4 | J11: =H11+I11 -> 8 | K11: 2.1297236 | L11: 9 | M11: 7 | N11: =L11+M11 -> 16
A12: T6P5 | B12: T6P5_15min | C12: T6P5_900_11.cor | D12: 11 | E12: 15min | F12: Draw_11 | G12: 5.153809 | H12: 4 | I12: 3 | J12: =H12+I12 -> 7 | K12: 1.9336824 | L12: 9 | M12: 7 | N12: =L12+M12 -> 16
A13: T6P5 | B13: T6P5_15min | C13: T6P5_900_12.cor | D13: 12 | E13: 15min | F13: Draw_12 | G13: 5.069991 | H13: 9 | I13: 7 | J13: =H13+I13 -> 16 | K13: 2.4277224 | L13: 9 | M13: 7 | N13: =L13+M13 -> 16
... A31: T6P5 | B31: T6P5_15min | C31: T6P5_900_30.cor | D31: 30 | E31: 15min | F31: Draw_30 | G31: 1.024704 | H31: 10 | I31: 7 | J31: =H31+I31 -> 17 | K31: 2.3067507 | L31: 10 | M31: 7 | N31: =L31+M31 -> 17

Sheet R_5A_PFO_vs_L1
A1: Hub | B1: Hub_OT | C1: Datafile | D1: Draw | E1: Occup_time | F1: Draw_No | G1: PFO_Horz_Err | H1: PFO_No_GPS_sats | I1: PFO_No_GLO_sats | J1: PFO_Total_sats | K1: L1_rinex_Horz_Err | L1: L1_No_GPS_sats | M1: L1_No_GLO_sats | N1: L1_Total_sats
A2: 5A | B2: 5A_15min | C2: =CONCATENATE("5A_900_",D2) -> 5A_900_1 | D2: 1 | E2: 15min | F2: =CONCATENATE("Draw_",D2) -> Draw_1 | G2: 0.5271184 | H2: 9 | I2: 6 | J2: =H2+I2 -> 15 | K2: 0.18227136 | L2: 9 | M2: 6 | N2: =L2+M2 -> 15
A3: 5A | B3: 5A_15min | C3: =CONCATENATE("5A_900_",D3) -> 5A_900_2 | D3: 2 | E3: 15min | F3: =CONCATENATE("Draw_",D3) -> Draw_2 | G3: 0.48122408 | H3: 8 | I3: 6 | J3: =H3+I3 -> 14 | K3: 0.56553078 | L3: 9 | M3: 6 | N3: =L3+M3 -> 15
A4: 5A | B4: 5A_15min | C4: =CONCATENATE("5A_900_",D4) -> 5A_900_3 | D4: 3 | E4: 15min | F4: =CONCATENATE("Draw_",D4) -> Draw_3 | G4: 0.29038666 | H4: 8 | I4: 7 | J4: =H4+I4 -> 15 | K4: 0.32817607 | L4: 8 | M4: 7 | N4: =L4+M4 -> 15
A5: 5A | B5: 5A_15min | C5: =CONCATENATE("5A_900_",D5) -> 5A_900_4 | D5: 4 | E5: 15min | F5: =CONCATENATE("Draw_",D5) -> Draw_4 | G5: 0.08634124 | H5: 8 | I5: 7 | J5: =H5+I5 -> 15 | K5: 0.54425668 | L5: 8 | M5: 7 | N5: =L5+M5 -> 15
A6: 5A | B6: 5A_15min | C6: =CONCATENATE("5A_900_",D6) -> 5A_900_5 | D6: 5 | E6: 15min | F6: =CONCATENATE("Draw_",D6) -> Draw_5 | G6: 0.15826247 | H6: 8 | I6: 7 | J6: =H6+I6 -> 15 | K6: 0.65458642 | L6: 8 | M6: 7 | N6: =L6+M6 -> 15
A7: 5A | B7: 5A_15min | C7: =CONCATENATE("5A_900_",D7) -> 5A_900_6 | D7: 6 | E7: 15min | F7: =CONCATENATE("Draw_",D7) -> Draw_6 | G7: 0.20244409 | H7: 8 | I7: 7 | J7: =H7+I7 -> 15 | K7: 0.18353836 | L7: 8 | M7: 7 | N7: =L7+M7 -> 15
A8: 5A | B8: 5A_15min | C8: =CONCATENATE("5A_900_",D8) -> 5A_900_7 | D8: 7 | E8: 15min | F8: =CONCATENATE("Draw_",D8) -> Draw_7 | G8: 0.06844129 | H8: 7 | I8: 7 | J8: =H8+I8 -> 14 | K8: 0.96357161 | L8: 8 | M8: 7 | N8: =L8+M8 -> 15
A9: 5A | B9: 5A_15min | C9: =CONCATENATE("5A_900_",D9) -> 5A_900_8 | D9: 8 | E9: 15min | F9: =CONCATENATE("Draw_",D9) -> Draw_8 | G9: 0.14188379 | H9: 8 | I9: 7 | J9: =H9+I9 -> 15 | K9: 0.43976522 | L9: 8 | M9: 7 | N9: =L9+M9 -> 15
A10: 5A | B10: 5A_15min | C10: =CONCATENATE("5A_900_",D10) -> 5A_900_9 | D10: 9 | E10: 15min | F10: =CONCATENATE("Draw_",D10) -> Draw_9 | G10: 0.05802594 | H10: 8 | I10: 6 | J10: =H10+I10 -> 14 | K10: 0.65771517 | L10: 9 | M10: 6 | N10: =L10+M10 -> 15
A11: 5A | B11: 5A_15min | C11: =CONCATENATE("5A_900_",D11) -> 5A_900_10 | D11: 10 | E11: 15min | F11: =CONCATENATE("Draw_",D11) -> Draw_10 | G11: 0.06084415 | H11: 7 | I11: 7 | J11: =H11+I11 -> 14 | K11: 0.96313646 | L11: 8 | M11: 7 | N11: =L11+M11 -> 15
A12: 5A | B12: 5A_15min | C12: =CONCATENATE("5A_900_",D12) -> 5A_900_11 | D12: 11 | E12: 15min | F12: =CONCATENATE("Draw_",D12) -> Draw_11 | G12: 0.17381085 | H12: 8 | I12: 7 | J12: =H12+I12 -> 15 | K12: 0.17810109 | L12: 8 | M12: 7 | N12: =L12+M12 -> 15
A13: 5A | B13: 5A_15min | C13: =CONCATENATE("5A_900_",D13) -> 5A_900_12 | D13: 12 | E13: 15min | F13: =CONCATENATE("Draw_",D13) -> Draw_12 | G13: 0.01549871 | H13: 8 | I13: 7 | J13: =H13+I13 -> 15 | K13: 0.66147443 | L13: 8 | M13: 7 | N13: =L13+M13 -> 15
... A31: 5A | B31: 5A_15min | C31: =CONCATENATE("5A_900_",D31) -> 5A_900_30 | D31: 30 | E31: 15min | F31: =CONCATENATE("Draw_",D31) -> Draw_30 | G31: 0.13738854 | H31: 8 | I31: 7 | J31: =H31+I31 -> 15 | K31: 0.6302335 | L31: 8 | M31: 7 | N31: =L31+M31 -> 15

Sheet R_scripts
A1: Need to recompute for hub 8A with correct coordinates for 8APIN 9-25-15
A2: Hub
A3: 10A | B3: =CONCATENATE("H_",A3," = subset(gps,Hub==""",A3,""")") -> H_10A = subset(gps,Hub=="10A")
A4: 11A | B4: =CONCATENATE("H_",A4," = subset(gps,Hub==""",A4,""")") -> H_11A = subset(gps,Hub=="11A")
A5: 12A | B5: =CONCATENATE("H_",A5," = subset(gps,Hub==""",A5,""")") -> H_12A = subset(gps,Hub=="12A")
A6: 13A | B6: =CONCATENATE("H_",A6," = subset(gps,Hub==""",A6,""")") -> H_13A = subset(gps,Hub=="13A")
A7: 14A | B7: =CONCATENATE("H_",A7," = subset(gps,Hub==""",A7,""")") -> H_14A = subset(gps,Hub=="14A")
A8: 15A | B8: =CONCATENATE("H_",A8," = subset(gps,Hub==""",A8,""")") -> H_15A = subset(gps,Hub=="15A")
A9: 16A | B9: =CONCATENATE("H_",A9," = subset(gps,Hub==""",A9,""")") -> H_16A = subset(gps,Hub=="16A")
A10: 17A | B10: =CONCATENATE("H_",A10," = subset(gps,Hub==""",A10,""")") -> H_17A = subset(gps,Hub=="17A")
A11: 21A | B11: =CONCATENATE("H_",A11," = subset(gps,Hub==""",A11,""")") -> H_21A = subset(gps,Hub=="21A")
A12: 22A | B12: =CONCATENATE("H_",A12," = subset(gps,Hub==""",A12,""")") -> H_22A = subset(gps,Hub=="22A")
A13: 24A | B13: =CONCATENATE("H_",A13," = subset(gps,Hub==""",A13,""")") -> H_24A = subset(gps,Hub=="24A")
A14: 26A | B14: =CONCATENATE("H_",A14," = subset(gps,Hub==""",A14,""")") -> H_26A = subset(gps,Hub=="26A")
... A37: T6P8 | B37: =CONCATENATE("H_",A37," = subset(gps,Hub==""",A37,""")") -> H_T6P8 = subset(gps,Hub=="T6P8")
A39: Repeat this script for each hub:
A41: model = H_T6 # repeat for each hub
A43: AnovaModel.4 <- aov(Horz_Err ~ Occup_time, data=model)
A44: summary(AnovaModel.4)
A45: with(model, numSummary(Horz_Err, groups=Occup_time, statistics=c("mean", "sd")))
A46: local({
A47: .Pairs <- glht(AnovaModel.4, linfct = mcp(Occup_time = "Tukey"))
A48: print(summary(.Pairs)) # pairwise tests
A49: print(confint(.Pairs)) # confidence intervals
A50: print(cld(.Pairs)) # compact letter display
A51: old.oma <- par(oma=c(0,5,0,0))
A52: plot(confint(.Pairs))
... A54: })
B56: H_10A = subset(gps,Hub=="10A") | M56: numSummary(draw | P56: [,"Horz_Err"], statistics=c("mean", "sd", "IQR", "quantiles"), quantiles=c(0,.25,.5, .75,1))
B57: " & Occup_time=="15min" | F57: & Hub!="T5P4_A" & Hub!="T6P10" | M57: numSummary(draw1[,"Horz_Err"], statistics=c("mean", "sd", "IQR", "quantiles"), quantiles=c(0,.25,.5, .75,1))
A58: Draw_No
A59: Draw_1 | B59: 1 | C59: =CONCATENATE("draw",B59," = subset(gps,Draw_No==""",A59,"",B$57,F$57,")") -> draw1 = subset(gps,Draw_No=="Draw_1" & Occup_time=="15min"& Hub!="T5P4_A" & Hub!="T6P10") | M59: =CONCATENATE(M$56,B59,P$56,) -> numSummary(draw1[,"Horz_Err"], statistics=c("mean", "sd", "IQR", "quantiles"), quantiles=c(0,.25,.5, .75,1))
A60: Draw_2 | B60: 2 | C60: =CONCATENATE("draw",B60," = subset(gps,Draw_No==""",A60,"",B$57,F$57,")") -> draw2 = subset(gps,Draw_No=="Draw_2" & Occup_time=="15min"& Hub!="T5P4_A" & Hub!="T6P10") | M60: =CONCATENATE(M$56,B60,P$56,) -> numSummary(draw2[,"Horz_Err"], statistics=c("mean", "sd", "IQR", "quantiles"), quantiles=c(0,.25,.5, .75,1))
A61: Draw_3 | B61: 3 | C61: =CONCATENATE("draw",B61," = subset(gps,Draw_No==""",A61,"",B$57,F$57,")") -> draw3 = subset(gps,Draw_No=="Draw_3" & Occup_time=="15min"& Hub!="T5P4_A" & Hub!="T6P10") | M61: =CONCATENATE(M$56,B61,P$56,) -> numSummary(draw3[,"Horz_Err"], statistics=c("mean", "sd", "IQR", "quantiles"), quantiles=c(0,.25,.5, .75,1))
A62: Draw_4 | B62: 4 | C62: =CONCATENATE("draw",B62," = subset(gps,Draw_No==""",A62,"",B$57,F$57,")") -> draw4 = subset(gps,Draw_No=="Draw_4" & Occup_time=="15min"& Hub!="T5P4_A" & Hub!="T6P10") | M62: =CONCATENATE(M$56,B62,P$56,) -> numSummary(draw4[,"Horz_Err"], statistics=c("mean", "sd", "IQR", "quantiles"), quantiles=c(0,.25,.5, .75,1))
A63: Draw_5 | B63: 5 | C63: =CONCATENATE("draw",B63," = subset(gps,Draw_No==""",A63,"",B$57,F$57,")") -> draw5 = subset(gps,Draw_No=="Draw_5" & Occup_time=="15min"& Hub!="T5P4_A" & Hub!="T6P10") | M63: =CONCATENATE(M$56,B63,P$56,) -> numSummary(draw5[,"Horz_Err"], statistics=c("mean", "sd", "IQR", "quantiles"), quantiles=c(0,.25,.5, .75,1))
A64: Draw_6 | B64: 6 | C64: =CONCATENATE("draw",B64," = subset(gps,Draw_No==""",A64,"",B$57,F$57,")") -> draw6 = subset(gps,Draw_No=="Draw_6" & Occup_time=="15min"& Hub!="T5P4_A" & Hub!="T6P10") | M64: =CONCATENATE(M$56,B64,P$56,) -> numSummary(draw6[,"Horz_Err"], statistics=c("mean", "sd", "IQR", "quantiles"), quantiles=c(0,.25,.5, .75,1))
A65: Draw_7 | B65: 7 | C65: =CONCATENATE("draw",B65," = subset(gps,Draw_No==""",A65,"",B$57,F$57,")") -> draw7 = subset(gps,Draw_No=="Draw_7" & Occup_time=="15min"& Hub!="T5P4_A" & Hub!="T6P10") | M65: =CONCATENATE(M$56,B65,P$56,) -> numSummary(draw7[,"Horz_Err"], statistics=c("mean", "sd", "IQR", "quantiles"), quantiles=c(0,.25,.5, .75,1))
A66: Draw_8 | B66: 8 | C66: =CONCATENATE("draw",B66," = subset(gps,Draw_No==""",A66,"",B$57,F$57,")") -> draw8 = subset(gps,Draw_No=="Draw_8" & Occup_time=="15min"& Hub!="T5P4_A" & Hub!="T6P10") | M66: =CONCATENATE(M$56,B66,P$56,) -> numSummary(draw8[,"Horz_Err"], statistics=c("mean", "sd", "IQR", "quantiles"), quantiles=c(0,.25,.5, .75,1))
A67: Draw_9 | B67: 9 | C67: =CONCATENATE("draw",B67," = subset(gps,Draw_No==""",A67,"",B$57,F$57,")") -> draw9 = subset(gps,Draw_No=="Draw_9" & Occup_time=="15min"& Hub!="T5P4_A" & Hub!="T6P10") | M67: =CONCATENATE(M$56,B67,P$56,) -> numSummary(draw9[,"Horz_Err"], statistics=c("mean", "sd", "IQR", "quantiles"), quantiles=c(0,.25,.5, .75,1))
...

Sheet R_results
A1: Comparison of all hubs: Mean Horz err vs Occup Time
A2: Has been recomputed for hub 8A with correct coordinates for 8APIN 9-29-15
A3: > numSummary(gps[,"Horz_Err"], groups=gps$Occup_time, statistics=c("mean", "sd", "IQR", "quantiles"), quantiles=c(0,.25,.5,.75,1))
A4: mean sd IQR 0% 25% 50% 75% 100% data:n
B5: mean | C5: sd | D5: IQR | E5: 0 | F5: 0.25 | G5: 0.5 | H5: 0.75 | I5: 1 | J5: data:n
A6: 10min | B6: 2.027381 | C6: 1.243282 | D6: 1.730645 | E6: 0.03725869 | F6: 1.1000018 | G6: 1.822985 | H6: 2.830647 | I6: 7.477724 | J6: 990
A7: 15min | B7: 1.841868 | C7: 1.177135 | D7: 1.579576 | E7: 0.01549871 | F7: 0.9487468 | G7: 1.637012 | H7: 2.528323 | I7: 7.01105 | J7: 990
A8: 20min | B8: 1.75418 | C8: 1.144255 | D8: 1.494655 | E8: 0.01707659 | F8: 0.8914329 | G8: 1.552629 | H8: 2.386088 | I8: 8.368707 | J8: 990
A9: 30min | B9: 1.636081 | C9: 1.046401 | D9: 1.406324 | E9: 0.03249015 | F9: 0.8364797 | G9: 1.498687 | H9: 2.242803 | I9: 5.351582 | J9: 990
A10: 5min | B10: 2.24911 | C10: 1.438314 | D10: 1.892238 | E10: 0.0295061 | F10: 1.1433516 | G10: 1.965488 | H10: 3.03559 | I10: 9.591515 | J10: 990
A13: Paired test of occupation times
A15: > Occup_vs_err <- aov(Horz_Err ~ Occup_time, data=gps)
A17: > summary(Occup_vs_err)
A18: Df Sum Sq Mean Sq F value Pr(>F)
A19: Occup_time 4 237 59.36 40.35 <2e-16 ***
A20: Residuals 4945 7274 1.47
A21: ---
A22: Signif. codes: 0 '***' 0.001 '**' 0.01 '*' 0.05 '.' 0.1 ' ' 1
A24: > with(gps, numSummary(Horz_Err, groups=Occup_time, statistics=c("mean", "sd")))
A25: mean sd data:n
A26: 10min 2.042045 1.242420 990
A27: 15min 1.846862 1.169762 990
... A37: plot(confint(.Pairs)) })
B40: Simultaneous Tests for General Linear Hypotheses
A42: Multiple Comparisons of Means: Tukey Contrasts
A45: Fit: aov(formula = Horz_Err ~ Occup_time, data = gps)
A47: Linear Hypotheses:
A48: Estimate Std. Error t value Pr(>|t|)
A49: 15min - 10min == 0 -0.19518 0.05451 -3.580 0.003121 **
A50: 20min - 10min == 0 -0.28187 0.05451 -5.171 < 1e-04 ***
A51: 30min - 10min == 0 -0.40972 0.05451 -7.516 < 1e-04 ***
A52: 5min - 10min == 0 0.21279 0.05451 3.903 0.000909 ***
A53: 20min - 15min == 0 -0.08669 0.05451 -1.590 0.503712
A54: 30min - 15min == 0 -0.21454 0.05451 -3.935 0.000781 ***
A55: 5min - 15min == 0 0.40798 0.05451 7.484 < 1e-04 ***
A56: 30min - 20min == 0 -0.12785 0.05451 -2.345 0.130886
... A61: (Adjusted p values reported -- single-step method)
B64: Simultaneous Confidence Intervals
A66: Multiple Comparisons of Means: Tukey Contrasts
A69: Fit: aov(formula = Horz_Err ~ Occup_time, data = gps)
...

Sheet 5min_all_by_hub
A1: 5 min sub-samples from 37 one-hr occupation rover files
A2: PFO Auto/Smart
A3: CPXF GNSS basestation data used
A5: Corr Type | B5: Datafile | C5: Unfilt Pos | D5: GNSS Height | E5: Vert Prec | F5: Horz Prec | G5: Std Dev | H5: Northing | I5: Easting | J5: X_2013_TR1 | K5: Y_2013_TR1 | L5: Abs_X_diff | M5: Abs_Y_diff | N5: Horz Err (m) | O5: Horz Err^2 | P5: Hub
A6: Postprocessed Code | B6: 10A_300_1.cor | C6: 301 | D6: 319.88 | E6: 0.3 | F6: 0.2 | G6: 1.614417 | H6: 5189791.8 | I6: 487962.22 | J6: =VLOOKUP($B6,'Hub coords'!$A$14:$E$119,4,TRUE) -> 487964.07 | K6: =VLOOKUP($B6,'Hub coords'!$A$14:$E$119,5,TRUE) -> 5189790.6 | L6: =ABS(J6-I6) -> 1.8484 | M6: =ABS(K6-H6) -> 1.1945 | N6: =SQRT(L6^2+M6^2) -> 2.2007755 | O6: =N6*N6 -> 4.8434128 | P6: =VLOOKUP(B6,'Hub coords'!$A$14:$E$118,1,TRUE) -> 10A
A7: Postprocessed Carrier Float | B7: 10A_300_10.cor | C7: 301 | D7: 332.856 | E7: 0.4 | F7: 0.3 | G7: 1.642587 | H7: 5189789.4 | I7: 487962.3 | J7: =VLOOKUP($B7,'Hub coords'!$A$14:$E$119,4,TRUE) -> 487964.07 | K7: =VLOOKUP($B7,'Hub coords'!$A$14:$E$119,5,TRUE) -> 5189790.6 | L7: =ABS(J7-I7) -> 1.7724 | M7: =ABS(K7-H7) -> 1.1535 | N7: =SQRT(L7^2+M7^2) -> 2.1147019 | O7: =N7*N7 -> 4.471964 | P7: =VLOOKUP(B7,'Hub coords'!$A$14:$E$118,1,TRUE) -> 10A | R7: Bin | S7: Frequency
A8: Postprocessed Code | B8: 10A_300_11.cor | C8: 301 | D8: 331.938 | E8: 0.3 | F8: 0.3 | G8: 1.844443 | H8: 5189794.2 | I8: 487966.55 | J8: =VLOOKUP($B8,'Hub coords'!$A$14:$E$119,4,TRUE) -> 487964.07 | K8: =VLOOKUP($B8,'Hub coords'!$A$14:$E$119,5,TRUE) -> 5189790.6 | L8: =ABS(J8-I8) -> 2.4836 | M8: =ABS(K8-H8) -> 3.6035 | N8: =SQRT(L8^2+M8^2) -> 4.376469 | O8: =N8*N8 -> 19.153481 | P8: =VLOOKUP(B8,'Hub coords'!$A$14:$E$118,1,TRUE) -> 10A | R8: 1 | S8: 4
A9: Postprocessed Code | B9: 10A_300_12.cor | C9: 301 | D9: 330.391 | E9: 0.3 | F9: 0.2 | G9: 1.725333 | H9: 5189790.5 | I9: 487964.7 | J9: =VLOOKUP($B9,'Hub coords'!$A$14:$E$119,4,TRUE) -> 487964.07 | K9: =VLOOKUP($B9,'Hub coords'!$A$14:$E$119,5,TRUE) -> 5189790.6 | L9: =ABS(J9-I9) -> 0.6316 | M9: =ABS(K9-H9) -> 0.1045 | N9: =SQRT(L9^2+M9^2) -> 0.64018654 | O9: =N9*N9 -> 0.40983881 | P9: =VLOOKUP(B9,'Hub coords'!$A$14:$E$118,1,TRUE) -> 10A | R9: 2 | S9: 9
A10: Postprocessed Carrier Float | B10: 10A_300_13.cor | C10: 301 | D10: 332.419 | E10: 0.6 | F10: 0.6 | G10: 1.661018 | H10: 5189790.4 | I10: 487962.84 | J10: =VLOOKUP($B10,'Hub coords'!$A$14:$E$119,4,TRUE) -> 487964.07 | K10: =VLOOKUP($B10,'Hub coords'!$A$14:$E$119,5,TRUE) -> 5189790.6 | L10: =ABS(J10-I10) -> 1.2344 | M10: =ABS(K10-H10) -> 0.1665 | N10: =SQRT(L10^2+M10^2) -> 1.2455784 | O10: =N10*N10 -> 1.5514656 | P10: =VLOOKUP(B10,'Hub coords'!$A$14:$E$118,1,TRUE) -> 10A | R10: 3 | S10: 9
A11: Postprocessed Code | B11: 10A_300_14.cor | C11: 301 | D11: 320.986 | E11: 0.3 | F11: 0.3 | G11: 1.844451 | H11: 5189791.2 | I11: 487965.34 | J11: =VLOOKUP($B11,'Hub coords'!$A$14:$E$119,4,TRUE) -> 487964.07 | K11: =VLOOKUP($B11,'Hub coords'!$A$14:$E$119,5,TRUE) -> 5189790.6 | L11: =ABS(J11-I11) -> 1.2706 | M11: =ABS(K11-H11) -> 0.5925 | N11: =SQRT(L11^2+M11^2) -> 1.401956 | O11: =N11*N11 -> 1.9654806 | P11: =VLOOKUP(B11,'Hub coords'!$A$14:$E$118,1,TRUE) -> 10A | R11: 4 | S11: 5
A12: Postprocessed Carrier Float | B12: 10A_300_15.cor | C12: 301 | D12: 320.682 | E12: 0.3 | F12: 0.2 | G12: 2.596281 | H12: 5189791.3 | I12: 487964.53 | J12: =VLOOKUP($B12,'Hub coords'!$A$14:$E$119,4,TRUE) -> 487964.07 | K12: =VLOOKUP($B12,'Hub coords'!$A$14:$E$119,5,TRUE) -> 5189790.6 | L12: =ABS(J12-I12) -> 0.4576 | M12: =ABS(K12-H12) -> 0.6945 | N12: =SQRT(L12^2+M12^2) -> 0.83170188 | O12: =N12*N12 -> 0.69172801 | P12: =VLOOKUP(B12,'Hub coords'!$A$14:$E$118,1,TRUE) -> 10A | R12: 5 | S12: 2
A13: Postprocessed Carrier Float | B13: 10A_300_16.cor | C13: 301 | D13: 329.246 | E13: 0.4 | F13: 0.3 | G13: 1.555643 | H13: 5189793.7 | I13: 487965.31 | J13: =VLOOKUP($B13,'Hub coords'!$A$14:$E$119,4,TRUE) -> 487964.07 | K13: =VLOOKUP($B13,'Hub coords'!$A$14:$E$119,5,TRUE) -> 5189790.6 | L13: =ABS(J13-I13) -> 1.2366 | M13: =ABS(K13-H13) -> 3.1155 | N13: =SQRT(L13^2+M13^2) -> 3.3519427 | O13: =N13*N13 -> 11.23552 | P13: =VLOOKUP(B13,'Hub coords'!$A$14:$E$118,1,TRUE) -> 10A | R13: 6 | S13: 0
A14: Postprocessed Code | B14: 10A_300_17.cor | C14: 301 | D14: 329.537 | E14: 0.4 | F14: 0.4 | G14: 1.334382 | H14: 5189788.8 | I14: 487963.77 | J14: =VLOOKUP($B14,'Hub coords'!$A$14:$E$119,4,TRUE) -> 487964.07 | K14: =VLOOKUP($B14,'Hub coords'!$A$14:$E$119,5,TRUE) -> 5189790.6 | L14: =ABS(J14-I14) -> 0.3034 | M14: =ABS(K14-H14) -> 1.7695 | N14: =SQRT(L14^2+M14^2) -> 1.7953222 | O14: =N14*N14 -> 3.2231818 | P14: =VLOOKUP(B14,'Hub coords'!$A$14:$E$118,1,TRUE) -> 10A | R14: 7 | S14: 0
A15: Postprocessed Code | B15: 10A_300_18.cor | C15: 301 | D15: 323.56 | E15: 0.2 | F15: 0.1 | G15: 0.94767 | H15: 5189788.8 | I15: 487964.19 | J15: =VLOOKUP($B15,'Hub coords'!$A$14:$E$119,4,TRUE) -> 487964.07 | K15: =VLOOKUP($B15,'Hub coords'!$A$14:$E$119,5,TRUE) -> 5189790.6 | L15: =ABS(J15-I15) -> 0.1176 | M15: =ABS(K15-H15) -> 1.7355 | N15: =SQRT(L15^2+M15^2) -> 1.7394798 | O15: =N15*N15 -> 3.02579 | P15: =VLOOKUP(B15,'Hub coords'!$A$14:$E$118,1,TRUE) -> 10A | R15: 8 | S15: 1
A16: Postprocessed Code | B16: 10A_300_19.cor | C16: 301 | D16: 331.915 | E16: 0.3 | F16: 0.3 | G16: 1.752945 | H16: 5189789.3 | I16: 487964.13 | J16: =VLOOKUP($B16,'Hub coords'!$A$14:$E$119,4,TRUE) -> 487964.07 | K16: =VLOOKUP($B16,'Hub coords'!$A$14:$E$119,5,TRUE) -> 5189790.6 | L16: =ABS(J16-I16) -> 0.0626 | M16: =ABS(K16-H16) -> 1.3025 | N16: =SQRT(L16^2+M16^2) -> 1.3040035 | O16: =N16*N16 -> 1.700425 | P16: =VLOOKUP(B16,'Hub coords'!$A$14:$E$118,1,TRUE) -> 10A | R16: More | S16: 0
A17: Postprocessed Carrier Float | B17: 10A_300_2.cor | C17: 301 | D17: 325.02 | E17: 0.7 | F17: 0.5 | G17: 1.576651 | H17: 5189794.3 | I17: 487962.35 | J17: =VLOOKUP($B17,'Hub coords'!$A$14:$E$119,4,TRUE) -> 487964.07 | K17: =VLOOKUP($B17,'Hub coords'!$A$14:$E$119,5,TRUE) -> 5189790.6 | L17: =ABS(J17-I17) -> 1.7174 | M17: =ABS(K17-H17) -> 3.7635 | N17: =SQRT(L17^2+M17^2) -> 4.1368339 | O17: =N17*N17 -> 17.113395 | P17: =VLOOKUP(B17,'Hub coords'!$A$14:$E$118,1,TRUE) -> 10A | S17: =SUM(S8:S16) -> 30
A18: Postprocessed Carrier Float | B18: 10A_300_20.cor | C18: 301 | D18: 326.456 | E18: 0.3 | F18: 0.6 | G18: 1.557723 | H18: 5189790.4 | I18: 487961.26 | J18: =VLOOKUP($B18,'Hub coords'!$A$14:$E$119,4,TRUE) -> 487964.07 | K18: =VLOOKUP($B18,'Hub coords'!$A$14:$E$119,5,TRUE) -> 5189790.6 | L18: =ABS(J18-I18) -> 2.8074 | M18: =ABS(K18-H18) -> 0.2155 | N18: =SQRT(L18^2+M18^2) -> 2.8156589 | O18: =N18*N18 -> 7.927935 | P18: =VLOOKUP(B18,'Hub coords'!$A$14:$E$118,1,TRUE) -> 10A
A19: Postprocessed Code | B19: 10A_300_21.cor | C19: 301 | D19: 327.308 | E19: 0.2 | F19: 0.1 | G19: 1.541265 | H19: 5189788.1 | I19: 487963.95 | J19: =VLOOKUP($B19,'Hub coords'!$A$14:$E$119,4,TRUE) -> 487964.07 | K19: =VLOOKUP($B19,'Hub coords'!$A$14:$E$119,5,TRUE) -> 5189790.6 | L19: =ABS(J19-I19) -> 0.1194 | M19: =ABS(K19-H19) -> 2.4565 | N19: =SQRT(L19^2+M19^2) -> 2.4594001 | O19: =N19*N19 -> 6.0486486 | P19: =VLOOKUP(B19,'Hub coords'!$A$14:$E$118,1,TRUE) -> 10A
A20: Postprocessed Code | B20: 10A_300_22.cor | C20: 301 | D20: 326.277 | E20: 0.4 | F20: 0.5 | G20: 1.732355 | H20: 5189793 | I20: 487965.68 | J20: =VLOOKUP($B20,'Hub coords'!$A$14:$E$119,4,TRUE) -> 487964.07 | K20: =VLOOKUP($B20,'Hub coords'!$A$14:$E$119,5,TRUE) -> 5189790.6 | L20: =ABS(J20-I20) -> 1.6146 | M20: =ABS(K20-H20) -> 2.4005 | N20: =SQRT(L20^2+M20^2) -> 2.89298 | O20: =N20*N20 -> 8.3693334 | P20: =VLOOKUP(B20,'Hub coords'!$A$14:$E$118,1,TRUE) -> 10A
A21: Postprocessed Code | B21: 10A_300_23.cor | C21: 301 | D21: 324.811 | E21: 0.3 | F21: 0.3 | G21: 1.642565 | H21: 5189792.4 | I21: 487967.3 | J21: =VLOOKUP($B21,'Hub coords'!$A$14:$E$119,4,TRUE) -> 487964.07 | K21: =VLOOKUP($B21,'Hub coords'!$A$14:$E$119,5,TRUE) -> 5189790.6 | L21: =ABS(J21-I21) -> 3.2276 | M21: =ABS(K21-H21) -> 1.7855 | N21: =SQRT(L21^2+M21^2) -> 3.6885515 | O21: =N21*N21 -> 13.605412 | P21: =VLOOKUP(B21,'Hub coords'!$A$14:$E$118,1,TRUE) -> 10A
A22: Postprocessed Code | B22: 10A_300_24.cor | C22: 301 | D22: 322.539 | E22: 1.3 | F22: 1.5 | G22: 1.78472 | H22: 5189792.1 | I22: 487965.15 | J22: =VLOOKUP($B22,'Hub coords'!$A$14:$E$119,4,TRUE) -> 487964.07 | K22: =VLOOKUP($B22,'Hub coords'!$A$14:$E$119,5,TRUE) -> 5189790.6 | L22: =ABS(J22-I22) -> 1.0756 | M22: =ABS(K22-H22) -> 1.4805 | N22: =SQRT(L22^2+M22^2) -> 1.8299715 | O22: =N22*N22 -> 3.3487956 | P22: =VLOOKUP(B22,'Hub coords'!$A$14:$E$118,1,TRUE) -> 10A
A23: Postprocessed Code | B23: 10A_300_25.cor | C23: 301 | D23: 330.496 | E23: 0.7 | F23: 0.9 | G23: 3.23525 | H23: 5189797.4 | I23: 487966.29 | J23: =VLOOKUP($B23,'Hub coords'!$A$14:$E$119,4,TRUE) -> 487964.07 | K23: =VLOOKUP($B23,'Hub coords'!$A$14:$E$119,5,TRUE) -> 5189790.6 | L23: =ABS(J23-I23) -> 2.2206 | M23: =ABS(K23-H23) -> 6.8425 | N23: =SQRT(L23^2+M23^2) -> 7.1938078 | O23: =N23*N23 -> 51.750871 | P23: =VLOOKUP(B23,'Hub coords'!$A$14:$E$118,1,TRUE) -> 10A
A24: Postprocessed Code | B24: 10A_300_26.cor | C24: 301 | D24: 321.577 | E24: 0.3 | F24: 0.2 | G24: 1.704726 | H24: 5189790.7 | I24: 487962.94 | J24: =VLOOKUP($B24,'Hub coords'!$A$14:$E$119,4,TRUE) -> 487964.07 | K24: =VLOOKUP($B24,'Hub coords'!$A$14:$E$119,5,TRUE) -> 5189790.6 | L24: =ABS(J24-I24) -> 1.1334 | M24: =ABS(K24-H24) -> 0.1615 | N24: =SQRT(L24^2+M24^2) -> 1.1448484 | O24: =N24*N24 -> 1.3106778 | P24: =VLOOKUP(B24,'Hub coords'!$A$14:$E$118,1,TRUE) -> 10A
A25: Postprocessed Code | B25: 10A_300_27.cor | C25: 301 | D25: 325.674 | E25: 0.4 | F25: 0.4 | G25: 1.573674 | H25: 5189792.9 | I25: 487965.22 | J25: =VLOOKUP($B25,'Hub coords'!$A$14:$E$119,4,TRUE) -> 487964.07 | K25: =VLOOKUP($B25,'Hub coords'!$A$14:$E$119,5,TRUE) -> 5189790.6 | L25: =ABS(J25-I25) -> 1.1466 | M25: =ABS(K25-H25) -> 2.3055 | N25: =SQRT(L25^2+M25^2) -> 2.5748829 | O25: =N25*N25 -> 6.6300218 | P25: =VLOOKUP(B25,'Hub coords'!$A$14:$E$118,1,TRUE) -> 10A
A26: Postprocessed Code | B26: 10A_300_28.cor | C26: 301 | D26: 324.492 | E26: 0.2 | F26: 0.2 | G26: 1.857781 | H26: 5189793.6 | I26: 487966.16 | J26: =VLOOKUP($B26,'Hub coords'!$A$14:$E$119,4,TRUE) -> 487964.07 | K26: =VLOOKUP($B26,'Hub coords'!$A$14:$E$119,5,TRUE) -> 5189790.6 | L26: =ABS(J26-I26) -> 2.0926 | M26: =ABS(K26-H26) -> 3.0155 | N26: =SQRT(L26^2+M26^2) -> 3.6704516 | O26: =N26*N26 -> 13.472215 | P26: =VLOOKUP(B26,'Hub coords'!$A$14:$E$118,1,TRUE) -> 10A
A27: Postprocessed Carrier Float | B27: 10A_300_29.cor | C27: 301 | D27: 331.467 | E27: 0.2 | F27: 0.2 | G27: 1.747234 | H27: 5189790.9 | I27: 487964.66 | J27: =VLOOKUP($B27,'Hub coords'!$A$14:$E$119,4,TRUE) -> 487964.07 | K27: =VLOOKUP($B27,'Hub coords'!$A$14:$E$119,5,TRUE) -> 5189790.6 | L27: =ABS(J27-I27) -> 0.5886 | M27: =ABS(K27-H27) -> 0.2835 | N27: =SQRT(L27^2+M27^2) -> 0.65331632 | O27: =N27*N27 -> 0.42682221 | P27: =VLOOKUP(B27,'Hub coords'!$A$14:$E$118,1,TRUE) -> 10A
A28: Postprocessed Code | B28: 10A_300_3.cor | C28: 301 | D28: 322.731 | E28: 0.3 | F28: 0.3 | G28: 1.962714 | H28: 5189792.5 | I28: 487963.97 | J28: =VLOOKUP($B28,'Hub coords'!$A$14:$E$119,4,TRUE) -> 487964.07 | K28: =VLOOKUP($B28,'Hub coords'!$A$14:$E$119,5,TRUE) -> 5189790.6 | L28: =ABS(J28-I28) -> 0.0964 | M28: =ABS(K28-H28) -> 1.9495 | N28: =SQRT(L28^2+M28^2) -> 1.951882 | O28: =N28*N28 -> 3.8098432 | P28: =VLOOKUP(B28,'Hub coords'!$A$14:$E$118,1,TRUE) -> 10A
A29: Postprocessed Code | B29: 10A_300_30.cor | C29: 301 | D29: 326.329 | E29: 0.4 | F29: 0.5 | G29: 1.80751 | H29: 5189790.2 | I29: 487961.68 | J29: =VLOOKUP($B29,'Hub coords'!$A$14:$E$119,4,TRUE) -> 487964.07 | K29: =VLOOKUP($B29,'Hub coords'!$A$14:$E$119,5,TRUE) -> 5189790.6 | L29: =ABS(J29-I29) -> 2.3914 | M29: =ABS(K29-H29) -> 0.3435 | N29: =SQRT(L29^2+M29^2) -> 2.4159442 | O29: =N29*N29 -> 5.8367862 | P29: =VLOOKUP(B29,'Hub coords'!$A$14:$E$118,1,TRUE) -> 10A
A30: Postprocessed Code | B30: 10A_300_4.cor | C30: 301 | D30: 331.667 | E30: 0.4 | F30: 0.4 | G30: 2.355091 | H30: 5189790.5 | I30: 487966.16 | J30: =VLOOKUP($B30,'Hub coords'!$A$14:$E$119,4,TRUE) -> 487964.07 | K30: =VLOOKUP($B30,'Hub coords'!$A$14:$E$119,5,TRUE) -> 5189790.6 | L30: =ABS(J30-I30) -> 2.0876 | M30: =ABS(K30-H30) -> 0.1205 | N30: =SQRT(L30^2+M30^2) -> 2.0910748 | O30: =N30*N30 -> 4.372594 | P30: =VLOOKUP(B30,'Hub coords'!$A$14:$E$118,1,TRUE) -> 10A | R30: Count | S30: =COUNT(C6:C35) -> 30
A31: Postprocessed Code | B31: 10A_300_5.cor | C31: 301 | D31: 327.147 | E31: 0.3 | F31: 0.2 | G31: 2.313123 | H31: 5189791.7 | I31: 487964.8 | J31: =VLOOKUP($B31,'Hub coords'!$A$14:$E$119,4,TRUE) -> 487964.07 | K31: =VLOOKUP($B31,'Hub coords'!$A$14:$E$119,5,TRUE) -> 5189790.6 | L31: =ABS(J31-I31) -> 0.7336 | M31: =ABS(K31-H31) -> 1.1345 | N31: =SQRT(L31^2+M31^2) -> 1.3510215 | O31: =N31*N31 -> 1.8252592 | P31: =VLOOKUP(B31,'Hub coords'!$A$14:$E$118,1,TRUE) -> 10A | R31: Ave | S31: =AVERAGE(N6:N35) -> 2.4166226
A32: Postprocessed Carrier Float | B32: 10A_300_6.cor | C32: 301 | D32: 319.92 | E32: 0.4 | F32: 0.2 | G32: 1.501855 | H32: 5189793.2 | I32: 487964.19 | J32: =VLOOKUP($B32,'Hub coords'!$A$14:$E$119,4,TRUE) -> 487964.07 | K32: =VLOOKUP($B32,'Hub coords'!$A$14:$E$119,5,TRUE) -> 5189790.6 | L32: =ABS(J32-I32) -> 0.1166 | M32: =ABS(K32-H32) -> 2.6005 | N32: =SQRT(L32^2+M32^2) -> 2.6031127 | O32: =N32*N32 -> 6.7761958 | P32: =VLOOKUP(B32,'Hub coords'!$A$14:$E$118,1,TRUE) -> 10A | R32: Stdev | S32: =_xlfn.STDEV.S(N6:N35) -> 1.4041635
A33: Postprocessed Code | B33: 10A_300_7.cor | C33: 301 | D33: 323.661 | E33: 0.7 | F33: 0.5 | G33: 1.622748 | H33: 5189791.2 | I33: 487964.16 | J33: =VLOOKUP($B33,'Hub coords'!$A$14:$E$119,4,TRUE) -> 487964.07 | K33: =VLOOKUP($B33,'Hub coords'!$A$14:$E$119,5,TRUE) -> 5189790.6 | L33: =ABS(J33-I33) -> 0.0926 | M33: =ABS(K33-H33) -> 0.6635 | N33: =SQRT(L33^2+M33^2) -> 0.6699306 | O33: =N33*N33 -> 0.44880701 | P33: =VLOOKUP(B33,'Hub coords'!$A$14:$E$118,1,TRUE) -> 10A | R33: Min | S33: =MIN(N6:N35) -> 0.64018654
A34: Postprocessed Code | B34: 10A_300_8.cor | C34: 301 | D34: 323.121 | E34: 0.3 | F34: 0.4 | G34: 2.063396 | H34: 5189793.4 | I34: 487966.39 | J34: =VLOOKUP($B34,'Hub coords'!$A$14:$E$119,4,TRUE) -> 487964.07 | K34: =VLOOKUP($B34,'Hub coords'!$A$14:$E$119,5,TRUE) -> 5189790.6 | L34: =ABS(J34-I34) -> 2.3206 | M34: =ABS(K34-H34) -> 2.8095 | N34: =SQRT(L34^2+M34^2) -> 3.6439641 | O34: =N34*N34 -> 13.278475 | P34: =VLOOKUP(B34,'Hub coords'!$A$14:$E$118,1,TRUE) -> 10A | R34: Max | S34: =MAX(N6:N35) -> 7.1938078
A35: Postprocessed Code | B35: 10A_300_9.cor | C35: 301 | D35: 325.616 | E35: 0.5 | F35: 0.3 | G35: 1.918088 | H35: 5189793 | I35: 487966.84 | J35: =VLOOKUP($B35,'Hub coords'!$A$14:$E$119,4,TRUE) -> 487964.07 | K35: =VLOOKUP($B35,'Hub coords'!$A$14:$E$119,5,TRUE) -> 5189790.6 | L35: =ABS(J35-I35) -> 2.7726 | M35: =ABS(K35-H35) -> 2.4635 | N35: =SQRT(L35^2+M35^2) -> 3.7089275 | O35: =N35*N35 -> 13.756143 | P35: =VLOOKUP(B35,'Hub coords'!$A$14:$E$118,1,TRUE) -> 10A | R35: RMSE | S35: =SQRT(SUM(O6:O35)/S30) -> 2.7831668
A36: Postprocessed Code | B36: 11A_300_1.cor | C36: 301 | D36: 328.51 | E36: 1 | F36: 0.9 | G36: 1.753477 | H36: 5189691 | I36: 487979.57 | J36: =VLOOKUP($B36,'Hub coords'!$A$14:$E$119,4,TRUE) -> 487977.94 | K36: =VLOOKUP($B36,'Hub coords'!$A$14:$E$119,5,TRUE) -> 5189689.1 | L36: =ABS(J36-I36) -> 1.6326 | M36: =ABS(K36-H36) -> 1.8595 | N36: =SQRT(L36^2+M36^2) -> 2.4744945 | O36: =N36*N36 -> 6.123123 | P36: =VLOOKUP(B36,'Hub coords'!$A$14:$E$118,1,TRUE) -> 11A
A37: Postprocessed Code | B37: 11A_300_10.cor | C37: 301 | D37: 326.85 | E37: 0.4 | F37: 0.4 | G37: 1.845896 | H37: 5189689 | I37: 487981.75 | J37: =VLOOKUP($B37,'Hub coords'!$A$14:$E$119,4,TRUE) -> 487977.94 | K37: =VLOOKUP($B37,'Hub coords'!$A$14:$E$119,5,TRUE) -> 5189689.1 | L37: =ABS(J37-I37) -> 3.8116 | M37: =ABS(K37-H37) -> 0.0795 | N37: =SQRT(L37^2+M37^2) -> 3.812429 | O37: =N37*N37 -> 14.534615 | P37: =VLOOKUP(B37,'Hub coords'!$A$14:$E$118,1,TRUE) -> 11A | R37: Bin | S37: Frequency
A38: Postprocessed Carrier Float | B38: 11A_300_11.cor | C38: 301 | D38: 324.299 | E38: 0.3 | F38: 0.3 | G38: 2.217457 | H38: 5189687.7 | I38: 487981.72 | J38: =VLOOKUP($B38,'Hub coords'!$A$14:$E$119,4,TRUE) -> 487977.94 | K38: =VLOOKUP($B38,'Hub coords'!$A$14:$E$119,5,TRUE) -> 5189689.1 | L38: =ABS(J38-I38) -> 3.7766 | M38: =ABS(K38-H38) -> 1.4175 | N38: =SQRT(L38^2+M38^2) -> 4.0338584 | O38: =N38*N38 -> 16.272014 | P38: =VLOOKUP(B38,'Hub coords'!$A$14:$E$118,1,TRUE) -> 11A | R38: 1 | S38: 0
A39: Postprocessed Code | B39: 11A_300_12.cor | C39: 301 | D39: 326.963 | E39: 1.4 | F39: 1.1 | G39: 2.000385 | H39: 5189686.2 | I39: 487982.5 | J39: =VLOOKUP($B39,'Hub coords'!$A$14:$E$119,4,TRUE) -> 487977.94 | K39: =VLOOKUP($B39,'Hub coords'!$A$14:$E$119,5,TRUE) -> 5189689.1 | L39: =ABS(J39-I39) -> 4.5576 | M39: =ABS(K39-H39) -> 2.9405 | N39: =SQRT(L39^2+M39^2) -> 5.4238601 | O39: =N39*N39 -> 29.418258 | P39: =VLOOKUP(B39,'Hub coords'!$A$14:$E$118,1,TRUE) -> 11A | R39: 2 | S39: 3
A40: Postprocessed Code | B40: 11A_300_13.cor | C40: 301 | D40: 330.833 | E40: 0.9 | F40: 0.6 | G40: 1.82486 | H40: 5189688.3 | I40: 487980.87 | J40: =VLOOKUP($B40,'Hub coords'!$A$14:$E$119,4,TRUE) -> 487977.94 | K40: =VLOOKUP($B40,'Hub coords'!$A$14:$E$119,5,TRUE) -> 5189689.1 | L40: =ABS(J40-I40) -> 2.9286 | M40: =ABS(K40-H40) -> 0.8345 | N40: =SQRT(L40^2+M40^2) -> 3.0451746 | O40: =N40*N40 -> 9.2730882 | P40: =VLOOKUP(B40,'Hub coords'!$A$14:$E$118,1,TRUE) -> 11A | R40: 3 | S40: 4
A41: Postprocessed Code | B41: 11A_300_14.cor | C41: 301 | D41: 325.596 | E41: 0.6 | F41: 0.4 | G41: 1.752549 | H41: 5189687.4 | I41: 487978.82 | J41: =VLOOKUP($B41,'Hub coords'!$A$14:$E$119,4,TRUE) -> 487977.94 | K41: =VLOOKUP($B41,'Hub coords'!$A$14:$E$119,5,TRUE) -> 5189689.1 | L41: =ABS(J41-I41) -> 0.8766 | M41: =ABS(K41-H41) -> 1.7405 | N41: =SQRT(L41^2+M41^2) -> 1.9487862 | O41: =N41*N41 -> 3.7977678 | P41: =VLOOKUP(B41,'Hub coords'!$A$14:$E$118,1,TRUE) -> 11A | R41: 4 | S41: 10
...

Sheet 10min_all_by_hub
A1: 10 min sub-samples from 37 one-hr occupation rover files
A2: PFO Auto/Smart
A3: CPXF GNSS basestation data used
A5: Corr Type | B5: Datafile | C5: Unfilt Pos | D5: GNSS Height | E5: Vert Prec | F5: Horz Prec | G5: Std Dev | H5: Northing | I5: Easting | J5: X_2013_TR1 | K5: Y_2013_TR1 | L5: Abs_X_diff | M5: Abs_Y_diff | N5: Horz Err (m) | O5: Horz Err^2 | P5: Hub
A6: Postprocessed Code | B6: 10A_600_1.cor | C6: 601 | D6: 331.162 | E6: 0.2 | F6: 0.2 | G6: 2.005979 | H6: 5189790.1 | I6: 487964.59 | J6: =VLOOKUP($B6,'Hub coords'!$A$14:$E$119,4,TRUE) -> 487964.07 | K6: =VLOOKUP($B6,'Hub coords'!$A$14:$E$119,5,TRUE) -> 5189790.6 | L6: =ABS(J6-I6) -> 0.5176 | M6: =ABS(K6-H6) -> 0.4415 | N6: =SQRT(L6^2+M6^2) -> 0.68031758 | O6: =N6*N6 -> 0.46283201 | P6: 10A
A7: Postprocessed Code | B7: 10A_600_10.cor | C7: 601 | D7: 324.837 | E7: 0.3 | F7: 0.2 | G7: 1.857952 | H7: 5189792 | I7: 487964.15 | J7: =VLOOKUP($B7,'Hub coords'!$A$14:$E$119,4,TRUE) -> 487964.07 | K7: =VLOOKUP($B7,'Hub coords'!$A$14:$E$119,5,TRUE) -> 5189790.6 | L7: =ABS(J7-I7) -> 0.0766 | M7: =ABS(K7-H7) -> 1.3785 | N7: =SQRT(L7^2+M7^2) -> 1.3806266 | O7: =N7*N7 -> 1.9061298 | P7: 10A | R7: Bin | S7: Frequency
A8: Postprocessed Code | B8: 10A_600_11.cor | C8: 601 | D8: 332.039 | E8: 0.3 | F8: 0.3 | G8: 1.720581 | H8: 5189790.2 | I8: 487964.78 | J8: =VLOOKUP($B8,'Hub coords'!$A$14:$E$119,4,TRUE) -> 487964.07 | K8: =VLOOKUP($B8,'Hub coords'!$A$14:$E$119,5,TRUE) -> 5189790.6 | L8: =ABS(J8-I8) -> 0.7126 | M8: =ABS(K8-H8) -> 0.3395 | N8: =SQRT(L8^2+M8^2) -> 0.78934087 | O8: =N8*N8 -> 0.62305901 | P8: 10A | R8: 1 | S8: 4
A9: Postprocessed Code | B9: 10A_600_12.cor | C9: 601 | D9: 329.952 | E9: 0.4 | F9: 0.3 | G9: 2.053207 | H9: 5189789.7 | I9: 487964.06 | J9: =VLOOKUP($B9,'Hub coords'!$A$14:$E$119,4,TRUE) -> 487964.07 | K9: =VLOOKUP($B9,'Hub coords'!$A$14:$E$119,5,TRUE) -> 5189790.6 | L9: =ABS(J9-I9) -> 0.0114 | M9: =ABS(K9-H9) -> 0.8885 | N9: =SQRT(L9^2+M9^2) -> 0.88857313 | O9: =N9*N9 -> 0.78956221 | P9: 10A | R9: 2 | S9: 9
A10: Postprocessed Code | B10: 10A_600_13.cor | C10: 601 | D10: 324.741 | E10: 0.4 | F10: 0.3 | G10: 1.605139 | H10: 5189793.9 | I10: 487965 | J10: =VLOOKUP($B10,'Hub coords'!$A$14:$E$119,4,TRUE) -> 487964.07 | K10: =VLOOKUP($B10,'Hub coords'!$A$14:$E$119,5,TRUE) -> 5189790.6 | L10: =ABS(J10-I10) -> 0.9276 | M10: =ABS(K10-H10) -> 3.3165 | N10: =SQRT(L10^2+M10^2) -> 3.443779 | O10: =N10*N10 -> 11.859614 | P10: 10A | R10: 3 | S10: 9
A11: Postprocessed Code | B11: 10A_600_14.cor | C11: 601 | D11: 324.646 | E11: 0.5 | F11: 0.4 | G11: 1.711778 | H11: 5189793.7 | I11: 487964.67 | J11: =VLOOKUP($B11,'Hub coords'!$A$14:$E$119,4,TRUE) -> 487964.07 | K11: =VLOOKUP($B11,'Hub coords'!$A$14:$E$119,5,TRUE) -> 5189790.6 | L11: =ABS(J11-I11) -> 0.6056 | M11: =ABS(K11-H11) -> 3.1225 | N11: =SQRT(L11^2+M11^2) -> 3.1806851 | O11: =N11*N11 -> 10.116758 | P11: 10A | R11: 4 | S11: 5
A12: Postprocessed Carrier Float | B12: 10A_600_15.cor | C12: 601 | D12: 321.008 | E12: 0.3 | F12: 0.3 | G12: 2.389013 | H12: 5189791.3 | I12: 487964.55 | J12: =VLOOKUP($B12,'Hub coords'!$A$14:$E$119,4,TRUE) -> 487964.07 | K12: =VLOOKUP($B12,'Hub coords'!$A$14:$E$119,5,TRUE) -> 5189790.6 | L12: =ABS(J12-I12) -> 0.4796 | M12: =ABS(K12-H12) -> 0.7195 | N12: =SQRT(L12^2+M12^2) -> 0.8646944 | O12: =N12*N12 -> 0.74769641 | P12: 10A | R12: 5 | S12: 2
A13: Postprocessed Code | B13: 10A_600_16.cor | C13: 601 | D13: 329.653 | E13: 0.4 | F13: 0.4 | G13: 1.842295 | H13: 5189790.2 | I13: 487964.08 | J13: =VLOOKUP($B13,'Hub coords'!$A$14:$E$119,4,TRUE) -> 487964.07 | K13: =VLOOKUP($B13,'Hub coords'!$A$14:$E$119,5,TRUE) -> 5189790.6 | L13: =ABS(J13-I13) -> 0.0096 | M13: =ABS(K13-H13) -> 0.4215 | N13: =SQRT(L13^2+M13^2) -> 0.42160931 | O13: =N13*N13 -> 0.17775441 | P13: 10A | R13: 6 | S13: 0
A14: Postprocessed Code | B14: 10A_600_17.cor | C14: 601 | D14: 326.229 | E14: 0.3 | F14: 0.3 | G14: 2.671453 | H14: 5189791.6 | I14: 487966.17 | J14: =VLOOKUP($B14,'Hub coords'!$A$14:$E$119,4,TRUE) -> 487964.07 | K14: =VLOOKUP($B14,'Hub coords'!$A$14:$E$119,5,TRUE) -> 5189790.6 | L14: =ABS(J14-I14) -> 2.1016 | M14: =ABS(K14-H14) -> 1.0665 | N14: =SQRT(L14^2+M14^2) -> 2.3567233 | O14: =N14*N14 -> 5.5541448 | P14: 10A | R14: 7 | S14: 0
A15: Postprocessed Code | B15: 10A_600_18.cor | C15: 601 | D15: 338.291 | E15: 0.3 | F15: 0.3 | G15: 2.974182 | H15: 5189789 | I15: 487967.77 | J15: =VLOOKUP($B15,'Hub coords'!$A$14:$E$119,4,TRUE) -> 487964.07 | K15: =VLOOKUP($B15,'Hub coords'!$A$14:$E$119,5,TRUE) -> 5189790.6 | L15: =ABS(J15-I15) -> 3.6976 | M15: =ABS(K15-H15) -> 1.5735 | N15: =SQRT(L15^2+M15^2) -> 4.0184758 | O15: =N15*N15 -> 16.148148 | P15: 10A | R15: 8 | S15: 1
A16: Postprocessed Code | B16: 10A_600_19.cor | C16: 601 | D16: 328.715 | E16: 0.5 | F16: 0.4 | G16: 3.293176 | H16: 5189793.4 | I16: 487967.12 | J16: =VLOOKUP($B16,'Hub coords'!$A$14:$E$119,4,TRUE) -> 487964.07 | K16: =VLOOKUP($B16,'Hub coords'!$A$14:$E$119,5,TRUE) -> 5189790.6 | L16: =ABS(J16-I16) -> 3.0556 | M16: =ABS(K16-H16) -> 2.8765 | N16: =SQRT(L16^2+M16^2) -> 4.1965395 | O16: =N16*N16 -> 17.610944 | P16: 10A | R16: More | S16: 0
A17: Postprocessed Code | B17: 10A_600_2.cor | C17: 601 | D17: 327.085 | E17: 0.3 | F17: 0.3 | G17: 1.809393 | H17: 5189790.8 | I17: 487964.28 | J17: =VLOOKUP($B17,'Hub coords'!$A$14:$E$119,4,TRUE) -> 487964.07 | K17: =VLOOKUP($B17,'Hub coords'!$A$14:$E$119,5,TRUE) -> 5189790.6 | L17: =ABS(J17-I17) -> 0.2076 | M17: =ABS(K17-H17) -> 0.2755 | N17: =SQRT(L17^2+M17^2) -> 0.34496088 | O17: =N17*N17 -> 0.11899801 | P17: 10A | S17: =SUM(S8:S16) -> 30
A18: Postprocessed Code | B18: 10A_600_20.cor | C18: 601 | D18: 323.337 | E18: 0.3 | F18: 0.2 | G18: 1.385815 | H18: 5189792.2 | I18: 487965.93 | J18: =VLOOKUP($B18,'Hub coords'!$A$14:$E$119,4,TRUE) -> 487964.07 | K18: =VLOOKUP($B18,'Hub coords'!$A$14:$E$119,5,TRUE) -> 5189790.6 | L18: =ABS(J18-I18) -> 1.8626 | M18: =ABS(K18-H18) -> 1.6315 | N18: =SQRT(L18^2+M18^2) -> 2.4761 | O18: =N18*N18 -> 6.131071 | P18: 10A
A19: Postprocessed Code | B19: 10A_600_21.cor | C19: 601 | D19: 321.98 | E19: 0.3 | F19: 0.3 | G19: 2.209515 | H19: 5189793.3 | I19: 487964.77 | J19: =VLOOKUP($B19,'Hub coords'!$A$14:$E$119,4,TRUE) -> 487964.07 | K19: =VLOOKUP($B19,'Hub coords'!$A$14:$E$119,5,TRUE) -> 5189790.6 | L19: =ABS(J19-I19) -> 0.6996 | M19: =ABS(K19-H19) -> 2.7275 | N19: =SQRT(L19^2+M19^2) -> 2.8157941 | O19: =N19*N19 -> 7.9286964 | P19: 10A
