Workbook

Sheet Hub coords
A1: Blue Ridge Hubs adjusted from 1999 to 2013 survey for Triumph (TR) and GeoXH receivers
A3: Used CORS station CPXF GNSS basestation data for all corrections
A5: 1999 DNR Surveyor's coordinates NAD 83 UTM, Zone 10, meters (HARN)
A6: 2B_1999 | B6: 487604.59 | C6: 5189381.8 | D6: 46 51 28.30083 N | E6: 123 09 45.40271 W
A8: 2013 NAD(2011) Epoch 2010.0 UTM, Zone 10, meters
A9: 2B_2013_CPXF_TR (GNSS) (AUTO 12 deg cut-off) | B9: 487604.78 | C9: 5189382
A13: ID | B13: X_1999 | C13: Y_1999 | D13: X_2013_TR | E13: Y_2013_TR
A14: 10A | B14: 487963.89 | C14: 5189790.4 | D14: 487964.07 | E14: 5189790.6
A15: 10B | B15: 487737.48 | C15: 5189045.1 | D15: 487737.66 | E15: 5189045.3
A16: 10C | B16: 487514.36 | C16: 5189443.1 | D16: 487514.55 | E16: 5189443.3
A17: 11A | B17: 487977.76 | C17: 5189688.9 | D17: 487977.94 | E17: 5189689.1
A18: 11B | B18: 487737.47 | C18: 5188935.8 | D18: 487737.66 | E18: 5188936
A19: 11C | B19: 487327.87 | C19: 5189518.8 | D19: 487328.05 | E19: 5189519
A20: 12A | B20: 487922.04 | C20: 5189683.9 | D20: 487922.22 | E20: 5189684.1
A21: 12B | B21: 487627.86 | C21: 5188969.8 | D21: 487628.05 | E21: 5188970
A22: 12C | B22: 487253.33 | C22: 5189490.5 | D22: 487253.52 | E22: 5189490.7
A23: 13A | B23: 487870.63 | C23: 5189669.8 | D23: 487870.82 | E23: 5189670
A24: 13B | B24: 487678.22 | C24: 5189053.6 | D24: 487678.4 | E24: 5189053.8
A25: 13C | B25: 487214.44 | C25: 5189465.2 | D25: 487214.62 | E25: 5189465.4
... A70: 8A | B70: 488014.65 | C70: 5189869.3 | D70: 488014.84 | E70: 5189869.5
A71: 8APIN | D71: 488015.7 | E71: 5189870.8 | F71: Note: TR2 and GeoXH files were collected at a pin flag 1.5m, AZ =35 deg of 8A stake; therefore 8A_PIN coordinates are 1.5m NE of 8A stake
A72: 8B | B72: 487770.3 | C72: 5189136.9 | D72: 487770.48 | E72: 5189137.1 | F72: LEAP rover file was collected at 8A stake.
A73: 8C | B73: 487562.92 | C73: 5189817.1 | D73: 487563.11 | E73: 5189817.3
A74: 9A | B74: 487975.14 | C74: 5189856.4 | D74: 487975.33 | E74: 5189856.6
A75: 9B | B75: 487766.77 | C75: 5189099.8 | D75: 487766.96 | E75: 5189100
A76: 9C | B76: 487504.91 | C76: 5189661.4 | D76: 487505.09 | E76: 5189661.6
A77: T1P2 | B77: 488186.82 | C77: 5189614.7 | D77: 488187 | E77: 5189614.9
A78: T1P3 | B78: 488279.68 | C78: 5189613.3 | D78: 488279.87 | E78: 5189613.5
A79: T1P8 | B79: 488278.19 | C79: 5189704.2 | D79: 488278.37 | E79: 5189704.4
A80: T3P10 | B80: 487713.3 | C80: 5189833.2 | D80: 487713.48 | E80: 5189833.4
A81: T3P12 | B81: 487713.62 | C81: 5189642 | D81: 487713.8 | E81: 5189642.3
A82: T3P13 | B82: 487714.73 | C82: 5189535.7 | D82: 487714.91 | E82: 5189535.9
A83: T3P14 | B83: 487714.68 | C83: 5189429 | D83: 487714.87 | E83: 5189429.2
A84: T3P15 | B84: 487611.98 | C84: 5189433.8 | D84: 487612.17 | E84: 5189434
... A119: T6P8 | B119: 487956.08 | C119: 5189505.5 | D119: 487956.26 | E119: 5189505.8

Sheet Time_vs_accuracy
A2: Occup. Time (mins) | B2: Number of hubs | C2: Number of samples per hub | D2: Number of total samples | E2: Mean Horz Error | F2: Stdev of Horz error (m) | G2: Min. Horz error (m) | H2: Max. Horz Error | I2: RMSE horz error (m)
A3: 5 | B3: 33 | C3: 30 | D3: =B3*C3 -> 990 | E3: 2.2491097 | F3: 1.44 | G3: 0.029506101 | H3: 9.5915149 | I3: 2.67
A4: 10 | B4: 33 | C4: 30 | D4: =B4*C4 -> 990 | E4: 2.04 | F4: 1.24 | G4: 0.037258691 | H4: 7.4777239 | I4: 2.39
A5: 15 | B5: 33 | C5: 30 | D5: =B5*C5 -> 990 | E5: 1.85 | F5: 1.17 | G5: 0.01549871 | H5: 7.0110495 | I5: 2.19
A6: 20 | B6: 33 | C6: 30 | D6: =B6*C6 -> 990 | E6: 1.76 | F6: 1.14 | G6: 0.017076593 | H6: 8.3687074 | I6: 2.1
A7: 30 | B7: 33 | C7: 30 | D7: =B7*C7 -> 990 | E7: 1.63 | F7: 1.04 | G7: 0.032490152 | H7: 5.3515818 | I7: 1.94
A8: 60 | B8: 33 | C8: 1 | D8: =B8*C8 -> 33 | E8: 1.43 | F8: 0.95 | G8: 0.1 | H8: 4.01 | I8: 1.71
A10: Note: Max 1-hr error was at stake T6P13. TR1 error for T6P13 was 1.65 and TR1 max error was 2.17 at 8A.
A38: Occupation time | B38: Satellite arc traveled | E38: Distance to 2' Diam tree bole | F38: Arc blocked by tree bole deg | G38: tan | H38: arctan rad | I38: arctan deg
A39: 5 | B39: =360/(24*60/A39) -> 1.25 | E39: 10 | F39: =I39*2 -> 11.421186 | G39: =1/E39 -> 0.1 | H39: =ATAN(G39) -> 0.099668652 | I39: =DEGREES(H39) -> 5.7105931
A40: 10 | B40: =360/(24*60/A40) -> 2.5 | E40: 20 | F40: =I40*2 -> 5.7248105 | G40: =1/E40 -> 0.05 | H40: =ATAN(G40) -> 0.049958396 | I40: =DEGREES(H40) -> 2.8624052
A41: 15 | B41: =360/(24*60/A41) -> 3.75 | E41: 30 | F41: =I41*2 -> 3.8183049 | G41: =1/E41 -> 0.033333333 | H41: =ATAN(G41) -> 0.033320996 | I41: =DEGREES(H41) -> 1.9091524
A42: 20 | B42: =360/(24*60/A42) -> 5 | E42: 40 | F42: =I42*2 -> 2.8641924 | G42: =1/E42 -> 0.025 | H42: =ATAN(G42) -> 0.024994794 | I42: =DEGREES(H42) -> 1.4320962
A43: 30 | B43: =360/(24*60/A43) -> 7.5 | E43: 50 | F43: =I43*2 -> 2.2915257 | G43: =1/E43 -> 0.02 | H43: =ATAN(G43) -> 0.019997334 | I43: =DEGREES(H43) -> 1.1457628
A44: 60 | B44: =360/(24*60/A44) -> 15 | E44: 60 | F44: =I44*2 -> 1.9096825 | G44: =1/E44 -> 0.016666667 | H44: =ATAN(G44) -> 0.016665124 | I44: =DEGREES(H44) -> 0.95484125
E45: 70 | F45: =I45*2 -> 1.6369109 | G45: =1/E45 -> 0.014285714 | H45: =ATAN(G45) -> 0.014284743 | I45: =DEGREES(H45) -> 0.81845546
E46: 80 | F46: =I46*2 -> 1.4323199 | G46: =1/E46 -> 0.0125 | H46: =ATAN(G46) -> 0.012499349 | I46: =DEGREES(H46) -> 0.71615995
E47: 90 | F47: =I47*2 -> 1.2731872 | G47: =1/E47 -> 0.011111111 | H47: =ATAN(G47) -> 0.011110654 | I47: =DEGREES(H47) -> 0.63659358
E48: 100 | F48: =I48*2 -> 1.1458774 | G48: =1/E48 -> 0.01 | H48: =ATAN(G48) -> 0.0099996667 | I48: =DEGREES(H48) -> 0.5729387
T56: 20 | U56: =2.12356+T56*-0.012968 -> 1.8642
T57: 21 | U57: =2.12356+T57*-0.012968 -> 1.851232
T58: 22 | U58: =2.12356+T58*-0.012968 -> 1.838264
T59: 23 | U59: =2.12356+T59*-0.012968 -> 1.825296
T60: 24 | U60: =2.12356+T60*-0.012968 -> 1.812328
T61: 25 | U61: =2.12356+T61*-0.012968 -> 1.79936
T62: 26 | U62: =2.12356+T62*-0.012968 -> 1.786392
B74: Occupution Time (mins) | C74: Sub-samples per stake | D74: Mean Horz Error | E74: Stdev of Mean Horz Error | F74: Min. Horz Error | G74: Max. Horz Error | H74: RMSE Horz Error
B75: 5 | C75: 30 | D75: 2.2575814 | E75: 1.4449853 | F75: 0.029506101 | G75: 9.5915149 | H75: 2.68005
B76: 10 | C76: 30 | D76: 2.0237827 | E76: 1.2582992 | F76: 0.037258691 | G76: 7.4777239 | H76: 2.3827516
B77: 15 | C77: 30 | D77: 1.8267461 | E77: 1.1853002 | F77: 0.01549871 | G77: 7.0110495 | H77: 2.1772919
B78: 20 | C78: 30 | D78: 1.7413129 | E78: 1.1469178 | F78: 0.017076593 | G78: 8.3687074 | H78: 2.0847873
B79: 30 | C79: 30 | D79: 1.637402 | E79: 1.0610761 | F79: 0.032490152 | G79: 5.3515818 | H79: 1.9508704
B80: 60 | C80: 1 | D80: 1.439 | E80: -- | F80: -- | G80: -- | H80: --

Sheet Time vs horz err individ hubs
A1: GeoXH
B2: 5min | G2: 15min | L2: 30min | Q2: 60min
A3: Survey Stake | B3: 5-min Mean Err | C3: Stdev of err | D3: Min | E3: Max | F3: RSME | G3: 15-min Mean Err | H3: Stdev of err | I3: Min | J3: Max | K3: RSME | L3: 30-min Mean Err | M3: Stdev of err | N3: Min | O3: Max | P3: RSME | Q3: 1-hr Err
A4: 10A | B4: 2.4166226 | C4: 1.4041635 | D4: 0.64018654 | E4: 7.1938078 | F4: 2.7831668 | G4: 1.6784639 | H4: 1.054779 | I4: 0.31153396 | J4: 3.9469852 | K4: 1.9729963 | L4: 1.6220603 | M4: 1.1371145 | N4: 0.1675721 | O4: 3.2870826 | P4: 1.9700274 | Q4: 1.3076812
A5: 11A | B5: 3.6595288 | C5: 1.2882399 | D5: 1.0807866 | E5: 6.980427 | F5: 3.8725179 | G5: 2.8736071 | H5: 0.57759551 | I5: 1.9787862 | J5: 3.6470695 | K5: 2.9291831 | L5: 3.0152285 | M5: 0.24344257 | N5: 2.6016201 | O5: 3.5372435 | P5: 3.0247135 | Q5: 2.8086881
A6: 12A | B6: 2.9710648 | C6: 0.85196794 | D6: 1.6910884 | E6: 4.774156 | F6: 3.0868885 | G6: 2.3212203 | H6: 0.56016352 | I6: 1.1487333 | J6: 3.5486522 | K6: 2.3856629 | L6: 2.4269556 | M6: 0.32018631 | N6: 1.785472 | O6: 2.9703501 | P6: 2.4472874 | Q6: 2.6799246
A7: 13A | B7: 3.3821514 | C7: 1.6045214 | D7: 0.99728502 | E7: 6.2680052 | F7: 3.7319728 | G7: 2.7852545 | H7: 0.84850887 | I7: 1.4800594 | J7: 4.5616355 | K7: 2.9075094 | L7: 2.2999623 | M7: 0.39191236 | N7: 1.4878681 | O7: 3.2425916 | P7: 2.3320167 | Q7: 2.0254273
A8: 14A | B8: 2.1940159 | C8: 1.5858647 | D8: 0.34980482 | E8: 4.7703648 | F8: 2.6916241 | G8: 1.8593696 | H8: 0.58540863 | I8: 0.61513674 | J8: 2.7971555 | K8: 1.946416 | L8: 1.70862 | M8: 0.20750416 | N8: 1.1090799 | O8: 2.0371665 | P8: 1.7207571 | Q8: 1.7122571
A9: 15A | B9: 1.9941878 | C9: 1.1997341 | D9: 0.22784602 | E9: 6.698014 | F9: 2.3169308 | G9: 1.3401573 | H9: 0.5068202 | I9: 0.50771942 | J9: 2.705627 | K9: 1.4297993 | L9: 1.1552594 | M9: 0.43843656 | N9: 0.24927336 | O9: 2.1996723 | P9: 1.2330626 | Q9: 1.5454619
A10: 16A | B10: 1.9090322 | C10: 1.1455219 | D10: 0.34292391 | E10: 4.614549 | F10: 2.2165026 | G10: 2.2499534 | H10: 0.77945605 | I10: 0.51120075 | J10: 3.4717515 | K10: 2.3768867 | L10: 1.9945847 | M10: 0.66155604 | N10: 0.6027069 | O10: 2.7301749 | P10: 2.0979599 | Q10: 1.9245946
A11: 17A | B11: 1.965876 | C11: 1.1891805 | D11: 0.094786128 | E11: 4.6395803 | F11: 2.2872867 | G11: 1.6585942 | H11: 0.58175911 | I11: 0.69741179 | J11: 3.3267777 | K11: 1.7544506 | L11: 1.4494499 | M11: 0.43234436 | N11: 0.43476386 | O11: 1.974415 | P11: 1.5104953 | Q11: 0.88979459
A12: 21A | B12: 2.3371121 | C12: 0.79069527 | D12: 0.83721205 | E12: 3.762755 | F12: 2.4630168 | G12: 1.6067314 | H12: 0.50620274 | I12: 0.92266918 | J12: 2.6768512 | K12: 1.682048 | L12: 1.4419704 | M12: 0.37402265 | N12: 0.93420823 | O12: 2.3469552 | P12: 1.4881225 | Q12: 1.3169039
A13: 22A | B13: 2.1005913 | C13: 1.1716338 | D13: 0.41971349 | E13: 5.4852586 | F13: 2.3957153 | G13: 1.4944358 | H13: 0.41791437 | I13: 0.88396109 | J13: 2.3797407 | K13: 1.5498932 | L13: 1.9066492 | M13: 0.36129963 | N13: 1.1930851 | O13: 2.3875614 | P13: 1.939458 | Q13: 1.543796
A14: 24A | B14: 2.4375138 | C14: 1.2087911 | D14: 0.52790966 | E14: 5.2992978 | F14: 2.7118156 | G14: 2.0060599 | H14: 0.5808586 | I14: 1.1550932 | J14: 3.0944068 | K14: 2.0857676 | L14: 1.5502202 | M14: 0.38450336 | N14: 0.88903544 | O14: 2.4916556 | P14: 1.5956496 | Q14: 1.2823515
A15: 26A | B15: 0.72183334 | C15: 0.48747219 | D15: 0.32702387 | E15: 2.5098109 | F15: 0.86645919 | G15: 0.42053671 | H15: 0.11807328 | I15: 0.30928112 | J15: 0.8469444 | K15: 0.43626564 | L15: 0.39107059 | M15: 0.037002438 | N15: 0.3231034 | O15: 0.49681164 | P15: 0.39275915 | Q15: 0.33683707
... A36: T6P8 | B36: 2.7695915 | C36: 0.96128446 | D36: 1.0144676 | E36: 4.997181 | F36: 2.9264146 | G36: 2.619278 | H36: 0.41259141 | I36: 1.5877637 | J36: 3.4570527 | K36: 2.6505045 | L36: 2.1726705 | M36: 0.36925747 | N36: 1.498261 | O36: 3.2401696 | P36: 2.2027943 | Q36: 2.6836168
A37: Ave= | B37: =AVERAGE(B4:B36) -> 2.2548376 | C37: =AVERAGE(C4:C36) -> 1.1335765 | D37: =AVERAGE(D4:D36) -> 0.58582706 | E37: =AVERAGE(E4:E36) -> 5.0941768 | F37: =AVERAGE(F4:F36) -> 2.5286395 | G37: =AVERAGE(G4:G36) -> 1.8468617 | H37: =AVERAGE(H4:H36) -> 0.73785106 | I37: =AVERAGE(I4:I36) -> 0.70766254 | ... Q37: =AVERAGE(Q4:Q36) -> 1.4344706
A38: Max= | B38: =MAX(B4:B36) -> 4.4798413 | C38: =MAX(C4:C36) -> 2.0025509 | D38: =MAX(D4:D36) -> 1.7278409 | E38: =MAX(E4:E36) -> 9.5915149 | F38: =MAX(F4:F36) -> 4.6928988 | G38: =MAX(G4:G36) -> 4.0628913 | H38: =MAX(H4:H36) -> 1.7376088 | I38: =MAX(I4:I36) -> 1.9787862 | ... Q38: =MAX(Q4:Q36) -> 4.0057053
A39: Count= | B39: =COUNT(B4:B36) -> 33
W42: t-Test: Paired Two Sample for Means
X44: 5-min Mean Err | Y44: 1-hr Err
W45: Mean | X45: 2.2840205 | Y45: 1.4387229
W46: Variance | X46: 0.74938135 | Y46: 0.91311483
W47: Observations | X47: 35 | Y47: 35
W48: Pearson Correlation | X48: 0.89079412
W49: Hypothesized Mean Difference | X49: 0
W50: df | X50: 34
W51: t Stat | X51: 11.510533
W52: P(T<=t) one-tail | X52: 1.4124456e-13
W53: t Critical one-tail | X53: 1.6909243
W54: P(T<=t) two-tail | X54: 2.8248912e-13
W55: t Critical two-tail | X55: 2.0322445
W58: t-Test: Paired Two Sample for Means
X60: 15-min Mean Err | Y60: 1-hr Err
W61: Mean | X61: 1.8593515 | Y61: 1.4387229
W62: Variance | X62: 0.77790872 | Y62: 0.91311483
W63: Observations | X63: 35 | Y63: 35
W64: Pearson Correlation | X64: 0.91243442
W65: Hypothesized Mean Difference | X65: 0
W66: df | X66: 34
W67: t Stat | X67: 6.361587
W68: P(T<=t) one-tail | X68: 1.4663943e-07
W69: t Critical one-tail | X69: 1.6909243
W70: P(T<=t) two-tail | X70: 2.9327886e-07
W71: t Critical two-tail | X71: 2.0322445
W74: t-Test: Paired Two Sample for Means
X76: 15-min Mean Err | Y76: 30-min Mean Err
W77: Mean | X77: 1.8593515 | Y77: 1.6699935
W78: Variance | X78: 0.77790872 | Y78: 0.87088353
W79: Observations | X79: 35 | Y79: 35
W80: Pearson Correlation | X80: 0.9599076
Q81: bin | W81: Hypothesized Mean Difference | X81: 0
N82: bin | O82: Frequency | Q82: 1 | W82: df | X82: 34
N83: 1 | O83: 1 | Q83: 2 | W83: t Stat | X83: 4.2764662
N84: 2 | O84: 10 | Q84: 3 | W84: P(T<=t) one-tail | X84: 7.2809656e-05
N85: 3 | O85: 12 | Q85: 4 | W85: t Critical one-tail | X85: 1.6909243
N86: 4 | O86: 6 | Q86: 5 | W86: P(T<=t) two-tail | X86: 0.00014561931
N87: 5 | O87: 2 | Q87: 6 | W87: t Critical two-tail | X87: 2.0322445
N88: 6 | O88: 4
B94: 5-min Occupation Samples | G94: 10-min Occupation Samples | L94: 15-min Occupation Samples | Q94: 20-min Occupation Samples | V94: 30-min Occupation Samples | AA94: 60min | AB94: 60min
A95: Survey Stake | B95: 5-min samples | C95: Stdev of Err | D95: Min Err | E95: Max Err | F95: Err Range | G95: 10-min samples | H95: Stdev of Err | I95: Min Err | J95: Max Err | K95: Err Range | L95: 15-min samples | M95: Stdev of Err | N95: Min Err | O95: Max Err | P95: Err Range | Q95: 20-min samples | R95: Stdev of Err | S95: Min Err | T95: Max Err | U95: Err Range | V95: 30-min samples | W95: Stdev of Err | X95: Min Err | Y95: Max Err | Z95: Err Range | AA95: 1-hr occupation GeoXH | AB95: 1-hr occupation Triumph1
A96: 8B | B96: 0.70685996 | C96: 0.46304646 | D96: 0.029506101 | E96: 1.9272866 | F96: =E96-D96 -> 1.8977805 | G96: 0.89760428 | H96: 0.45369807 | I96: 0.037258691 | J96: 1.5433545 | K96: =J96-I96 -> 1.5060958 | L96: 0.63807148 | M96: 0.42271343 | N96: 0.041813992 | O96: 1.45871 | P96: =O96-N96 -> 1.416896 | Q96: 0.46010608 | R96: 0.29617722 | S96: 0.095283839 | T96: 1.0158208 | U96: =T96-S96 -> 0.92053692 | V96: 0.30642293 | W96: 0.16498004 | X96: 0.04780387 | Y96: 0.55651973 | Z96: =Y96-X96 -> 0.50871586 | AA96: 0.29222185 | AB96: 0.32896444
A97: 26A | B97: 0.72183334 | C97: 0.48747219 | D97: 0.32702387 | E97: 2.5098109 | F97: =E97-D97 -> 2.182787 | G97: 0.48066327 | H97: 0.29582235 | I97: 0.19164605 | J97: 1.6727833 | K97: =J97-I97 -> 1.4811372 | L97: 0.42053671 | M97: 0.11807328 | N97: 0.30928112 | O97: 0.8469444 | P97: =O97-N97 -> 0.53766328 | Q97: 0.41232001 | R97: 0.073689672 | S97: 0.33403894 | T97: 0.60737617 | U97: =T97-S97 -> 0.27333723 | V97: 0.39107059 | W97: 0.037002438 | X97: 0.3231034 | Y97: 0.49681164 | Z97: =Y97-X97 -> 0.17370824 | AA97: 0.33683707 | AB97: 0.13619552
A98: 5A | B98: 0.82245778 | C98: 0.61719526 | D98: 0.087397998 | E98: 2.1267496 | F98: =E98-D98 -> 2.0393516 | G98: 0.48078484 | H98: 0.50241539 | I98: 0.044629699 | J98: 2.0517241 | K98: =J98-I98 -> 2.0070944 | L98: 0.25288627 | M98: 0.31768588 | N98: 0.01549871 | O98: 1.3501669 | P98: =O98-N98 -> 1.3346682 | Q98: 0.13122702 | R98: 0.077661454 | S98: 0.017076593 | T98: 0.37161595 | U98: =T98-S98 -> 0.35453935 | V98: 0.12571735 | W98: 0.052785099 | X98: 0.038220545 | Y98: 0.17684233 | Z98: =Y98-X98 -> 0.13862179 | AA98: 0.097207047 | AB98: 0.11111301
A99: T5P5 | B99: 1.1582272 | C99: 0.69754562 | D99: 0.17235025 | E99: 3.0337125 | F99: =E99-D99 -> 2.8613623 | G99: 1.2288999 | H99: 1.0120014 | I99: 0.16935646 | J99: 3.5107195 | K99: =J99-I99 -> 3.341363 | L99: 1.0692503 | M99: 0.94838724 | N99: 0.13870836 | O99: 3.2368572 | P99: =O99-N99 -> 3.0981488 | Q99: 0.79464937 | R99: 0.64177852 | S99: 0.21222302 | T99: 2.9292156 | U99: =T99-S99 -> 2.7169926 | V99: 0.68022932 | W99: 0.20141893 | X99: 0.23443295 | Y99: 1.0641179 | Z99: =Y99-X99 -> 0.829685 | AA99: 0.39383602 | AB99: 0.068794258
A100: 6B | B100: 1.4820489 | C100: 0.81225527 | D100: 0.092186821 | E100: 3.5390559 | F100: =E100-D100 -> 3.446869 | G100: 1.2735881 | H100: 0.45030851 | I100: 0.42058579 | J100: 2.414914 | K100: =J100-I100 -> 1.9943282 | L100: 0.94835975 | M100: 0.51611132 | N100: 0.21937049 | O100: 2.3331173 | P100: =O100-N100 -> 2.1137468 | Q100: 0.91989798 | R100: 0.32581292 | S100: 0.33022418 | T100: 1.5071535 | U100: =T100-S100 -> 1.1769293 | V100: 0.8844283 | W100: 0.25150249 | X100: 0.43070409 | Y100: 1.3953797 | Z100: =Y100-X100 -> 0.96467565 | AA100: 0.63540004 | AB100: 0.42862717
A101: 6A | B101: 1.5711597 | C101: 0.84932081 | D101: 0.37701062 | E101: 4.0733124 | F101: =E101-D101 -> 3.6963018 | G101: 1.2648165 | H101: 0.46249168 | I101: 0.33496807 | J101: 2.5398932 | K101: =J101-I101 -> 2.2049252 | L101: 1.4153632 | M101: 0.55243047 | N101: 0.44067449 | O101: 2.5925587 | P101: =O101-N101 -> 2.1518842 | Q101: 1.1741052 | R101: 0.40039637 | S101: 0.39983673 | T101: 2.1130389 | U101: =T101-S101 -> 1.7132021 | V101: 1.0168924 | W101: 0.3785784 | X101: 0.42974086 | Y101: 2.1593303 | Z101: =Y101-X101 -> 1.7295895 | AA101: 0.78087234 | AB101: 0.21548608
A102: 7A | B102: 1.686663 | C102: 0.9525367 | D102: 0.069842752 | E102: 3.8558799 | F102: =E102-D102 -> 3.7860371 | G102: 1.5492275 | H102: 0.67723562 | I102: 0.045462182 | J102: 2.9682448 | K102: =J102-I102 -> 2.9227826 | L102: 1.185494 | M102: 0.44685905 | N102: 0.50427355 | O102: 2.0738019 | P102: =O102-N102 -> 1.5695284 | Q102: 1.0873619 | R102: 0.47047417 | S102: 0.14162772 | T102: 2.0278173 | U102: =T102-S102 -> 1.8861896 | V102: 0.81817511 | W102: 0.19727548 | X102: 0.35931575 | Y102: 1.1650829 | Z102: =Y102-X102 -> 0.80576717 | AA102: 0.21528309 | AB102: 0.51683454
A103: T6P1 | B103: 1.7838544 | C103: 1.3119282 | D103: 0.18184722 | E103: 6.2635874 | F103: =E103-D103 -> 6.0817402 | G103: 1.6937091 | H103: 1.2104964 | I103: 0.20723419 | J103: 4.4169163 | K103: =J103-I103 -> 4.2096821 | L103: 0.97941084 | M103: 0.97813056 | N103: 0.23850411 | O103: 5.6204457 | P103: =O103-N103 -> 5.3819416 | Q103: 0.69811382 | R103: 0.36731401 | S103: 0.24655792 | T103: 1.8124779 | U103: =T103-S103 -> 1.56592 | V103: 0.5587943 | W103: 0.24701821 | X103: 0.032490152 | Y103: 1.2649827 | Z103: =Y103-X103 -> 1.2324925 | AA103: 0.91514677 | AB103: 1.0972111
A104: 27A | B104: 1.8433645 | C104: 1.2542007 | D104: 0.39552321 | E104: 5.6710285 | F104: =E104-D104 -> 5.2755053 | G104: 1.6120589 | H104: 0.81405738 | I104: 0.55375104 | J104: 3.7647376 | K104: =J104-I104 -> 3.2109866 | L104: 1.5619817 | M104: 0.80740291 | N104: 0.32007876 | O104: 2.9434723 | P104: =O104-N104 -> 2.6233935 | Q104: 1.5786616 | R104: 0.61446186 | S104: 0.3933027 | T104: 2.7778235 | U104: =T104-S104 -> 2.3845208 | V104: 1.5869197 | W104: 0.23586606 | X104: 0.91827077 | Y104: 1.9738539 | Z104: =Y104-X104 -> 1.0555831 | AA104: 0.89691962 | AB104: 0.41769698
A105: 16A | B105: 1.9090322 | C105: 1.1455219 | D105: 0.34292391 | E105: 4.614549 | F105: =E105-D105 -> 4.2716251 | G105: 2.1033676 | H105: 0.94217105 | I105: 0.40767464 | J105: 3.8593529 | K105: =J105-I105 -> 3.4516782 | L105: 2.2499534 | M105: 0.77945605 | N105: 0.51120075 | O105: 3.4717515 | P105: =O105-N105 -> 2.9605508 | Q105: 1.7097639 | R105: 0.86418676 | S105: 0.45030235 | T105: 3.253193 | U105: =T105-S105 -> 2.8028907 | V105: 1.9945847 | W105: 0.66155604 | X105: 0.6027069 | Y105: 2.7301749 | Z105: =Y105-X105 -> 2.127468 | AA105: 1.9245946 | AB105: 1.0407265
A106: 17A | B106: 1.965876 | C106: 1.1891805 | D106: 0.094786128 | E106: 4.6395803 | F106: =E106-D106 -> 4.5447942 | G106: 1.6578131 | H106: 0.66906989 | I106: 0.23687932 | J106: 3.2015667 | K106: =J106-I106 -> 2.9646874 | L106: 1.6585942 | M106: 0.58175911 | N106: 0.69741179 | O106: 3.3267777 | P106: =O106-N106 -> 2.6293659 | Q106: 1.7800104 | R106: 0.57178242 | S106: 0.55445325 | T106: 3.0409875 | U106: =T106-S106 -> 2.4865342 | V106: 1.4494499 | W106: 0.43234436 | X106: 0.43476386 | Y106: 1.974415 | Z106: =Y106-X106 -> 1.5396511 | AA106: 0.88979459 | AB106: 0.13084869
A107: 15A | B107: 1.9941878 | C107: 1.1997341 | D107: 0.22784602 | E107: 6.698014 | F107: =E107-D107 -> 6.470168 | G107: 1.9187102 | H107: 1.1185283 | I107: 0.68130478 | J107: 5.8570614 | K107: =J107-I107 -> 5.1757566 | L107: 1.3401573 | M107: 0.5068202 | N107: 0.50771942 | O107: 2.705627 | P107: =O107-N107 -> 2.1979076 | Q107: 1.484851 | R107: 0.42868014 | S107: 0.84412204 | T107: 2.5688544 | U107: =T107-S107 -> 1.7247323 | V107: 1.1552594 | W107: 0.43843656 | X107: 0.24927336 | Y107: 2.1996723 | Z107: =Y107-X107 -> 1.9503989 | AA107: 1.5454619 | AB107: 1.3171625
... A128: T6P13 | B128: 4.4798413 | C128: 1.4218691 | D128: 1.7278409 | E128: 7.4719776 | F128: =E128-D128 -> 5.7441368 | G128: 3.6995154 | H128: 0.98607384 | I128: 1.8206937 | J128: 6.1462346 | K128: =J128-I128 -> 4.3255409 | L128: 3.875874 | M128: 1.0319028 | N128: 1.7043263 | O128: 5.4079173 | P128: =O128-N128 -> 3.703591 | Q128: 4.1408144 | R128: 0.6308556 | S128: 2.6949015 | T128: 5.4290643 | U128: =T128-S128 -> 2.7341628 | V128: 4.31584 | W128: 0.26963931 | X128: 3.7368469 | Y128: 5.0611382 | Z128: =Y128-X128 -> 1.3242913 | AA128: 4.0057053 | AB128: 1.4507811
A129: Ave= | B129: =AVERAGE(B96:B128) -> 2.2548376 | C129: =AVERAGE(C96:C128) -> 1.1335773 | D129: =AVERAGE(D96:D128) -> 0.58582695 | E129: =AVERAGE(E96:E128) -> 5.0941773 | F129: =AVERAGE(F96:F128) -> 4.5083504 | G129: =AVERAGE(G96:G128) -> 2.0420451 | H129: =AVERAGE(H96:H128) -> 0.90501092 | I129: =AVERAGE(I96:I128) -> 0.54305568 | ... AB129: =AVERAGE(AB96:AB128) -> 0.82625509
A130: Max= | B130: =MAX(B96:B128) -> 4.4798413 | C130: =MAX(C96:C128) -> 2.0025509 | D130: =MAX(D96:D128) -> 1.7278409 | E130: =MAX(E96:E128) -> 9.5915149 | F130: =MAX(F96:F128) -> 8.1511309 | G130: =MAX(G96:G128) -> 3.9454512 | H130: =MAX(H96:H128) -> 1.6901204 | I130: =MAX(I96:I128) -> 1.8206937 | ... AB130: =MAX(AB96:AB128) -> 1.7502107
A131: Min= | B131: =MIN(B96:B128) -> 0.70685996 | C131: =MIN(C96:C128) -> 0.46304646 | D131: =MIN(D96:D128) -> 0.029506101 | E131: =MIN(E96:E128) -> 1.9272866 | F131: =MIN(F96:F128) -> 1.8977805 | G131: =MIN(G96:G128) -> 0.48066327 | H131: =MIN(H96:H128) -> 0.29582235 | I131: =MIN(I96:I128) -> 0.037258691 | ... AB131: =MIN(AB96:AB128) -> 0.068794258
A132: Range= | B132: =B130-B131 -> 3.7729813 | C132: =C130-C131 -> 1.5395044 | D132: =D130-D131 -> 1.6983348 | E132: =E130-E131 -> 7.6642283 | F132: =F130-F131 -> 6.2533504 | G132: =G130-G131 -> 3.464788 | H132: =H130-H131 -> 1.394298 | I132: =I130-I131 -> 1.783435 | ... AB132: =AB130-AB131 -> 1.6814165
A134: 1.5566367
A135: 0.59053822
A136: 0.35616689
A137: 2.4161635
A179: 15-min Occupation Samples
A180: 15-min Mean Err | B180: Stdev of Err | C180: Min Err | D180: Max Err | E180: Err Range | F180: Survey Stake
A181: 0.42053671 | B181: 0.11807328 | C181: 0.30928112 | D181: 0.8469444 | E181: 0.53766328 | F181: 26A
A182: 0.25288627 | B182: 0.31768588 | C182: 0.01549871 | D182: 1.3501669 | E182: 1.3346682 | F182: 5A
A183: 2.619278 | B183: 0.41259141 | C183: 1.5877637 | D183: 3.4570527 | E183: 1.8692891 | F183: T6P8
A184: 1.4944358 | B184: 0.41791437 | C184: 0.88396109 | D184: 2.3797407 | E184: 1.4957797 | F184: 22A
A185: 0.63807148 | B185: 0.42271343 | C185: 0.041813992 | D185: 1.45871 | E185: 1.416896 | F185: 8B
A186: 1.185494 | B186: 0.44685905 | C186: 0.50427355 | D186: 2.0738019 | E186: 1.5695284 | F186: 7A
A187: 1.6067314 | B187: 0.50620274 | C187: 0.92266918 | D187: 2.6768512 | E187: 1.7541821 | F187: 21A
A188: 1.3401573 | B188: 0.5068202 | C188: 0.50771942 | D188: 2.705627 | E188: 2.1979076 | F188: 15A
A189: 0.94835975 | B189: 0.51611132 | C189: 0.21937049 | D189: 2.3331173 | E189: 2.1137468 | F189: 6B
A190: 2.6217922 | B190: 0.5282142 | C190: 1.5847254 | D190: 3.4777791 | E190: 1.8930537 | F190: T6P11
A191: 1.4153632 | B191: 0.55243047 | C191: 0.44067449 | D191: 2.5925587 | E191: 2.1518842 | F191: 6A
A192: 2.3212203 | B192: 0.56016352 | C192: 1.1487333 | D192: 3.5486522 | E192: 2.3999189 | F192: 12A
... A213: 4.0628913 | B213: 1.7376088 | C213: 1.0247042 | D213: 7.0110495 | E213: 5.9863454 | F213: T6P5

Sheet All_times_R
A1: Hub | B1: Hub_OT | C1: Datafile | D1: Occup_time | E1: Draw_No | F1: Horz_Err
A2: 10A | B2: =CONCATENATE(A2,"_",D2) -> 10A_5min | C2: 10A_300_1.cor | D2: 5min | E2: Draw_1 | F2: 2.2007755
A3: 10A | B3: =CONCATENATE(A3,"_",D3) -> 10A_5min | C3: 10A_300_10.cor | D3: 5min | E3: Draw_10 | F3: 2.1147019
A4: 10A | B4: =CONCATENATE(A4,"_",D4) -> 10A_5min | C4: 10A_300_11.cor | D4: 5min | E4: Draw_11 | F4: 4.376469
A5: 10A | B5: =CONCATENATE(A5,"_",D5) -> 10A_5min | C5: 10A_300_12.cor | D5: 5min | E5: Draw_12 | F5: 0.64018654
A6: 10A | B6: =CONCATENATE(A6,"_",D6) -> 10A_5min | C6: 10A_300_13.cor | D6: 5min | E6: Draw_13 | F6: 1.2455784
A7: 10A | B7: =CONCATENATE(A7,"_",D7) -> 10A_5min | C7: 10A_300_14.cor | D7: 5min | E7: Draw_14 | F7: 1.401956
A8: 10A | B8: =CONCATENATE(A8,"_",D8) -> 10A_5min | C8: 10A_300_15.cor | D8: 5min | E8: Draw_15 | F8: 0.83170188
A9: 10A | B9: =CONCATENATE(A9,"_",D9) -> 10A_5min | C9: 10A_300_16.cor | D9: 5min | E9: Draw_16 | F9: 3.3519427
A10: 10A | B10: =CONCATENATE(A10,"_",D10) -> 10A_5min | C10: 10A_300_17.cor | D10: 5min | E10: Draw_17 | F10: 1.7953222
A11: 10A | B11: =CONCATENATE(A11,"_",D11) -> 10A_5min | C11: 10A_300_18.cor | D11: 5min | E11: Draw_18 | F11: 1.7394798
A12: 10A | B12: =CONCATENATE(A12,"_",D12) -> 10A_5min | C12: 10A_300_19.cor | D12: 5min | E12: Draw_19 | F12: 1.3040035
A13: 10A | B13: =CONCATENATE(A13,"_",D13) -> 10A_5min | C13: 10A_300_2.cor | D13: 5min | E13: Draw_2 | F13: 4.1368339
... A4951: T6P8 | B4951: =CONCATENATE(A4951,"_",D4951) -> T6P8_30min | C4951: T6P8_1800_9.cor | D4951: 30min | E4951: Draw_9 | F4951: 3.0043493

Sheet Sum_all_times_R
A1: Hub | B1: Occup_time | C1: mean | D1: sd | E1: max
A2: 10A | B2: 5min | C2: 2.4166226 | D2: 1.4041635 | E2: 7.1938078
A3: 11A | B3: 5min | C3: 3.6595288 | D3: 1.2882399 | E3: 6.980427
A4: 12A | B4: 5min | C4: 2.9710648 | D4: 0.85196794 | E4: 4.774156
A5: 13A | B5: 5min | C5: 3.3821514 | D5: 1.6045213 | E5: 6.2680052
A6: 14A | B6: 5min | C6: 2.1940159 | D6: 1.5858647 | E6: 4.7703648
A7: 15A | B7: 5min | C7: 1.9941878 | D7: 1.1997341 | E7: 6.698014
A8: 16A | B8: 5min | C8: 1.9090322 | D8: 1.1455219 | E8: 4.614549
A9: 17A | B9: 5min | C9: 1.965876 | D9: 1.1891805 | E9: 4.6395803
A10: 21A | B10: 5min | C10: 2.3371121 | D10: 0.79069527 | E10: 3.762755
A11: 22A | B11: 5min | C11: 2.1005913 | D11: 1.1716338 | E11: 5.4852586
A12: 24A | B12: 5min | C12: 2.4375138 | D12: 1.2087911 | E12: 5.2992978
A13: 26A | B13: 5min | C13: 0.7218333 | D13: 0.48747219 | E13: 2.5098109
... A166: T6P8 | B166: 30min | C166: 2.1726705 | D166: 0.36925747 | E166: 3.2401696

Sheet R_GeoXH_vs_TR1
A1: Hub | B1: Geo_Horz_Err | C1: TR1_Horz_Err | D1: Geo^2 | E1: TR1^2
A2: 10a | B2: 1.3076812 | C2: 0.9900393 | D2: =B2*B2 -> 1.71003 | E2: =C2*C2 -> 0.98017781
A3: 11a | B3: 2.8086881 | C3: 1.3493375 | D3: =B3*B3 -> 7.888729 | E3: =C3*C3 -> 1.8207117
A4: 12a | B4: 2.6799246 | C4: 0.80771657 | D4: =B4*B4 -> 7.1819956 | E4: =C4*C4 -> 0.65240605
A5: 13a | B5: 2.0254273 | C5: 1.5054999 | D5: =B5*B5 -> 4.1023556 | E5: =C5*C5 -> 2.2665299
A6: 14a | B6: 1.7122571 | C6: 1.4035311 | D6: =B6*B6 -> 2.9318244 | E6: =C6*C6 -> 1.9698996
A7: 15a | B7: 1.5454619 | C7: 1.3171625 | D7: =B7*B7 -> 2.3884524 | E7: =C7*C7 -> 1.7349171
A8: 16a | B8: 1.9245946 | C8: 1.0407265 | D8: =B8*B8 -> 3.7040644 | E8: =C8*C8 -> 1.0831117
A9: 17a | B9: 0.88979459 | C9: 0.13084869 | D9: =B9*B9 -> 0.79173441 | E9: =C9*C9 -> 0.01712138
A10: 21a | B10: 1.3169039 | C10: 1.270065 | D10: =B10*B10 -> 1.7342358 | E10: =C10*C10 -> 1.6130651
A11: 22a | B11: 1.543796 | C11: 1.0131755 | D11: =B11*B11 -> 2.3833062 | E11: =C11*C11 -> 1.0265246
A12: 24a | B12: 1.2823515 | C12: 0.16306103 | D12: =B12*B12 -> 1.6444254 | E12: =C12*C12 -> 0.0265889
A13: 26a | B13: 0.33683707 | C13: 0.13619552 | D13: =B13*B13 -> 0.11345921 | E13: =C13*C13 -> 0.01854922
... A34: T6p8 | B34: 2.6836168 | C34: 1.7502107 | D34: =B34*B34 -> 7.2017992 | E34: =C34*C34 -> 3.0632376

Sheet Mean_15min
A1: 15-min error GeoXH PFO
A3: numSummary(gps[,"Horz_Err"], groups=gps$Draw_No, statistics=c("mean", "sd",
A4: "IQR", "quantiles"), quantiles=c(0,.25,.5,.75,1))
B6: mean | C6: sd | D6: IQR | E6: 0 | F6: 0.25 | G6: 0.5 | H6: 0.75 | I6: 1 | J6: data:n
A7: Draw_1 | B7: 1.804769 | C7: 1.125933 | D7: 1.5874 | E7: 0.09528384 | F7: 0.9476037 | G7: 1.6053 | H7: 2.535004 | I7: 4.930756 | J7: 165
A8: Draw_10 | B8: 1.796326 | C8: 1.172542 | D8: 1.517153 | E8: 0.03822054 | F8: 0.8937718 | G8: 1.649919 | H8: 2.410924 | I8: 5.810534 | J8: 165
A9: Draw_11 | B9: 1.811002 | C9: 1.170634 | D9: 1.499666 | E9: 0.06512918 | F9: 1.0280278 | G9: 1.56387 | H9: 2.527694 | I9: 6.107346 | J9: 165
A10: Draw_12 | B10: 1.916405 | C10: 1.304638 | D10: 1.675737 | E10: 0.01549871 | F10: 0.8885731 | G10: 1.724762 | H10: 2.56431 | I10: 5.920775 | J10: 165 | L10: Bin | M10: Frequency
A11: Draw_13 | B11: 2.010372 | C11: 1.273377 | D11: 1.762789 | E11: 0.03774136 | F11: 1.0406503 | G11: 1.755252 | H11: 2.803439 | I11: 6.20414 | J11: 165 | L11: 1.796326 | M11: 1
A12: Draw_14 | B12: 1.959488 | C12: 1.343018 | D12: 1.735343 | E12: 0.01809448 | F12: 1.0140671 | G12: 1.685662 | H12: 2.74941 | I12: 7.646284 | J12: 165 | L12: 1.850802 | M12: 7
A13: Draw_15 | B13: 1.88933 | C13: 1.220507 | D13: 1.749446 | E13: 0.12016077 | F13: 0.9141455 | G13: 1.708927 | H13: 2.663592 | I13: 6.726251 | J13: 165 | L13: 1.905278 | M13: 8
A14: Draw_16 | B14: 1.970215 | C14: 1.317483 | D14: 1.665928 | E14: 0.05826843 | F14: 1.0109231 | G14: 1.719467 | H14: 2.676851 | I14: 6.400641 | J14: 165 | L14: 1.959754 | M14: 8
A15: Draw_17 | B15: 2.021165 | C15: 1.223974 | D15: 1.529422 | E15: 0.10260609 | F15: 1.1724655 | G15: 1.839904 | H15: 2.701888 | I15: 5.477758 | J15: 165 | L15: 2.01423 | M15: 4
A16: Draw_18 | B16: 1.850693 | C16: 1.270376 | D16: 1.679011 | E16: 0.04173979 | F16: 0.8647385 | G16: 1.669697 | H16: 2.543749 | I16: 6.698014 | J16: 165 | L16: More | M16: 2
A17: Draw_19 | B17: 1.926663 | C17: 1.321352 | D17: 1.398684 | E17: 0.07272146 | F17: 1.0214002 | G17: 1.722132 | H17: 2.420084 | I17: 7.392485 | J17: 165
A18: Draw_2 | B18: 1.963295 | C18: 1.25709 | D18: 1.645881 | E18: 0.04181399 | F18: 0.998099 | G18: 1.834899 | H18: 2.64398 | I18: 6.330832 | J18: 165
A19: Draw_20 | B19: 1.835692 | C19: 1.107403 | D19: 1.642364 | E19: 0.04902459 | F19: 0.9182708 | G19: 1.640255 | H19: 2.560635 | I19: 5.384909 | J19: 165
A20: Draw_21 | B20: 2.068706 | C20: 1.314041 | D20: 1.648915 | E20: 0.02461727 | F20: 1.0523989 | G20: 1.927883 | H20: 2.701314 | I20: 6.756539 | J20: 165
A21: Draw_22 | B21: 1.893163 | C21: 1.12389 | D21: 1.302454 | E21: 0.08542722 | F21: 1.1463669 | G21: 1.747838 | H21: 2.448821 | I21: 5.449356 | J21: 165
A22: Draw_23 | B22: 1.992388 | C22: 1.251916 | D22: 1.4865 | E22: 0.07610788 | F22: 1.1114186 | G22: 1.770777 | H22: 2.597918 | I22: 5.585824 | J22: 165
A23: Draw_24 | B23: 1.933974 | C23: 1.203062 | D23: 1.648613 | E23: 0.05358181 | F23: 0.9846395 | G23: 1.738149 | H23: 2.633252 | I23: 5.80053 | J23: 165
A24: Draw_25 | B24: 1.887062 | C24: 1.249805 | D24: 1.328182 | E24: 0.04219964 | F24: 1.0429071 | G24: 1.752407 | H24: 2.371089 | I24: 7.193808 | J24: 165
A25: Draw_26 | B25: 1.828933 | C25: 1.117799 | D25: 1.691594 | E25: 0.11152941 | F25: 0.8904512 | G25: 1.704326 | H25: 2.582045 | I25: 5.356348 | J25: 165
A26: Draw_27 | B26: 1.902861 | C26: 1.257597 | D26: 1.583857 | E26: 0.0295061 | F26: 0.9910254 | G26: 1.687297 | H26: 2.574883 | I26: 7.39248 | J26: 165
A27: Draw_28 | B27: 1.880254 | C27: 1.128198 | D27: 1.493447 | E27: 0.09262618 | F27: 1.0679443 | G27: 1.67778 | H27: 2.561391 | I27: 5.705397 | J27: 165
A28: Draw_29 | B28: 1.901374 | C28: 1.212077 | D28: 1.419007 | E28: 0.16956595 | F28: 0.9971569 | G28: 1.734799 | H28: 2.416163 | I28: 6.562045 | J28: 165
... A36: Draw_9 | B36: 1.907436 | C36: 1.335363 | D36: 1.842392 | E36: 0.03249015 | F36: 0.9160435 | G36: 1.730905 | H36: 2.758435 | I36: 8.368707 | J36: 165
A37: ave | B37: =AVERAGE(B$7:B$36) -> 1.9072478
A38: max | B38: =MAX(B$7:B$36) -> 2.068706
A39: min | B39: =MIN(B$7:B$36) -> 1.796326
A40: stdev | B40: =_xlfn.STDEV.S(B$7:B$36) -> 0.066245862
A41: count | B41: =COUNT(B$7:B$36) -> 30

Sheet R_TR1_15min_vs_GeoXH_draw21
A1: Hub | B1: TR1_Horz_Err | C1: GeoXH_15min_Mean_Horz_err | D1: Geo_Draw21_err | E1: L1_rinex_Geo_Draw21_err
A2: 10A | B2: 3.0708111 | C2: 1.6784639 | D2: 1.4769456 | E2: 0.39349727
A3: 11A | B3: 2.1372829 | C3: 2.8736071 | D3: 3.3701654 | E3: 0.91685875
A4: 12A | B4: 2.6518089 | C4: 2.3212203 | D4: 2.2453031 | E4: 2.8034615
A5: 13A | B5: 2.7022372 | C5: 2.7852545 | D5: 2.1671264 | E5: 1.4522828
A6: 14A | B6: 3.8492796 | C6: 1.8593696 | D6: 2.6394944 | E6: 1.6529919
A7: 15A | B7: 0.97878448 | C7: 1.3401573 | D7: 1.5367804 | E7: 1.104945
A8: 16A | B8: 0.21476091 | C8: 2.2499534 | D8: 2.4043865 | E8: 2.8227707
A9: 17A | B9: 1.4125298 | C9: 1.6585942 | D9: 1.5641029 | E9: 0.67707957
A10: 21A | B10: 2.2444726 | C10: 1.6067314 | D10: 1.8131154 | E10: 1.00102
A11: 22A | B11: 0.93156833 | C11: 1.4944358 | D11: 2.3797407 | E11: 0.50342444
A12: 24A | B12: 2.2334749 | C12: 2.0060599 | D12: 2.159393 | E12: 1.9345139
A13: 26A | B13: 0.94353449 | C13: 0.42053671 | D13: 0.42770552 | E13: 0.25784036
... A34: T6P8 | B34: 0.71076578 | C34: 2.619278 | D34: 2.9218501 | E34: 1.2370878

Sheet R_T6P5_PFO_vs_L1
A1: Hub | B1: Hub_OT | C1: Datafile | D1: Draw | E1: Occup_time | F1: Draw_No | G1: PFO_Horz_Err | H1: PFO_No_GPS_sats | I1: PFO_No_GLO_sats | J1: PFO_Total_sats | K1: L1_rinex_Horz_Err | L1: L1_No_GPS_sats | M1: L1_No_GLO_sats | N1: L1_Total_sats
A2: T6P5 | B2: T6P5_15min | C2: T6P5_900_1.cor | D2: 1 | E2: 15min | F2: Draw_1 | G2: 1.949387 | H2: 9 | I2: 8 | J2: =H2+I2 -> 17 | K2: 4.4894018 | L2: 10 | M2: 8 | N2: =L2+M2 -> 18
A3: T6P5 | B3: T6P5_15min | C3: T6P5_900_2.cor | D3: 2 | E3: 15min | F3: Draw_2 | G3: 4.59958 | H3: 10 | I3: 7 | J3: =H3+I3 -> 17 | K3: 3.1253828 | L3: 10 | M3: 7 | N3: =L3+M3 -> 17
A4: T6P5 | B4: T6P5_15min | C4: T6P5_900_3.cor | D4: 3 | E4: 15min | F4: Draw_3 | G4: 3.705465 | H4: 9 | I4: 7 | J4: =H4+I4 -> 16 | K4: 1.8924048 | L4: 9 | M4: 7 | N4: =L4+M4 -> 16
A5: T6P5 | B5: T6P5_15min | C5: T6P5_900_4.cor | D5: 4 | E5: 15min | F5: Draw_4 | G5: 1.280801 | H5: 10 | I5: 7 | J5: =H5+I5 -> 17 | K5: 2.2063827 | L5: 10 | M5: 7 | N5: =L5+M5 -> 17
A6: T6P5 | B6: T6P5_15min | C6: T6P5_900_5.cor | D6: 5 | E6: 15min | F6: Draw_5 | G6: 1.526081 | H6: 9 | I6: 8 | J6: =H6+I6 -> 17 | K6: 4.4144538 | L6: 9 | M6: 8 | N6: =L6+M6 -> 17
A7: T6P5 | B7: T6P5_15min | C7: T6P5_900_6.cor | D7: 6 | E7: 15min | F7: Draw_6 | G7: 3.675753 | H7: 9 | I7: 7 | J7: =H7+I7 -> 16 | K7: 3.361559 | L7: 11 | M7: 7 | N7: =L7+M7 -> 18
A8: T6P5 | B8: T6P5_15min | C8: T6P5_900_7.cor | D8: 7 | E8: 15min | F8: Draw_7 | G8: 6.267636 | H8: 10 | I8: 7 | J8: =H8+I8 -> 17 | K8: 3.3268119 | L8: 10 | M8: 7 | N8: =L8+M8 -> 17
A9: T6P5 | B9: T6P5_15min | C9: T6P5_900_8.cor | D9: 8 | E9: 15min | F9: Draw_8 | G9: 7.01105 | H9: 9 | I9: 8 | J9: =H9+I9 -> 17 | K9: 4.4451348 | L9: 9 | M9: 8 | N9: =L9+M9 -> 17
A10: T6P5 | B10: T6P5_15min | C10: T6P5_900_9.cor | D10: 9 | E10: 15min | F10: Draw_9 | G10: 6.792503 | H10: 9 | I10: 7 | J10: =H10+I10 -> 16 | K10: 4.2666678 | L10: 9 | M10: 7 | N10: =L10+M10 -> 16
A11: T6P5 | B11: T6P5_15min | C11: T6P5_900_10.cor | D11: 10 | E11: 15min | F11: Draw_10 | G11: 5.810534 | H11: 4 | I11: 4 | J11: =H11+I11 -> 8 | K11: 2.1297236 | L11: 9 | M11: 7 | N11: =L11+M11 -> 16
A12: T6P5 | B12: T6P5_15min | C12: T6P5_900_11.cor | D12: 11 | E12: 15min | F12: Draw_11 | G12: 5.153809 | H12: 4 | I12: 3 | J12: =H12+I12 -> 7 | K12: 1.9336824 | L12: 9 | M12: 7 | N12: =L12+M12 -> 16
A13: T6P5 | B13: T6P5_15min | C13: T6P5_900_12.cor | D13: 12 | E13: 15min | F13: Draw_12 | G13: 5.069991 | H13: 9 | I13: 7 | J13: =H13+I13 -> 16 | K13: 2.4277224 | L13: 9 | M13: 7 | N13: =L13+M13 -> 16
... A31: T6P5 | B31: T6P5_15min | C31: T6P5_900_30.cor | D31: 30 | E31: 15min | F31: Draw_30 | G31: 1.024704 | H31: 10 | I31: 7 | J31: =H31+I31 -> 17 | K31: 2.3067507 | L31: 10 | M31: 7 | N31: =L31+M31 -> 17

Sheet R_5A_PFO_vs_L1
A1: Hub | B1: Hub_OT | C1: Datafile | D1: Draw | E1: Occup_time | F1: Draw_No | G1: PFO_Horz_Err | H1: PFO_No_GPS_sats | I1: PFO_No_GLO_sats | J1: PFO_Total_sats | K1: L1_rinex_Horz_Err | L1: L1_No_GPS_sats | M1: L1_No_GLO_sats | N1: L1_Total_sats
A2: 5A | B2: 5A_15min | C2: =CONCATENATE("5A_900_",D2) -> 5A_900_1 | D2: 1 | E2: 15min | F2: =CONCATENATE("Draw_",D2) -> Draw_1 | G2: 0.5271184 | H2: 9 | I2: 6 | J2: =H2+I2 -> 15 | K2: 0.18227136 | L2: 9 | M2: 6 | N2: =L2+M2 -> 15
A3: 5A | B3: 5A_15min | C3: =CONCATENATE("5A_900_",D3) -> 5A_900_2 | D3: 2 | E3: 15min | F3: =CONCATENATE("Draw_",D3) -> Draw_2 | G3: 0.48122408 | H3: 8 | I3: 6 | J3: =H3+I3 -> 14 | K3: 0.56553078 | L3: 9 | M3: 6 | N3: =L3+M3 -> 15
A4: 5A | B4: 5A_15min | C4: =CONCATENATE("5A_900_",D4) -> 5A_900_3 | D4: 3 | E4: 15min | F4: =CONCATENATE("Draw_",D4) -> Draw_3 | G4: 0.29038666 | H4: 8 | I4: 7 | J4: =H4+I4 -> 15 | K4: 0.32817607 | L4: 8 | M4: 7 | N4: =L4+M4 -> 15
A5: 5A | B5: 5A_15min | C5: =CONCATENATE("5A_900_",D5) -> 5A_900_4 | D5: 4 | E5: 15min | F5: =CONCATENATE("Draw_",D5) -> Draw_4 | G5: 0.08634124 | H5: 8 | I5: 7 | J5: =H5+I5 -> 15 | K5: 0.54425668 | L5: 8 | M5: 7 | N5: =L5+M5 -> 15
A6: 5A | B6: 5A_15min | C6: =CONCATENATE("5A_900_",D6) -> 5A_900_5 | D6: 5 | E6: 15min | F6: =CONCATENATE("Draw_",D6) -> Draw_5 | G6: 0.15826247 | H6: 8 | I6: 7 | J6: =H6+I6 -> 15 | K6: 0.65458642 | L6: 8 | M6: 7 | N6: =L6+M6 -> 15
A7: 5A | B7: 5A_15min | C7: =CONCATENATE("5A_900_",D7) -> 5A_900_6 | D7: 6 | E7: 15min | F7: =CONCATENATE("Draw_",D7) -> Draw_6 | G7: 0.20244409 | H7: 8 | I7: 7 | J7: =H7+I7 -> 15 | K7: 0.18353836 | L7: 8 | M7: 7 | N7: =L7+M7 -> 15
A8: 5A | B8: 5A_15min | C8: =CONCATENATE("5A_900_",D8) -> 5A_900_7 | D8: 7 | E8: 15min | F8: =CONCATENATE("Draw_",D8) -> Draw_7 | G8: 0.06844129 | H8: 7 | I8: 7 | J8: =H8+I8 -> 14 | K8: 0.96357161 | L8: 8 | M8: 7 | N8: =L8+M8 -> 15
A9: 5A | B9: 5A_15min | C9: =CONCATENATE("5A_900_",D9) -> 5A_900_8 | D9: 8 | E9: 15min | F9: =CONCATENATE("Draw_",D9) -> Draw_8 | G9: 0.14188379 | H9: 8 | I9: 7 | J9: =H9+I9 -> 15 | K9: 0.43976522 | L9: 8 | M9: 7 | N9: =L9+M9 -> 15
A10: 5A | B10: 5A_15min | C10: =CONCATENATE("5A_900_",D10) -> 5A_900_9 | D10: 9 | E10: 15min | F10: =CONCATENATE("Draw_",D10) -> Draw_9 | G10: 0.05802594 | H10: 8 | I10: 6 | J10: =H10+I10 -> 14 | K10: 0.65771517 | L10: 9 | M10: 6 | N10: =L10+M10 -> 15
A11: 5A | B11: 5A_15min | C11: =CONCATENATE("5A_900_",D11) -> 5A_900_10 | D11: 10 | E11: 15min | F11: =CONCATENATE("Draw_",D11) -> Draw_10 | G11: 0.06084415 | H11: 7 | I11: 7 | J11: =H11+I11 -> 14 | K11: 0.96313646 | L11: 8 | M11: 7 | N11: =L11+M11 -> 15
A12: 5A | B12: 5A_15min | C12: =CONCATENATE("5A_900_",D12) -> 5A_900_11 | D12: 11 | E12: 15min | F12: =CONCATENATE("Draw_",D12) -> Draw_11 | G12: 0.17381085 | H12: 8 | I12: 7 | J12: =H12+I12 -> 15 | K12: 0.17810109 | L12: 8 | M12: 7 | N12: =L12+M12 -> 15
A13: 5A | B13: 5A_15min | C13: =CONCATENATE("5A_900_",D13) -> 5A_900_12 | D13: 12 | E13: 15min | F13: =CONCATENATE("Draw_",D13) -> Draw_12 | G13: 0.01549871 | H13: 8 | I13: 7 | J13: =H13+I13 -> 15 | K13: 0.66147443 | L13: 8 | M13: 7 | N13: =L13+M13 -> 15
... A31: 5A | B31: 5A_15min | C31: =CONCATENATE("5A_900_",D31) -> 5A_900_30 | D31: 30 | E31: 15min | F31: =CONCATENATE("Draw_",D31) -> Draw_30 | G31: 0.13738854 | H31: 8 | I31: 7 | J31: =H31+I31 -> 15 | K31: 0.6302335 | L31: 8 | M31: 7 | N31: =L31+M31 -> 15

Sheet R_scripts
A1: Need to recompute for hub 8A with correct coordinates for 8APIN 9-25-15
A2: Hub
A3: 10A | B3: =CONCATENATE("H_",A3," = subset(gps,Hub==""",A3,""")") -> H_10A = subset(gps,Hub=="10A")
A4: 11A | B4: =CONCATENATE("H_",A4," = subset(gps,Hub==""",A4,""")") -> H_11A = subset(gps,Hub=="11A")
A5: 12A | B5: =CONCATENATE("H_",A5," = subset(gps,Hub==""",A5,""")") -> H_12A = subset(gps,Hub=="12A")
A6: 13A | B6: =CONCATENATE("H_",A6," = subset(gps,Hub==""",A6,""")") -> H_13A = subset(gps,Hub=="13A")
A7: 14A | B7: =CONCATENATE("H_",A7," = subset(gps,Hub==""",A7,""")") -> H_14A = subset(gps,Hub=="14A")
A8: 15A | B8: =CONCATENATE("H_",A8," = subset(gps,Hub==""",A8,""")") -> H_15A = subset(gps,Hub=="15A")
A9: 16A | B9: =CONCATENATE("H_",A9," = subset(gps,Hub==""",A9,""")") -> H_16A = subset(gps,Hub=="16A")
A10: 17A | B10: =CONCATENATE("H_",A10," = subset(gps,Hub==""",A10,""")") -> H_17A = subset(gps,Hub=="17A")
A11: 21A | B11: =CONCATENATE("H_",A11," = subset(gps,Hub==""",A11,""")") -> H_21A = subset(gps,Hub=="21A")
A12: 22A | B12: =CONCATENATE("H_",A12," = subset(gps,Hub==""",A12,""")") -> H_22A = subset(gps,Hub=="22A")
A13: 24A | B13: =CONCATENATE("H_",A13," = subset(gps,Hub==""",A13,""")") -> H_24A = subset(gps,Hub=="24A")
A14: 26A | B14: =CONCATENATE("H_",A14," = subset(gps,Hub==""",A14,""")") -> H_26A = subset(gps,Hub=="26A")
... A37: T6P8 | B37: =CONCATENATE("H_",A37," = subset(gps,Hub==""",A37,""")") -> H_T6P8 = subset(gps,Hub=="T6P8")
A39: Repeat this script for each hub:
A41: model = H_T6 # repeat for each hub
A43: AnovaModel.4 <- aov(Horz_Err ~ Occup_time, data=model)
A44: summary(AnovaModel.4)
A45: with(model, numSummary(Horz_Err, groups=Occup_time, statistics=c("mean", "sd")))
A46: local({
A47: .Pairs <- glht(AnovaModel.4, linfct = mcp(Occup_time = "Tukey"))
A48: print(summary(.Pairs)) # pairwise tests
A49: print(confint(.Pairs)) # confidence intervals
A50: print(cld(.Pairs)) # compact letter display
A51: old.oma <- par(oma=c(0,5,0,0))
A52: plot(confint(.Pairs))
... A54: })
B56: H_10A = subset(gps,Hub=="10A") | M56: numSummary(draw | P56: [,"Horz_Err"], statistics=c("mean", "sd", "IQR", "quantiles"), quantiles=c(0,.25,.5, .75,1))
B57: " & Occup_time=="15min" | F57: & Hub!="T5P4_A" & Hub!="T6P10" | M57: numSummary(draw1[,"Horz_Err"], statistics=c("mean", "sd", "IQR", "quantiles"), quantiles=c(0,.25,.5, .75,1))
A58: Draw_No
A59: Draw_1 | B59: 1 | C59: =CONCATENATE("draw",B59," = subset(gps,Draw_No==""",A59,"",B$57,F$57,")") -> draw1 = subset(gps,Draw_No=="Draw_1" & Occup_time=="15min"& Hub!="T5P4_A" & Hub!="T6P10") | M59: =CONCATENATE(M$56,B59,P$56,) -> numSummary(draw1[,"Horz_Err"], statistics=c("mean", "sd", "IQR", "quantiles"), quantiles=c(0,.25,.5, .75,1))
A60: Draw_2 | B60: 2 | C60: =CONCATENATE("draw",B60," = subset(gps,Draw_No==""",A60,"",B$57,F$57,")") -> draw2 = subset(gps,Draw_No=="Draw_2" & Occup_time=="15min"& Hub!="T5P4_A" & Hub!="T6P10") | M60: =CONCATENATE(M$56,B60,P$56,) -> numSummary(draw2[,"Horz_Err"], statistics=c("mean", "sd", "IQR", "quantiles"), quantiles=c(0,.25,.5, .75,1))
A61: Draw_3 | B61: 3 | C61: =CONCATENATE("draw",B61," = subset(gps,Draw_No==""",A61,"",B$57,F$57,")") -> draw3 = subset(gps,Draw_No=="Draw_3" & Occup_time=="15min"& Hub!="T5P4_A" & Hub!="T6P10") | M61: =CONCATENATE(M$56,B61,P$56,) -> numSummary(draw3[,"Horz_Err"], statistics=c("mean", "sd", "IQR", "quantiles"), quantiles=c(0,.25,.5, .75,1))
A62: Draw_4 | B62: 4 | C62: =CONCATENATE("draw",B62," = subset(gps,Draw_No==""",A62,"",B$57,F$57,")") -> draw4 = subset(gps,Draw_No=="Draw_4" & Occup_time=="15min"& Hub!="T5P4_A" & Hub!="T6P10") | M62: =CONCATENATE(M$56,B62,P$56,) -> numSummary(draw4[,"Horz_Err"], statistics=c("mean", "sd", "IQR", "quantiles"), quantiles=c(0,.25,.5, .75,1))
A63: Draw_5 | B63: 5 | C63: =CONCATENATE("draw",B63," = subset(gps,Draw_No==""",A63,"",B$57,F$57,")") -> draw5 = subset(gps,Draw_No=="Draw_5" & Occup_time=="15min"& Hub!="T5P4_A" & Hub!="T6P10") | M63: =CONCATENATE(M$56,B63,P$56,) -> numSummary(draw5[,"Horz_Err"], statistics=c("mean", "sd", "IQR", "quantiles"), quantiles=c(0,.25,.5, .75,1))
A64: Draw_6 | B64: 6 | C64: =CONCATENATE("draw",B64," = subset(gps,Draw_No==""",A64,"",B$57,F$57,")") -> draw6 = subset(gps,Draw_No=="Draw_6" & Occup_time=="15min"& Hub!="T5P4_A" & Hub!="T6P10") | M64: =CONCATENATE(M$56,B64,P$56,) -> numSummary(draw6[,"Horz_Err"], statistics=c("mean", "sd", "IQR", "quantiles"), quantiles=c(0,.25,.5, .75,1))
A65: Draw_7 | B65: 7 | C65: =CONCATENATE("draw",B65," = subset(gps,Draw_No==""",A65,"",B$57,F$57,")") -> draw7 = subset(gps,Draw_No=="Draw_7" & Occup_time=="15min"& Hub!="T5P4_A" & Hub!="T6P10") | M65: =CONCATENATE(M$56,B65,P$56,) -> numSummary(draw7[,"Horz_Err"], statistics=c("mean", "sd", "IQR", "quantiles"), quantiles=c(0,.25,.5, .75,1))
A66: Draw_8 | B66: 8 | C66: =CONCATENATE("draw",B66," = subset(gps,Draw_No==""",A66,"",B$57,F$57,")") -> draw8 = subset(gps,Draw_No=="Draw_8" & Occup_time=="15min"& Hub!="T5P4_A" & Hub!="T6P10") | M66: =CONCATENATE(M$56,B66,P$56,) -> numSummary(draw8[,"Horz_Err"], statistics=c("mean", "sd", "IQR", "quantiles"), quantiles=c(0,.25,.5, .75,1))
A67: Draw_9 | B67: 9 | C67: =CONCATENATE("draw",B67," = subset(gps,Draw_No==""",A67,"",B$57,F$57,")") -> draw9 = subset(gps,Draw_No=="Draw_9" & Occup_time=="15min"& Hub!="T5P4_A" & Hub!="T6P10") | M67: =CONCATENATE(M$56,B67,P$56,) -> numSummary(draw9[,"Horz_Err"], statistics=c("mean", "sd", "IQR", "quantiles"), quantiles=c(0,.25,.5, .75,1))
A68: Draw_10 | B68: 10 | C68: =CONCATENATE("draw",B68," = subset(gps,Draw_No==""",A68,"",B$57,F$57,")") -> draw10 = subset(gps,Draw_No=="Draw_10" & Occup_time=="15min"& Hub!="T5P4_A" & Hub!="T6P10") | M68: =CONCATENATE(M$56,B68,P$56,) -> numSummary(draw10[,"Horz_Err"], statistics=c("mean", "sd", "IQR", "quantiles"), quantiles=c(0,.25,.5, .75,1))
A69: Draw_11 | B69: 11 | C69: =CONCATENATE("draw",B69," = subset(gps,Draw_No==""",A69,"",B$57,F$57,")") -> draw11 = subset(gps,Draw_No=="Draw_11" & Occup_time=="15min"& Hub!="T5P4_A" & Hub!="T6P10") | M69: =CONCATENATE(M$56,B69,P$56,) -> numSummary(draw11[,"Horz_Err"], statistics=c("mean", "sd", "IQR", "quantiles"), quantiles=c(0,.25,.5, .75,1))
A70: Draw_12 | B70: 12 | C70: =CONCATENATE("draw",B70," = subset(gps,Draw_No==""",A70,"",B$57,F$57,")") -> draw12 = subset(gps,Draw_No=="Draw_12" & Occup_time=="15min"& Hub!="T5P4_A" & Hub!="T6P10") | M70: =CONCATENATE(M$56,B70,P$56,) -> numSummary(draw12[,"Horz_Err"], statistics=c("mean", "sd", "IQR", "quantiles"), quantiles=c(0,.25,.5, .75,1))
... A88: Draw_30 | B88: 30 | C88: =CONCATENATE("draw",B88," = subset(gps,Draw_No==""",A88,"",B$57,F$57,")") -> draw30 = subset(gps,Draw_No=="Draw_30" & Occup_time=="15min"& Hub!="T5P4_A" & Hub!="T6P10") | M88: =CONCATENATE(M$56,B88,P$56,) -> numSummary(draw30[,"Horz_Err"], statistics=c("mean", "sd", "IQR", "quantiles"), quantiles=c(0,.25,.5, .75,1))
A91: numSummary(draw1[,Horz_Err"], | B91: statistics=c("mean", | C91: sd, | D91: IQR, | E91: quantiles), | F91: quantiles=c(0,.25,.5, | G91: .75,1))
B92: mean | C92: sd | D92: IQR | E92: 0 | F92: 0.25 | G92: 0.5 | H92: 0.75 | I92: 1 | J92: n
B93: 1.701158 | C93: 1.187958 | D93: 1.776809 | E93: 0.1387084 | F93: 0.7581947 | G93: 1.393981 | H93: 2.535004 | I93: 4.390049 | J93: 33
A95: numSummary(draw2[,Horz_Err"], | B95: statistics=c("mean", | C95: sd, | D95: IQR, | E95: quantiles), | F95: quantiles=c(0,.25,.5, | G95: .75,1))
B96: mean | C96: sd | D96: IQR | E96: 0 | F96: 0.25 | G96: 0.5 | H96: 0.75 | I96: 1 | J96: n
B97: 1.973001 | C97: 1.071154 | D97: 1.421181 | E97: 0.04181399 | F97: 1.265943 | G97: 2.050462 | H97: 2.687125 | I97: 4.59958 | J97: 35
A99: numSummary(draw3[,Horz_Err"], | B99: statistics=c("mean", | C99: sd, | D99: IQR, | E99: quantiles), | F99: quantiles=c(0,.25,.5, | G99: .75,1))
B100: mean | C100: sd | D100: IQR | E100: 0 | F100: 0.25 | G100: 0.5 | H100: 0.75 | I100: 1 | J100: n
B101: 1.838868 | C101: 1.164332 | D101: 1.753957 | E101: 0.02057693 | F101: 0.9608789 | G101: 1.608432 | H101: 2.714836 | I101: 4.441887 | J101: 35
A103: numSummary(draw4[,Horz_Err"], | B103: statistics=c("mean", | C103: sd, | D103: IQR, | E103: quantiles), | F103: quantiles=c(0,.25,.5, | G103: .75,1))
B104: mean | C104: sd | D104: IQR | E104: 0 | F104: 0.25 | G104: 0.5 | H104: 0.75 | I104: 1 | J104: n
B105: 1.581913 | C105: 0.9451663 | D105: 1.267178 | E105: 0.08634124 | F105: 0.8884371 | G105: 1.475424 | H105: 2.155615 | I105: 4.317426 | J105: 35
A107: numSummary(draw5[,Horz_Err"], | B107: statistics=c("mean", | C107: sd, | D107: IQR, | E107: quantiles), | F107: quantiles=c(0,.25,.5, | G107: .75,1))
B108: mean | C108: sd | D108: IQR | E108: 0 | F108: 0.25 | G108: 0.5 | H108: 0.75 | I108: 1 | J108: n
B109: 1.642581 | C109: 1.058462 | D109: 1.456727 | E109: 0.1582625 | F109: 0.7110327 | G109: 1.526081 | H109: 2.167759 | I109: 4.007921 | J109: 35
A111: numSummary(draw6[,Horz_Err"], | B111: statistics=c("mean", | C111: sd, | D111: IQR, | E111: quantiles), | F111: quantiles=c(0,.25,.5, | G111: .75,1))
B112: mean | C112: sd | D112: IQR | E112: 0 | F112: 0.25 | G112: 0.5 | H112: 0.75 | I112: 1 | J112: n
B113: 1.948125 | C113: 1.035714 | D113: 1.511789 | E113: 0.2024441 | F113: 1.141534 | G113: 1.994282 | H113: 2.653323 | I113: 4.321513 | J113: 35
A115: numSummary(draw7[,Horz_Err"], | B115: statistics=c("mean", | C115: sd, | D115: IQR, | E115: quantiles), | F115: quantiles=c(0,.25,.5, | G115: .75,1))
B116: mean | C116: sd | D116: IQR | E116: 0 | F116: 0.25 | G116: 0.5 | H116: 0.75 | I116: 1 | J116: n
B117: 1.878453 | C117: 1.352918 | D117: 1.369783 | E117: 0.06844129 | F117: 0.9386438 | G117: 1.646297 | H117: 2.308427 | I117: 6.267636 | J117: 35
A119: numSummary(draw8[,Horz_Err"], | B119: statistics=c("mean", | C119: sd, | D119: IQR, | E119: quantiles), | F119: quantiles=c(0,.25,.5, | G119: .75,1))
B120: mean | C120: sd | D120: IQR | E120: 0 | F120: 0.25 | G120: 0.5 | H120: 0.75 | I120: 1 | J120: n
B121: 1.903857 | C121: 1.342965 | D121: 1.591934 | E121: 0.1418838 | F121: 0.9021902 | G121: 1.824984 | H121: 2.494124 | I121: 7.01105 | J121: 35
A123: numSummary(draw9[,Horz_Err"], | B123: statistics=c("mean", | C123: sd, | D123: IQR, | E123: quantiles), | F123: quantiles=c(0,.25,.5, | G123: .75,1))
B124: mean | C124: sd | D124: IQR | E124: 0 | F124: 0.25 | G124: 0.5 | H124: 0.75 | I124: 1 | J124: n
B125: 1.940899 | C125: 1.434705 | D125: 1.762852 | E125: 0.05802594 | F125: 0.9228307 | G125: 1.660786 | H125: 2.685682 | I125: 6.792503 | J125: 35
A127: numSummary(draw10[,Horz_Err"], | B127: statistics=c("mean", | C127: sd, | D127: IQR, | E127: quantiles), | F127: quantiles=c(0,.25,.5, | G127: .75,1))
B128: mean | C128: sd | D128: IQR | E128: 0 | F128: 0.25 | G128: 0.5 | H128: 0.75 | I128: 1 | J128: n
B129: 2.023362 | C129: 1.482595 | D129: 1.663911 | E129: 0.06084415 | F129: 0.9448351 | G129: 1.856432 | H129: 2.608746 | I129: 5.810534 | J129: 35
A131: numSummary(draw11[,Horz_Err"], | B131: statistics=c("mean", | C131: sd, | D131: IQR, | E131: quantiles), | F131: quantiles=c(0,.25,.5, | G131: .75,1))
B132: mean | C132: sd | D132: IQR | E132: 0 | F132: 0.25 | G132: 0.5 | H132: 0.75 | I132: 1 | J132: n
B133: 1.974588 | C133: 1.246437 | D133: 1.548526 | E133: 0.1738108 | F133: 1.111554 | G133: 1.584725 | H133: 2.660079 | I133: 5.153809 | J133: 35
A135: numSummary(draw12[,Horz_Err"], | B135: statistics=c("mean", | C135: sd, | D135: IQR, | E135: quantiles), | F135: quantiles=c(0,.25,.5, | G135: .75,1))
B136: mean | C136: sd | D136: IQR | E136: 0 | F136: 0.25 | G136: 0.5 | H136: 0.75 | I136: 1 | J136: n
B137: 1.819257 | C137: 1.359176 | D137: 1.928781 | E137: 0.01549871 | F137: 0.7836067 | G137: 1.488513 | H137: 2.712387 | I137: 5.069991 | J137: 35
A139: numSummary(draw13[,Horz_Err"], | B139: statistics=c("mean", | C139: sd, | D139: IQR, | E139: quantiles), | F139: quantiles=c(0,.25,.5, | G139: .75,1))
B140: mean | C140: sd | D140: IQR | E140: 0 | F140: 0.25 | G140: 0.5 | H140: 0.75 | I140: 1 | J140: n
B141: 1.844084 | C141: 1.186545 | D141: 1.527569 | E141: 0.03774136 | F141: 0.9902387 | G141: 1.753762 | H141: 2.517807 | I141: 5.620446 | J141: 35
A143: numSummary(draw14[,Horz_Err"], | B143: statistics=c("mean", | C143: sd, | D143: IQR, | E143: quantiles), | F143: quantiles=c(0,.25,.5, | G143: .75,1))
B144: mean | C144: sd | D144: IQR | E144: 0 | F144: 0.25 | G144: 0.5 | H144: 0.75 | I144: 1 | J144: n
B145: 1.768004 | C145: 1.235568 | D145: 1.545159 | E145: 0.2432978 | F145: 0.8857443 | G145: 1.632129 | H145: 2.430903 | I145: 5.804202 | J145: 35
A147: numSummary(draw15[,Horz_Err"], | B147: statistics=c("mean", | C147: sd, | D147: IQR, | E147: quantiles), | F147: quantiles=c(0,.25,.5, | G147: .75,1))
B148: mean | C148: sd | D148: IQR | E148: 0 | F148: 0.25 | G148: 0.5 | H148: 0.75 | I148: 1 | J148: n
B149: 1.85387 | C149: 1.062851 | D149: 1.47006 | E149: 0.1918124 | F149: 1.033157 | G149: 1.770253 | H149: 2.503217 | I149: 4.415304 | J149: 35
A151: numSummary(draw16[,Horz_Err"], | B151: statistics=c("mean", | C151: sd, | D151: IQR, | E151: quantiles), | F151: quantiles=c(0,.25,.5, | G151: .75,1))
B152: mean | C152: sd | D152: IQR | E152: 0 | F152: 0.25 | G152: 0.5 | H152: 0.75 | I152: 1 | J152: n
B153: 1.710781 | C153: 1.239296 | D153: 1.768057 | E153: 0.1054012 | F153: 0.7280623 | G153: 1.522389 | H153: 2.496119 | I153: 5.088994 | J153: 35
A155: numSummary(draw17[,Horz_Err"], | B155: statistics=c("mean", | C155: sd, | D155: IQR, | E155: quantiles), | F155: quantiles=c(0,.25,.5, | G155: .75,1))
B156: mean | C156: sd | D156: IQR | E156: 0 | F156: 0.25 | G156: 0.5 | H156: 0.75 | I156: 1 | J156: n
B157: 1.753238 | C157: 1.256978 | D157: 1.976216 | E157: 0.1774588 | F157: 0.76718 | G157: 1.458491 | H157: 2.743396 | I157: 4.890833 | J157: 35
A159: numSummary(draw18[,Horz_Err"], | B159: statistics=c("mean", | C159: sd, | D159: IQR, | E159: quantiles), | F159: quantiles=c(0,.25,.5, | G159: .75,1))
B160: mean | C160: sd | D160: IQR | E160: 0 | F160: 0.25 | G160: 0.5 | H160: 0.75 | I160: 1 | J160: n
B161: 1.724166 | C161: 1.117832 | D161: 1.311647 | E161: 0.04173979 | F161: 0.9671626 | G161: 1.515059 | H161: 2.27881 | I161: 4.396394 | J161: 35
A163: numSummary(draw19[,Horz_Err"], | B163: statistics=c("mean", | C163: sd, | D163: IQR, | E163: quantiles), | F163: quantiles=c(0,.25,.5, | G163: .75,1))
B164: mean | C164: sd | D164: IQR | E164: 0 | F164: 0.25 | G164: 0.5 | H164: 0.75 | I164: 1 | J164: n
...

Sheet R_results
A1: Comparison of all hubs: Mean Horz err vs Occup Time
A2: Has been recomputed for hub 8A with correct coordinates for 8APIN 9-29-15
A3: > numSummary(gps[,"Horz_Err"], groups=gps$Occup_time, statistics=c("mean", "sd", "IQR", "quantiles"), quantiles=c(0,.25,.5,.75,1))
A4: mean sd IQR 0% 25% 50% 75% 100% data:n
B5: mean | C5: sd | D5: IQR | E5: 0 | F5: 0.25 | G5: 0.5 | H5: 0.75 | I5: 1 | J5: data:n
A6: 10min | B6: 2.027381 | C6: 1.243282 | D6: 1.730645 | E6: 0.03725869 | F6: 1.1000018 | G6: 1.822985 | H6: 2.830647 | I6: 7.477724 | J6: 990
A7: 15min | B7: 1.841868 | C7: 1.177135 | D7: 1.579576 | E7: 0.01549871 | F7: 0.9487468 | G7: 1.637012 | H7: 2.528323 | I7: 7.01105 | J7: 990
A8: 20min | B8: 1.75418 | C8: 1.144255 | D8: 1.494655 | E8: 0.01707659 | F8: 0.8914329 | G8: 1.552629 | H8: 2.386088 | I8: 8.368707 | J8: 990
A9: 30min | B9: 1.636081 | C9: 1.046401 | D9: 1.406324 | E9: 0.03249015 | F9: 0.8364797 | G9: 1.498687 | H9: 2.242803 | I9: 5.351582 | J9: 990
A10: 5min | B10: 2.24911 | C10: 1.438314 | D10: 1.892238 | E10: 0.0295061 | F10: 1.1433516 | G10: 1.965488 | H10: 3.03559 | I10: 9.591515 | J10: 990
A13: Paired test of occupation times
A15: > Occup_vs_err <- aov(Horz_Err ~ Occup_time, data=gps)
A17: > summary(Occup_vs_err)
A18: Df Sum Sq Mean Sq F value Pr(>F)
A19: Occup_time 4 237 59.36 40.35 <2e-16 ***
A20: Residuals 4945 7274 1.47
A21: ---
A22: Signif. codes: 0 '***' 0.001 '**' 0.01 '*' 0.05 '.' 0.1 ' ' 1
A24: > with(gps, numSummary(Horz_Err, groups=Occup_time, statistics=c("mean", "sd")))
A25: mean sd data:n
A26: 10min 2.042045 1.242420 990
A27: 15min 1.846862 1.169762 990
... A37: plot(confint(.Pairs)) })
B40: Simultaneous Tests for General Linear Hypotheses
A42: Multiple Comparisons of Means: Tukey Contrasts
A45: Fit: aov(formula = Horz_Err ~ Occup_time, data = gps)
A47: Linear Hypotheses:
A48: Estimate Std. Error t value Pr(>|t|)
A49: 15min - 10min == 0 -0.19518 0.05451 -3.580 0.003121 **
A50: 20min - 10min == 0 -0.28187 0.05451 -5.171 < 1e-04 ***
A51: 30min - 10min == 0 -0.40972 0.05451 -7.516 < 1e-04 ***
A52: 5min - 10min == 0 0.21279 0.05451 3.903 0.000909 ***
A53: 20min - 15min == 0 -0.08669 0.05451 -1.590 0.503712
A54: 30min - 15min == 0 -0.21454 0.05451 -3.935 0.000781 ***
A55: 5min - 15min == 0 0.40798 0.05451 7.484 < 1e-04 ***
A56: 30min - 20min == 0 -0.12785 0.05451 -2.345 0.130886
... A61: (Adjusted p values reported -- single-step method)
B64: Simultaneous Confidence Intervals
A66: Multiple Comparisons of Means: Tukey Contrasts
A69: Fit: aov(formula = Horz_Err ~ Occup_time, data = gps)
A71: Quantile = 2.7286
A72: 95% family-wise confidence level
A75: Linear Hypotheses:
A76: Estimate lwr upr
A77: 15min - 10min == 0 -0.19518 -0.34393 -0.04643
A78: 20min - 10min == 0 -0.28187 -0.43062 -0.13312
A79: 30min - 10min == 0 -0.40972 -0.55847 -0.26097
A80: 5min - 10min == 0 0.21279 0.06404 0.36154
A81: 20min - 15min == 0 -0.08669 -0.23544 0.06206
A82: 30min - 15min == 0 -0.21454 -0.36329 -0.06579
... A117: plot(confint(.Pairs))})
B122: Simultaneous Tests for General Linear Hypotheses
A124: Multiple Comparisons of Means: Tukey Contrasts
A127: Fit: aov(formula = max ~ Occup_time, data = sum_gps)
A129: Linear Hypotheses:
A130: Estimate Std. Error t value Pr(>|t|)
A131: 15min - 10min == 0 -0.6070 0.3560 -1.705 0.433749
A132: 20min - 10min == 0 -0.8785 0.3560 -2.468 0.103258
A133: 30min - 10min == 0 -1.5194 0.3560 -4.268 0.000341 ***
A134: 5min - 10min == 0 1.0777 0.3560 3.027 0.023669 *
A135: 20min - 15min == 0 -0.2715 0.3560 -0.763 0.940872
A136: 30min - 15min == 0 -0.9124 0.3560 -2.563 0.082300 .
A137: 5min - 15min == 0 1.6847 0.3560 4.732 < 1e-04 ***
A138: 30min - 20min == 0 -0.6409 0.3560 -1.800 0.377044
... A143: (Adjusted p values reported -- single-step method)
B146: Simultaneous Confidence Intervals
A148: Multiple Comparisons of Means: Tukey Contrasts
A151: Fit: aov(formula = max ~ Occup_time, data = sum_gps)
A153: Quantile = 2.7595
A154: 95% family-wise confidence level
A157: Linear Hypotheses:
A158: Estimate lwr upr
A159: 15min - 10min == 0 -0.60699 -1.58933 0.37535
A160: 20min - 10min == 0 -0.87846 -1.86080 0.10388
A161: 30min - 10min == 0 -1.51936 -2.50170 -0.53702
A162: 5min - 10min == 0 1.07771 0.09536 2.06005
A163: 20min - 15min == 0 -0.27147 -1.25381 0.71087
A164: 30min - 15min == 0 -0.91237 -1.89471 0.06997
... A180: numSummary(gps[,"Horz_Err"],groups=gps$Hub_OT,statistics=c("mean",sd,IQR,quantiles),quantiles=c(0,.25,.5,.75,1))
A182: Hub | B182: Occup_time | C182: mean | D182: sd | E182: IQR | F182: 0 | G182: 0.25 | H182: 0.5 | I182: 0.75 | J182: 1 | K182: data:n
A183: 10A_10min | B183: 10min | C183: 1.9715049 | D183: 1.3288588 | E183: 2.1955166 | F183: 0.28145978 | G183: 0.87857626 | H183: 1.5950786 | I183: 3.0740928 | J183: 4.469617 | K183: 30
A184: 11A_10min | B184: 10min | C184: 2.9683052 | D184: 0.86772892 | E184: 1.4943381 | F184: 1.1734901 | G184: 2.1498678 | H184: 3.1664919 | I184: 3.6442059 | J184: 4.3525133 | K184: 30
A185: 12A_10min | B185: 10min | C185: 2.8322124 | D185: 0.91890283 | E185: 1.1735647 | F185: 1.0968037 | G185: 2.3413543 | H185: 2.797267 | I185: 3.514919 | J185: 4.6801104 | K185: 30
A186: 13A_10min | B186: 10min | C186: 3.0902242 | D186: 0.6969308 | E186: 1.0109139 | F186: 1.6872972 | G186: 2.5834113 | H186: 3.1369175 | I186: 3.5943251 | J186: 4.3531578 | K186: 30
A187: 14A_10min | B187: 10min | C187: 1.9485534 | D187: 0.85239863 | E187: 1.2085294 | F187: 0.22180354 | G187: 1.318697 | H187: 1.9662798 | I187: 2.5272264 | J187: 3.9375284 | K187: 30
A188: 15A_10min | B188: 10min | C188: 1.9187102 | D188: 1.1185283 | E188: 1.0472706 | F188: 0.68130478 | G188: 1.1137915 | H188: 1.7292901 | I188: 2.1610622 | J188: 5.8570614 | K188: 30
A189: 16A_10min | B189: 10min | C189: 2.1033676 | D189: 0.94217105 | E189: 0.51083013 | F189: 0.40767464 | G189: 1.7671059 | H189: 2.0463703 | I189: 2.2779361 | J189: 3.8593529 | K189: 30
A190: 17A_10min | B190: 10min | C190: 1.6578131 | D190: 0.66906989 | E190: 0.68706962 | F190: 0.23687932 | G190: 1.2598114 | H190: 1.6984161 | I190: 1.946881 | J190: 3.2015667 | K190: 30
A191: 21A_10min | B191: 10min | C191: 1.7297528 | D191: 0.66399975 | E191: 0.95207805 | F191: 0.40568215 | G191: 1.2656729 | H191: 1.5748969 | I191: 2.217751 | J191: 2.8908365 | K191: 30
A192: 22A_10min | B192: 10min | C192: 1.7075314 | D192: 0.89092701 | E192: 1.5681205 | F192: 0.50834241 | G192: 0.9339212 | H192: 1.4471384 | I192: 2.5020417 | J192: 3.4397248 | K192: 30
A193: 24A_10min | B193: 10min | C193: 2.0827044 | D193: 0.7663806 | E193: 0.91618424 | F193: 0.75239738 | G193: 1.5519721 | H193: 1.879585 | I193: 2.4681563 | J193: 3.6031051 | K193: 30
A194: 26A_10min | B194: 10min | C194: 0.4806633 | D194: 0.29582235 | E194: 0.08667457 | F194: 0.19164605 | G194: 0.35425367 | H194: 0.3965248 | I194: 0.4409282 | J194: 1.6727833 | K194: 30
... A347: T6P8_5min | B347: 5min | C347: 2.7695915 | D347: 0.96128446 | E347: 1.3067844 | F347: 1.0144677 | G347: 2.1789887 | H347: 2.6280327 | I347: 3.4857731 | J347: 4.997181 | K347: 30
A351: Comparisons of GeoXH and Triumph1 1-hr mean errors
A353: > numSummary(Geo_vs_TR1[,c("Geo_Horz_Err", "TR1_Horz_Err")], statistics=c("mean", "sd", "IQR", "quantiles"),
A354: + quantiles=c(0,.25,.5,.75,1))
B355: mean | C355: sd | D355: IQR | E355: 0 | F355: 0.25 | G355: 0.5 | H355: 0.75 | I355: 1 | J355: n
A356: Geo_Horz_Err | B356: 1.445727 | C356: 0.9481233 | D356: 1.1437223 | E356: 0.09720705 | F356: 0.7808723 | G356: 1.2823515 | H356: 1.924595 | I356: 4.005705 | J356: 33
A357: TR1_Horz_Err | B357: 0.8724171 | C357: 0.5349082 | D357: 0.8885353 | E357: 0.06879426 | F357: 0.4286272 | G357: 0.9900393 | H357: 1.317163 | I357: 1.84062 | J357: 33
A359: > with(Geo_vs_TR1, (t.test(Geo_Horz_Err, TR1_Horz_Err, alternative='greater', conf.level=.95, paired=TRUE)))
...

Sheet 5min_all_by_hub
A1: 5 min sub-samples from 37 one-hr occupation rover files
A2: PFO Auto/Smart
A3: CPXF GNSS basestation data used
A5: Corr Type | B5: Datafile | C5: Unfilt Pos | D5: GNSS Height | E5: Vert Prec | F5: Horz Prec | G5: Std Dev | H5: Northing | I5: Easting | J5: X_2013_TR1 | K5: Y_2013_TR1 | L5: Abs_X_diff | M5: Abs_Y_diff | N5: Horz Err (m) | O5: Horz Err^2 | P5: Hub
A6: Postprocessed Code | B6: 10A_300_1.cor | C6: 301 | D6: 319.88 | E6: 0.3 | F6: 0.2 | G6: 1.614417 | H6: 5189791.8 | I6: 487962.22 | J6: =VLOOKUP($B6,'Hub coords'!$A$14:$E$119,4,TRUE) -> 487964.07 | K6: =VLOOKUP($B6,'Hub coords'!$A$14:$E$119,5,TRUE) -> 5189790.6 | L6: =ABS(J6-I6) -> 1.8484 | M6: =ABS(K6-H6) -> 1.1945 | N6: =SQRT(L6^2+M6^2) -> 2.2007755 | O6: =N6*N6 -> 4.8434128 | P6: =VLOOKUP(B6,'Hub coords'!$A$14:$E$118,1,TRUE) -> 10A
A7: Postprocessed Carrier Float | B7: 10A_300_10.cor | C7: 301 | D7: 332.856 | E7: 0.4 | F7: 0.3 | G7: 1.642587 | H7: 5189789.4 | I7: 487962.3 | J7: =VLOOKUP($B7,'Hub coords'!$A$14:$E$119,4,TRUE) -> 487964.07 | K7: =VLOOKUP($B7,'Hub coords'!$A$14:$E$119,5,TRUE) -> 5189790.6 | L7: =ABS(J7-I7) -> 1.7724 | M7: =ABS(K7-H7) -> 1.1535 | N7: =SQRT(L7^2+M7^2) -> 2.1147019 | O7: =N7*N7 -> 4.471964 | P7: =VLOOKUP(B7,'Hub coords'!$A$14:$E$118,1,TRUE) -> 10A | R7: Bin | S7: Frequency
A8: Postprocessed Code | B8: 10A_300_11.cor | C8: 301 | D8: 331.938 | E8: 0.3 | F8: 0.3 | G8: 1.844443 | H8: 5189794.2 | I8: 487966.55 | J8: =VLOOKUP($B8,'Hub coords'!$A$14:$E$119,4,TRUE) -> 487964.07 | K8: =VLOOKUP($B8,'Hub coords'!$A$14:$E$119,5,TRUE) -> 5189790.6 | L8: =ABS(J8-I8) -> 2.4836 | M8: =ABS(K8-H8) -> 3.6035 | N8: =SQRT(L8^2+M8^2) -> 4.376469 | O8: =N8*N8 -> 19.153481 | P8: =VLOOKUP(B8,'Hub coords'!$A$14:$E$118,1,TRUE) -> 10A | R8: 1 | S8: 4
A9: Postprocessed Code | B9: 10A_300_12.cor | C9: 301 | D9: 330.391 | E9: 0.3 | F9: 0.2 | G9: 1.725333 | H9: 5189790.5 | I9: 487964.7 | J9: =VLOOKUP($B9,'Hub coords'!$A$14:$E$119,4,TRUE) -> 487964.07 | K9: =VLOOKUP($B9,'Hub coords'!$A$14:$E$119,5,TRUE) -> 5189790.6 | L9: =ABS(J9-I9) -> 0.6316 | M9: =ABS(K9-H9) -> 0.1045 | N9: =SQRT(L9^2+M9^2) -> 0.64018654 | O9: =N9*N9 -> 0.40983881 | P9: =VLOOKUP(B9,'Hub coords'!$A$14:$E$118,1,TRUE) -> 10A | R9: 2 | S9: 9
A10: Postprocessed Carrier Float | B10: 10A_300_13.cor | C10: 301 | D10: 332.419 | E10: 0.6 | F10: 0.6 | G10: 1.661018 | H10: 5189790.4 | I10: 487962.84 | J10: =VLOOKUP($B10,'Hub coords'!$A$14:$E$119,4,TRUE) -> 487964.07 | K10: =VLOOKUP($B10,'Hub coords'!$A$14:$E$119,5,TRUE) -> 5189790.6 | L10: =ABS(J10-I10) -> 1.2344 | M10: =ABS(K10-H10) -> 0.1665 | N10: =SQRT(L10^2+M10^2) -> 1.2455784 | O10: =N10*N10 -> 1.5514656 | P10: =VLOOKUP(B10,'Hub coords'!$A$14:$E$118,1,TRUE) -> 10A | R10: 3 | S10: 9
A11: Postprocessed Code | B11: 10A_300_14.cor | C11: 301 | D11: 320.986 | E11: 0.3 | F11: 0.3 | G11: 1.844451 | H11: 5189791.2 | I11: 487965.34 | J11: =VLOOKUP($B11,'Hub coords'!$A$14:$E$119,4,TRUE) -> 487964.07 | K11: =VLOOKUP($B11,'Hub coords'!$A$14:$E$119,5,TRUE) -> 5189790.6 | L11: =ABS(J11-I11) -> 1.2706 | M11: =ABS(K11-H11) -> 0.5925 | N11: =SQRT(L11^2+M11^2) -> 1.401956 | O11: =N11*N11 -> 1.9654806 | P11: =VLOOKUP(B11,'Hub coords'!$A$14:$E$118,1,TRUE) -> 10A | R11: 4 | S11: 5
A12: Postprocessed Carrier Float | B12: 10A_300_15.cor | C12: 301 | D12: 320.682 | E12: 0.3 | F12: 0.2 | G12: 2.596281 | H12: 5189791.3 | I12: 487964.53 | J12: =VLOOKUP($B12,'Hub coords'!$A$14:$E$119,4,TRUE) -> 487964.07 | K12: =VLOOKUP($B12,'Hub coords'!$A$14:$E$119,5,TRUE) -> 5189790.6 | L12: =ABS(J12-I12) -> 0.4576 | M12: =ABS(K12-H12) -> 0.6945 | N12: =SQRT(L12^2+M12^2) -> 0.83170188 | O12: =N12*N12 -> 0.69172801 | P12: =VLOOKUP(B12,'Hub coords'!$A$14:$E$118,1,TRUE) -> 10A | R12: 5 | S12: 2
A13: Postprocessed Carrier Float | B13: 10A_300_16.cor | C13: 301 | D13: 329.246 | E13: 0.4 | F13: 0.3 | G13: 1.555643 | H13: 5189793.7 | I13: 487965.31 | J13: =VLOOKUP($B13,'Hub coords'!$A$14:$E$119,4,TRUE) -> 487964.07 | K13: =VLOOKUP($B13,'Hub coords'!$A$14:$E$119,5,TRUE) -> 5189790.6 | L13: =ABS(J13-I13) -> 1.2366 | M13: =ABS(K13-H13) -> 3.1155 | N13: =SQRT(L13^2+M13^2) -> 3.3519427 | O13: =N13*N13 -> 11.23552 | P13: =VLOOKUP(B13,'Hub coords'!$A$14:$E$118,1,TRUE) -> 10A | R13: 6 | S13: 0
A14: Postprocessed Code | B14: 10A_300_17.cor | C14: 301 | D14: 329.537 | E14: 0.4 | F14: 0.4 | G14: 1.334382 | H14: 5189788.8 | I14: 487963.77 | J14: =VLOOKUP($B14,'Hub coords'!$A$14:$E$119,4,TRUE) -> 487964.07 | K14: =VLOOKUP($B14,'Hub coords'!$A$14:$E$119,5,TRUE) -> 5189790.6 | L14: =ABS(J14-I14) -> 0.3034 | M14: =ABS(K14-H14) -> 1.7695 | N14: =SQRT(L14^2+M14^2) -> 1.7953222 | O14: =N14*N14 -> 3.2231818 | P14: =VLOOKUP(B14,'Hub coords'!$A$14:$E$118,1,TRUE) -> 10A | R14: 7 | S14: 0
A15: Postprocessed Code | B15: 10A_300_18.cor | C15: 301 | D15: 323.56 | E15: 0.2 | F15: 0.1 | G15: 0.94767 | H15: 5189788.8 | I15: 487964.19 | J15: =VLOOKUP($B15,'Hub coords'!$A$14:$E$119,4,TRUE) -> 487964.07 | K15: =VLOOKUP($B15,'Hub coords'!$A$14:$E$119,5,TRUE) -> 5189790.6 | L15: =ABS(J15-I15) -> 0.1176 | M15: =ABS(K15-H15) -> 1.7355 | N15: =SQRT(L15^2+M15^2) -> 1.7394798 | O15: =N15*N15 -> 3.02579 | P15: =VLOOKUP(B15,'Hub coords'!$A$14:$E$118,1,TRUE) -> 10A | R15: 8 | S15: 1
A16: Postprocessed Code | B16: 10A_300_19.cor | C16: 301 | D16: 331.915 | E16: 0.3 | F16: 0.3 | G16: 1.752945 | H16: 5189789.3 | I16: 487964.13 | J16: =VLOOKUP($B16,'Hub coords'!$A$14:$E$119,4,TRUE) -> 487964.07 | K16: =VLOOKUP($B16,'Hub coords'!$A$14:$E$119,5,TRUE) -> 5189790.6 | L16: =ABS(J16-I16) -> 0.0626 | M16: =ABS(K16-H16) -> 1.3025 | N16: =SQRT(L16^2+M16^2) -> 1.3040035 | O16: =N16*N16 -> 1.700425 | P16: =VLOOKUP(B16,'Hub coords'!$A$14:$E$118,1,TRUE) -> 10A | R16: More | S16: 0
A17: Postprocessed Carrier Float | B17: 10A_300_2.cor | C17: 301 | D17: 325.02 | E17: 0.7 | F17: 0.5 | G17: 1.576651 | H17: 5189794.3 | I17: 487962.35 | J17: =VLOOKUP($B17,'Hub coords'!$A$14:$E$119,4,TRUE) -> 487964.07 | K17: =VLOOKUP($B17,'Hub coords'!$A$14:$E$119,5,TRUE) -> 5189790.6 | L17: =ABS(J17-I17) -> 1.7174 | M17: =ABS(K17-H17) -> 3.7635 | N17: =SQRT(L17^2+M17^2) -> 4.1368339 | O17: =N17*N17 -> 17.113395 | P17: =VLOOKUP(B17,'Hub coords'!$A$14:$E$118,1,TRUE) -> 10A | S17: =SUM(S8:S16) -> 30
A18: Postprocessed Carrier Float | B18: 10A_300_20.cor | C18: 301 | D18: 326.456 | E18: 0.3 | F18: 0.6 | G18: 1.557723 | H18: 5189790.4 | I18: 487961.26 | J18: =VLOOKUP($B18,'Hub coords'!$A$14:$E$119,4,TRUE) -> 487964.07 | K18: =VLOOKUP($B18,'Hub coords'!$A$14:$E$119,5,TRUE) -> 5189790.6 | L18: =ABS(J18-I18) -> 2.8074 | M18: =ABS(K18-H18) -> 0.2155 | N18: =SQRT(L18^2+M18^2) -> 2.8156589 | O18: =N18*N18 -> 7.927935 | P18: =VLOOKUP(B18,'Hub coords'!$A$14:$E$118,1,TRUE) -> 10A
A19: Postprocessed Code | B19: 10A_300_21.cor | C19: 301 | D19: 327.308 | E19: 0.2 | F19: 0.1 | G19: 1.541265 | H19: 5189788.1 | I19: 487963.95 | J19: =VLOOKUP($B19,'Hub coords'!$A$14:$E$119,4,TRUE) -> 487964.07 | K19: =VLOOKUP($B19,'Hub coords'!$A$14:$E$119,5,TRUE) -> 5189790.6 | L19: =ABS(J19-I19) -> 0.1194 | M19: =ABS(K19-H19) -> 2.4565 | N19: =SQRT(L19^2+M19^2) -> 2.4594001 | O19: =N19*N19 -> 6.0486486 | P19: =VLOOKUP(B19,'Hub coords'!$A$14:$E$118,1,TRUE) -> 10A
A20: Postprocessed Code | B20: 10A_300_22.cor | C20: 301 | D20: 326.277 | E20: 0.4 | F20: 0.5 | G20: 1.732355 | H20: 5189793 | I20: 487965.68 | J20: =VLOOKUP($B20,'Hub coords'!$A$14:$E$119,4,TRUE) -> 487964.07 | K20: =VLOOKUP($B20,'Hub coords'!$A$14:$E$119,5,TRUE) -> 5189790.6 | L20: =ABS(J20-I20) -> 1.6146 | M20: =ABS(K20-H20) -> 2.4005 | N20: =SQRT(L20^2+M20^2) -> 2.89298 | O20: =N20*N20 -> 8.3693334 | P20: =VLOOKUP(B20,'Hub coords'!$A$14:$E$118,1,TRUE) -> 10A
A21: Postprocessed Code | B21: 10A_300_23.cor | C21: 301 | D21: 324.811 | E21: 0.3 | F21: 0.3 | G21: 1.642565 | H21: 5189792.4 | I21: 487967.3 | J21: =VLOOKUP($B21,'Hub coords'!$A$14:$E$119,4,TRUE) -> 487964.07 | K21: =VLOOKUP($B21,'Hub coords'!$A$14:$E$119,5,TRUE) -> 5189790.6 | L21: =ABS(J21-I21) -> 3.2276 | M21: =ABS(K21-H21) -> 1.7855 | N21: =SQRT(L21^2+M21^2) -> 3.6885515 | O21: =N21*N21 -> 13.605412 | P21: =VLOOKUP(B21,'Hub coords'!$A$14:$E$118,1,TRUE) -> 10A
A22: Postprocessed Code | B22: 10A_300_24.cor | C22: 301 | D22: 322.539 | E22: 1.3 | F22: 1.5 | G22: 1.78472 | H22: 5189792.1 | I22: 487965.15 | J22: =VLOOKUP($B22,'Hub coords'!$A$14:$E$119,4,TRUE) -> 487964.07 | K22: =VLOOKUP($B22,'Hub coords'!$A$14:$E$119,5,TRUE) -> 5189790.6 | L22: =ABS(J22-I22) -> 1.0756 | M22: =ABS(K22-H22) -> 1.4805 | N22: =SQRT(L22^2+M22^2) -> 1.8299715 | O22: =N22*N22 -> 3.3487956 | P22: =VLOOKUP(B22,'Hub coords'!$A$14:$E$118,1,TRUE) -> 10A
A23: Postprocessed Code | B23: 10A_300_25.cor | C23: 301 | D23: 330.496 | E23: 0.7 | F23: 0.9 | G23: 3.23525 | H23: 5189797.4 | I23: 487966.29 | J23: =VLOOKUP($B23,'Hub coords'!$A$14:$E$119,4,TRUE) -> 487964.07 | K23: =VLOOKUP($B23,'Hub coords'!$A$14:$E$119,5,TRUE) -> 5189790.6 | L23: =ABS(J23-I23) -> 2.2206 | M23: =ABS(K23-H23) -> 6.8425 | N23: =SQRT(L23^2+M23^2) -> 7.1938078 | O23: =N23*N23 -> 51.750871 | P23: =VLOOKUP(B23,'Hub coords'!$A$14:$E$118,1,TRUE) -> 10A
A24: Postprocessed Code | B24: 10A_300_26.cor | C24: 301 | D24: 321.577 | E24: 0.3 | F24: 0.2 | G24: 1.704726 | H24: 5189790.7 | I24: 487962.94 | J24: =VLOOKUP($B24,'Hub coords'!$A$14:$E$119,4,TRUE) -> 487964.07 | K24: =VLOOKUP($B24,'Hub coords'!$A$14:$E$119,5,TRUE) -> 5189790.6 | L24: =ABS(J24-I24) -> 1.1334 | M24: =ABS(K24-H24) -> 0.1615 | N24: =SQRT(L24^2+M24^2) -> 1.1448484 | O24: =N24*N24 -> 1.3106778 | P24: =VLOOKUP(B24,'Hub coords'!$A$14:$E$118,1,TRUE) -> 10A
A25: Postprocessed Code | B25: 10A_300_27.cor | C25: 301 | D25: 325.674 | E25: 0.4 | F25: 0.4 | G25: 1.573674 | H25: 5189792.9 | I25: 487965.22 | J25: =VLOOKUP($B25,'Hub coords'!$A$14:$E$119,4,TRUE) -> 487964.07 | K25: =VLOOKUP($B25,'Hub coords'!$A$14:$E$119,5,TRUE) -> 5189790.6 | L25: =ABS(J25-I25) -> 1.1466 | M25: =ABS(K25-H25) -> 2.3055 | N25: =SQRT(L25^2+M25^2) -> 2.5748829 | O25: =N25*N25 -> 6.6300218 | P25: =VLOOKUP(B25,'Hub coords'!$A$14:$E$118,1,TRUE) -> 10A
A26: Postprocessed Code | B26: 10A_300_28.cor | C26: 301 | D26: 324.492 | E26: 0.2 | F26: 0.2 | G26: 1.857781 | H26: 5189793.6 | I26: 487966.16 | J26: =VLOOKUP($B26,'Hub coords'!$A$14:$E$119,4,TRUE) -> 487964.07 | K26: =VLOOKUP($B26,'Hub coords'!$A$14:$E$119,5,TRUE) -> 5189790.6 | L26: =ABS(J26-I26) -> 2.0926 | M26: =ABS(K26-H26) -> 3.0155 | N26: =SQRT(L26^2+M26^2) -> 3.6704516 | O26: =N26*N26 -> 13.472215 | P26: =VLOOKUP(B26,'Hub coords'!$A$14:$E$118,1,TRUE) -> 10A
A27: Postprocessed Carrier Float | B27: 10A_300_29.cor | C27: 301 | D27: 331.467 | E27: 0.2 | F27: 0.2 | G27: 1.747234 | H27: 5189790.9 | I27: 487964.66 | J27: =VLOOKUP($B27,'Hub coords'!$A$14:$E$119,4,TRUE) -> 487964.07 | K27: =VLOOKUP($B27,'Hub coords'!$A$14:$E$119,5,TRUE) -> 5189790.6 | L27: =ABS(J27-I27) -> 0.5886 | M27: =ABS(K27-H27) -> 0.2835 | N27: =SQRT(L27^2+M27^2) -> 0.65331632 | O27: =N27*N27 -> 0.42682221 | P27: =VLOOKUP(B27,'Hub coords'!$A$14:$E$118,1,TRUE) -> 10A
A28: Postprocessed Code | B28: 10A_300_3.cor | C28: 301 | D28: 322.731 | E28: 0.3 | F28: 0.3 | G28: 1.962714 | H28: 5189792.5 | I28: 487963.97 | J28: =VLOOKUP($B28,'Hub coords'!$A$14:$E$119,4,TRUE) -> 487964.07 | K28: =VLOOKUP($B28,'Hub coords'!$A$14:$E$119,5,TRUE) -> 5189790.6 | L28: =ABS(J28-I28) -> 0.0964 | M28: =ABS(K28-H28) -> 1.9495 | N28: =SQRT(L28^2+M28^2) -> 1.951882 | O28: =N28*N28 -> 3.8098432 | P28: =VLOOKUP(B28,'Hub coords'!$A$14:$E$118,1,TRUE) -> 10A
A29: Postprocessed Code | B29: 10A_300_30.cor | C29: 301 | D29: 326.329 | E29: 0.4 | F29: 0.5 | G29: 1.80751 | H29: 5189790.2 | I29: 487961.68 | J29: =VLOOKUP($B29,'Hub coords'!$A$14:$E$119,4,TRUE) -> 487964.07 | K29: =VLOOKUP($B29,'Hub coords'!$A$14:$E$119,5,TRUE) -> 5189790.6 | L29: =ABS(J29-I29) -> 2.3914 | M29: =ABS(K29-H29) -> 0.3435 | N29: =SQRT(L29^2+M29^2) -> 2.4159442 | O29: =N29*N29 -> 5.8367862 | P29: =VLOOKUP(B29,'Hub coords'!$A$14:$E$118,1,TRUE) -> 10A
A30: Postprocessed Code | B30: 10A_300_4.cor | C30: 301 | D30: 331.667 | E30: 0.4 | F30: 0.4 | G30: 2.355091 | H30: 5189790.5 | I30: 487966.16 | J30: =VLOOKUP($B30,'Hub coords'!$A$14:$E$119,4,TRUE) -> 487964.07 | K30: =VLOOKUP($B30,'Hub coords'!$A$14:$E$119,5,TRUE) -> 5189790.6 | L30: =ABS(J30-I30) -> 2.0876 | M30: =ABS(K30-H30) -> 0.1205 | N30: =SQRT(L30^2+M30^2) -> 2.0910748 | O30: =N30*N30 -> 4.372594 | P30: =VLOOKUP(B30,'Hub coords'!$A$14:$E$118,1,TRUE) -> 10A | R30: Count | S30: =COUNT(C6:C35) -> 30
A31: Postprocessed Code | B31: 10A_300_5.cor | C31: 301 | D31: 327.147 | E31: 0.3 | F31: 0.2 | G31: 2.313123 | H31: 5189791.7 | I31: 487964.8 | J31: =VLOOKUP($B31,'Hub coords'!$A$14:$E$119,4,TRUE) -> 487964.07 | K31: =VLOOKUP($B31,'Hub coords'!$A$14:$E$119,5,TRUE) -> 5189790.6 | L31: =ABS(J31-I31) -> 0.7336 | M31: =ABS(K31-H31) -> 1.1345 | N31: =SQRT(L31^2+M31^2) -> 1.3510215 | O31: =N31*N31 -> 1.8252592 | P31: =VLOOKUP(B31,'Hub coords'!$A$14:$E$118,1,TRUE) -> 10A | R31: Ave | S31: =AVERAGE(N6:N35) -> 2.4166226
A32: Postprocessed Carrier Float | B32: 10A_300_6.cor | C32: 301 | D32: 319.92 | E32: 0.4 | F32: 0.2 | G32: 1.501855 | H32: 5189793.2 | I32: 487964.19 | J32: =VLOOKUP($B32,'Hub coords'!$A$14:$E$119,4,TRUE) -> 487964.07 | K32: =VLOOKUP($B32,'Hub coords'!$A$14:$E$119,5,TRUE) -> 5189790.6 | L32: =ABS(J32-I32) -> 0.1166 | M32: =ABS(K32-H32) -> 2.6005 | N32: =SQRT(L32^2+M32^2) -> 2.6031127 | O32: =N32*N32 -> 6.7761958 | P32: =VLOOKUP(B32,'Hub coords'!$A$14:$E$118,1,TRUE) -> 10A | R32: Stdev | S32: =_xlfn.STDEV.S(N6:N35) -> 1.4041635
A33: Postprocessed Code | B33: 10A_300_7.cor | C33: 301 | D33: 323.661 | E33: 0.7 | F33: 0.5 | G33: 1.622748 | H33: 5189791.2 | I33: 487964.16 | J33: =VLOOKUP($B33,'Hub coords'!$A$14:$E$119,4,TRUE) -> 487964.07 | K33: =VLOOKUP($B33,'Hub coords'!$A$14:$E$119,5,TRUE) -> 5189790.6 | L33: =ABS(J33-I33) -> 0.0926 | M33: =ABS(K33-H33) -> 0.6635 | N33: =SQRT(L33^2+M33^2) -> 0.6699306 | O33: =N33*N33 -> 0.44880701 | P33: =VLOOKUP(B33,'Hub coords'!$A$14:$E$118,1,TRUE) -> 10A | R33: Min | S33: =MIN(N6:N35) -> 0.64018654
A34: Postprocessed Code | B34: 10A_300_8.cor | C34: 301 | D34: 323.121 | E34: 0.3 | F34: 0.4 | G34: 2.063396 | H34: 5189793.4 | I34: 487966.39 | J34: =VLOOKUP($B34,'Hub coords'!$A$14:$E$119,4,TRUE) -> 487964.07 | K34: =VLOOKUP($B34,'Hub coords'!$A$14:$E$119,5,TRUE) -> 5189790.6 | L34: =ABS(J34-I34) -> 2.3206 | M34: =ABS(K34-H34) -> 2.8095 | N34: =SQRT(L34^2+M34^2) -> 3.6439641 | O34: =N34*N34 -> 13.278475 | P34: =VLOOKUP(B34,'Hub coords'!$A$14:$E$118,1,TRUE) -> 10A | R34: Max | S34: =MAX(N6:N35) -> 7.1938078
A35: Postprocessed Code | B35: 10A_300_9.cor | C35: 301 | D35: 325.616 | E35: 0.5 | F35: 0.3 | G35: 1.918088 | H35: 5189793 | I35: 487966.84 | J35: =VLOOKUP($B35,'Hub coords'!$A$14:$E$119,4,TRUE) -> 487964.07 | K35: =VLOOKUP($B35,'Hub coords'!$A$14:$E$119,5,TRUE) -> 5189790.6 | L35: =ABS(J35-I35) -> 2.7726 | M35: =ABS(K35-H35) -> 2.4635 | N35: =SQRT(L35^2+M35^2) -> 3.7089275 | O35: =N35*N35 -> 13.756143 | P35: =VLOOKUP(B35,'Hub coords'!$A$14:$E$118,1,TRUE) -> 10A | R35: RMSE | S35: =SQRT(SUM(O6:O35)/S30) -> 2.7831668
A36: Postprocessed Code | B36: 11A_300_1.cor | C36: 301 | D36: 328.51 | E36: 1 | F36: 0.9 | G36: 1.753477 | H36: 5189691 | I36: 487979.57 | J36: =VLOOKUP($B36,'Hub coords'!$A$14:$E$119,4,TRUE) -> 487977.94 | K36: =VLOOKUP($B36,'Hub coords'!$A$14:$E$119,5,TRUE) -> 5189689.1 | L36: =ABS(J36-I36) -> 1.6326 | M36: =ABS(K36-H36) -> 1.8595 | N36: =SQRT(L36^2+M36^2) -> 2.4744945 | O36: =N36*N36 -> 6.123123 | P36: =VLOOKUP(B36,'Hub coords'!$A$14:$E$118,1,TRUE) -> 11A
A37: Postprocessed Code | B37: 11A_300_10.cor | C37: 301 | D37: 326.85 | E37: 0.4 | F37: 0.4 | G37: 1.845896 | H37: 5189689 | I37: 487981.75 | J37: =VLOOKUP($B37,'Hub coords'!$A$14:$E$119,4,TRUE) -> 487977.94 | K37: =VLOOKUP($B37,'Hub coords'!$A$14:$E$119,5,TRUE) -> 5189689.1 | L37: =ABS(J37-I37) -> 3.8116 | M37: =ABS(K37-H37) -> 0.0795 | N37: =SQRT(L37^2+M37^2) -> 3.812429 | O37: =N37*N37 -> 14.534615 | P37: =VLOOKUP(B37,'Hub coords'!$A$14:$E$118,1,TRUE) -> 11A | R37: Bin | S37: Frequency
A38: Postprocessed Carrier Float | B38: 11A_300_11.cor | C38: 301 | D38: 324.299 | E38: 0.3 | F38: 0.3 | G38: 2.217457 | H38: 5189687.7 | I38: 487981.72 | J38: =VLOOKUP($B38,'Hub coords'!$A$14:$E$119,4,TRUE) -> 487977.94 | K38: =VLOOKUP($B38,'Hub coords'!$A$14:$E$119,5,TRUE) -> 5189689.1 | L38: =ABS(J38-I38) -> 3.7766 | M38: =ABS(K38-H38) -> 1.4175 | N38: =SQRT(L38^2+M38^2) -> 4.0338584 | O38: =N38*N38 -> 16.272014 | P38: =VLOOKUP(B38,'Hub coords'!$A$14:$E$118,1,TRUE) -> 11A | R38: 1 | S38: 0
A39: Postprocessed Code | B39: 11A_300_12.cor | C39: 301 | D39: 326.963 | E39: 1.4 | F39: 1.1 | G39: 2.000385 | H39: 5189686.2 | I39: 487982.5 | J39: =VLOOKUP($B39,'Hub coords'!$A$14:$E$119,4,TRUE) -> 487977.94 | K39: =VLOOKUP($B39,'Hub coords'!$A$14:$E$119,5,TRUE) -> 5189689.1 | L39: =ABS(J39-I39) -> 4.5576 | M39: =ABS(K39-H39) -> 2.9405 | N39: =SQRT(L39^2+M39^2) -> 5.4238601 | O39: =N39*N39 -> 29.418258 | P39: =VLOOKUP(B39,'Hub coords'!$A$14:$E$118,1,TRUE) -> 11A | R39: 2 | S39: 3
A40: Postprocessed Code | B40: 11A_300_13.cor | C40: 301 | D40: 330.833 | E40: 0.9 | F40: 0.6 | G40: 1.82486 | H40: 5189688.3 | I40: 487980.87 | J40: =VLOOKUP($B40,'Hub coords'!$A$14:$E$119,4,TRUE) -> 487977.94 | K40: =VLOOKUP($B40,'Hub coords'!$A$14:$E$119,5,TRUE) -> 5189689.1 | L40: =ABS(J40-I40) -> 2.9286 | M40: =ABS(K40-H40) -> 0.8345 | N40: =SQRT(L40^2+M40^2) -> 3.0451746 | O40: =N40*N40 -> 9.2730882 | P40: =VLOOKUP(B40,'Hub coords'!$A$14:$E$118,1,TRUE) -> 11A | R40: 3 | S40: 4
A41: Postprocessed Code | B41: 11A_300_14.cor | C41: 301 | D41: 325.596 | E41: 0.6 | F41: 0.4 | G41: 1.752549 | H41: 5189687.4 | I41: 487978.82 | J41: =VLOOKUP($B41,'Hub coords'!$A$14:$E$119,4,TRUE) -> 487977.94 | K41: =VLOOKUP($B41,'Hub coords'!$A$14:$E$119,5,TRUE) -> 5189689.1 | L41: =ABS(J41-I41) -> 0.8766 | M41: =ABS(K41-H41) -> 1.7405 | N41: =SQRT(L41^2+M41^2) -> 1.9487862 | O41: =N41*N41 -> 3.7977678 | P41: =VLOOKUP(B41,'Hub coords'!$A$14:$E$118,1,TRUE) -> 11A | R41: 4 | S41: 10
A42: Postprocessed Carrier Float | B42: 11A_300_15.cor | C42: 301 | D42: 322.835 | E42: 0.4 | F42: 0.3 | G42: 2.541982 | H42: 5189687.8 | I42: 487981.28 | J42: =VLOOKUP($B42,'Hub coords'!$A$14:$E$119,4,TRUE) -> 487977.94 | K42: =VLOOKUP($B42,'Hub coords'!$A$14:$E$119,5,TRUE) -> 5189689.1 | L42: =ABS(J42-I42) -> 3.3416 | M42: =ABS(K42-H42) -> 1.3645 | N42: =SQRT(L42^2+M42^2) -> 3.609453 | O42: =N42*N42 -> 13.028151 | P42: =VLOOKUP(B42,'Hub coords'!$A$14:$E$118,1,TRUE) -> 11A | R42: 5 | S42: 8
A43: Postprocessed Code | B43: 11A_300_16.cor | C43: 301 | D43: 326.243 | E43: 0.3 | F43: 0.3 | G43: 1.736586 | H43: 5189692.2 | I43: 487982.37 | J43: =VLOOKUP($B43,'Hub coords'!$A$14:$E$119,4,TRUE) -> 487977.94 | K43: =VLOOKUP($B43,'Hub coords'!$A$14:$E$119,5,TRUE) -> 5189689.1 | L43: =ABS(J43-I43) -> 4.4316 | M43: =ABS(K43-H43) -> 3.0795 | N43: =SQRT(L43^2+M43^2) -> 5.3965173 | O43: =N43*N43 -> 29.122399 | P43: =VLOOKUP(B43,'Hub coords'!$A$14:$E$118,1,TRUE) -> 11A | R43: 6 | S43: 4
A44: Postprocessed Code | B44: 11A_300_17.cor | C44: 301 | D44: 326.924 | E44: 0.5 | F44: 0.5 | G44: 1.874993 | H44: 5189691.1 | I44: 487980.85 | J44: =VLOOKUP($B44,'Hub coords'!$A$14:$E$119,4,TRUE) -> 487977.94 | K44: =VLOOKUP($B44,'Hub coords'!$A$14:$E$119,5,TRUE) -> 5189689.1 | L44: =ABS(J44-I44) -> 2.9066 | M44: =ABS(K44-H44) -> 1.9855 | N44: =SQRT(L44^2+M44^2) -> 3.520019 | O44: =N44*N44 -> 12.390534 | P44: =VLOOKUP(B44,'Hub coords'!$A$14:$E$118,1,TRUE) -> 11A | R44: 7 | S44: 0
A45: Postprocessed Code | B45: 11A_300_18.cor | C45: 301 | D45: 328.004 | E45: 0.2 | F45: 0.2 | G45: 1.355346 | H45: 5189688.9 | I45: 487982.28 | J45: =VLOOKUP($B45,'Hub coords'!$A$14:$E$119,4,TRUE) -> 487977.94 | K45: =VLOOKUP($B45,'Hub coords'!$A$14:$E$119,5,TRUE) -> 5189689.1 | L45: =ABS(J45-I45) -> 4.3446 | M45: =ABS(K45-H45) -> 0.2665 | N45: =SQRT(L45^2+M45^2) -> 4.3527659 | O45: =N45*N45 -> 18.946571 | P45: =VLOOKUP(B45,'Hub coords'!$A$14:$E$118,1,TRUE) -> 11A | R45: 8 | S45: 1
A46: Postprocessed Carrier Float | B46: 11A_300_19.cor | C46: 301 | D46: 328.577 | E46: 0.6 | F46: 0.6 | G46: 2.060869 | H46: 5189688.1 | I46: 487980.72 | J46: =VLOOKUP($B46,'Hub coords'!$A$14:$E$119,4,TRUE) -> 487977.94 | K46: =VLOOKUP($B46,'Hub coords'!$A$14:$E$119,5,TRUE) -> 5189689.1 | L46: =ABS(J46-I46) -> 2.7786 | M46: =ABS(K46-H46) -> 0.9905 | N46: =SQRT(L46^2+M46^2) -> 2.9498658 | O46: =N46*N46 -> 8.7017082 | P46: =VLOOKUP(B46,'Hub coords'!$A$14:$E$118,1,TRUE) -> 11A | R46: More | S46: 0
A47: Postprocessed Code | B47: 11A_300_2.cor | C47: 301 | D47: 327.207 | E47: 0.8 | F47: 0.3 | G47: 2.057769 | H47: 5189686.9 | I47: 487980.95 | J47: =VLOOKUP($B47,'Hub coords'!$A$14:$E$119,4,TRUE) -> 487977.94 | K47: =VLOOKUP($B47,'Hub coords'!$A$14:$E$119,5,TRUE) -> 5189689.1 | L47: =ABS(J47-I47) -> 3.0086 | M47: =ABS(K47-H47) -> 2.2465 | N47: =SQRT(L47^2+M47^2) -> 3.7547884 | O47: =N47*N47 -> 14.098436 | P47: =VLOOKUP(B47,'Hub coords'!$A$14:$E$118,1,TRUE) -> 11A | S47: =SUM(S38:S46) -> 30
A48: Postprocessed Code | B48: 11A_300_20.cor | C48: 301 | D48: 329.906 | E48: 0.1 | F48: 0.1 | G48: 3.081483 | H48: 5189687.5 | I48: 487978.23 | J48: =VLOOKUP($B48,'Hub coords'!$A$14:$E$119,4,TRUE) -> 487977.94 | K48: =VLOOKUP($B48,'Hub coords'!$A$14:$E$119,5,TRUE) -> 5189689.1 | L48: =ABS(J48-I48) -> 0.2866 | M48: =ABS(K48-H48) -> 1.5795 | N48: =SQRT(L48^2+M48^2) -> 1.6052912 | O48: =N48*N48 -> 2.5769598 | P48: =VLOOKUP(B48,'Hub coords'!$A$14:$E$118,1,TRUE) -> 11A
A49: Postprocessed Code | B49: 11A_300_21.cor | C49: 301 | D49: 323.716 | E49: 0.4 | F49: 0.3 | G49: 1.325 | H49: 5189688.1 | I49: 487981.48 | J49: =VLOOKUP($B49,'Hub coords'!$A$14:$E$119,4,TRUE) -> 487977.94 | K49: =VLOOKUP($B49,'Hub coords'!$A$14:$E$119,5,TRUE) -> 5189689.1 | L49: =ABS(J49-I49) -> 3.5376 | M49: =ABS(K49-H49) -> 1.0645 | N49: =SQRT(L49^2+M49^2) -> 3.6942894 | O49: =N49*N49 -> 13.647774 | P49: =VLOOKUP(B49,'Hub coords'!$A$14:$E$118,1,TRUE) -> 11A
A50: Postprocessed Carrier Float | B50: 11A_300_22.cor | C50: 301 | D50: 327.84 | E50: 0.3 | F50: 0.3 | G50: 1.765097 | H50: 5189690.4 | I50: 487980.01 | J50: =VLOOKUP($B50,'Hub coords'!$A$14:$E$119,4,TRUE) -> 487977.94 | K50: =VLOOKUP($B50,'Hub coords'!$A$14:$E$119,5,TRUE) -> 5189689.1 | L50: =ABS(J50-I50) -> 2.0666 | M50: =ABS(K50-H50) -> 1.2615 | N50: =SQRT(L50^2+M50^2) -> 2.4212017 | O50: =N50*N50 -> 5.8622178 | P50: =VLOOKUP(B50,'Hub coords'!$A$14:$E$118,1,TRUE) -> 11A
A51: Postprocessed Code | B51: 11A_300_23.cor | C51: 301 | D51: 330.056 | E51: 1 | F51: 0.9 | G51: 2.995856 | H51: 5189689.2 | I51: 487980.1 | J51: =VLOOKUP($B51,'Hub coords'!$A$14:$E$119,4,TRUE) -> 487977.94 | K51: =VLOOKUP($B51,'Hub coords'!$A$14:$E$119,5,TRUE) -> 5189689.1 | L51: =ABS(J51-I51) -> 2.1626 | M51: =ABS(K51-H51) -> 0.1035 | N51: =SQRT(L51^2+M51^2) -> 2.1650753 | O51: =N51*N51 -> 4.687551 | P51: =VLOOKUP(B51,'Hub coords'!$A$14:$E$118,1,TRUE) -> 11A
A52: Postprocessed Code | B52: 11A_300_24.cor | C52: 301 | D52: 329.241 | E52: 2.1 | F52: 1.6 | G52: 6.430244 | H52: 5189686.2 | I52: 487980.76 | J52: =VLOOKUP($B52,'Hub coords'!$A$14:$E$119,4,TRUE) -> 487977.94 | K52: =VLOOKUP($B52,'Hub coords'!$A$14:$E$119,5,TRUE) -> 5189689.1 | L52: =ABS(J52-I52) -> 2.8196 | M52: =ABS(K52-H52) -> 2.9055 | N52: =SQRT(L52^2+M52^2) -> 4.0487127 | O52: =N52*N52 -> 16.392074 | P52: =VLOOKUP(B52,'Hub coords'!$A$14:$E$118,1,TRUE) -> 11A
A53: Postprocessed Code | B53: 11A_300_25.cor | C53: 301 | D53: 328.93 | E53: 0.2 | F53: 0.2 | G53: 2.76296 | H53: 5189688.7 | I53: 487978.92 | J53: =VLOOKUP($B53,'Hub coords'!$A$14:$E$119,4,TRUE) -> 487977.94 | K53: =VLOOKUP($B53,'Hub coords'!$A$14:$E$119,5,TRUE) -> 5189689.1 | L53: =ABS(J53-I53) -> 0.9856 | M53: =ABS(K53-H53) -> 0.4435 | N53: =SQRT(L53^2+M53^2) -> 1.0807866 | O53: =N53*N53 -> 1.1680996 | P53: =VLOOKUP(B53,'Hub coords'!$A$14:$E$118,1,TRUE) -> 11A
A54: Postprocessed Code | B54: 11A_300_26.cor | C54: 301 | D54: 328.018 | E54: 0.7 | F54: 0.5 | G54: 4.385221 | H54: 5189688.1 | I54: 487981.93 | J54: =VLOOKUP($B54,'Hub coords'!$A$14:$E$119,4,TRUE) -> 487977.94 | K54: =VLOOKUP($B54,'Hub coords'!$A$14:$E$119,5,TRUE) -> 5189689.1 | L54: =ABS(J54-I54) -> 3.9956 | M54: =ABS(K54-H54) -> 1.0325 | N54: =SQRT(L54^2+M54^2) -> 4.1268481 | O54: =N54*N54 -> 17.030876 | P54: =VLOOKUP(B54,'Hub coords'!$A$14:$E$118,1,TRUE) -> 11A
A55: Postprocessed Code | B55: 11A_300_27.cor | C55: 301 | D55: 327.792 | E55: 0.3 | F55: 0.2 | G55: 1.248849 | H55: 5189688.8 | I55: 487982.08 | J55: =VLOOKUP($B55,'Hub coords'!$A$14:$E$119,4,TRUE) -> 487977.94 | K55: =VLOOKUP($B55,'Hub coords'!$A$14:$E$119,5,TRUE) -> 5189689.1 | L55: =ABS(J55-I55) -> 4.1426 | M55: =ABS(K55-H55) -> 0.3265 | N55: =SQRT(L55^2+M55^2) -> 4.1554467 | O55: =N55*N55 -> 17.267737 | P55: =VLOOKUP(B55,'Hub coords'!$A$14:$E$118,1,TRUE) -> 11A
A56: Postprocessed Carrier Float | B56: 11A_300_28.cor | C56: 301 | D56: 330.555 | E56: 0.3 | F56: 0.4 | G56: 1.573423 | H56: 5189689.6 | I56: 487979.7 | J56: =VLOOKUP($B56,'Hub coords'!$A$14:$E$119,4,TRUE) -> 487977.94 | K56: =VLOOKUP($B56,'Hub coords'!$A$14:$E$119,5,TRUE) -> 5189689.1 | L56: =ABS(J56-I56) -> 1.7616 | M56: =ABS(K56-H56) -> 0.5105 | N56: =SQRT(L56^2+M56^2) -> 1.8340787 | O56: =N56*N56 -> 3.3638448 | P56: =VLOOKUP(B56,'Hub coords'!$A$14:$E$118,1,TRUE) -> 11A
A57: Postprocessed Code | B57: 11A_300_29.cor | C57: 301 | D57: 325.618 | E57: 0.4 | F57: 0.3 | G57: 3.909725 | H57: 5189688.3 | I57: 487981.6 | J57: =VLOOKUP($B57,'Hub coords'!$A$14:$E$119,4,TRUE) -> 487977.94 | K57: =VLOOKUP($B57,'Hub coords'!$A$14:$E$119,5,TRUE) -> 5189689.1 | L57: =ABS(J57-I57) -> 3.6646 | M57: =ABS(K57-H57) -> 0.7975 | N57: =SQRT(L57^2+M57^2) -> 3.7503732 | O57: =N57*N57 -> 14.065299 | P57: =VLOOKUP(B57,'Hub coords'!$A$14:$E$118,1,TRUE) -> 11A
A58: Postprocessed Carrier Float | B58: 11A_300_3.cor | C58: 301 | D58: 328.518 | E58: 0.3 | F58: 0.2 | G58: 1.41616 | H58: 5189688.8 | I58: 487982.02 | J58: =VLOOKUP($B58,'Hub coords'!$A$14:$E$119,4,TRUE) -> 487977.94 | K58: =VLOOKUP($B58,'Hub coords'!$A$14:$E$119,5,TRUE) -> 5189689.1 | L58: =ABS(J58-I58) -> 4.0756 | M58: =ABS(K58-H58) -> 0.2915 | N58: =SQRT(L58^2+M58^2) -> 4.0860112 | O58: =N58*N58 -> 16.695488 | P58: =VLOOKUP(B58,'Hub coords'!$A$14:$E$118,1,TRUE) -> 11A
A59: Postprocessed Code | B59: 11A_300_30.cor | C59: 301 | D59: 329.295 | E59: 0.3 | F59: 0.2 | G59: 1.562582 | H59: 5189690 | I59: 487981.97 | J59: =VLOOKUP($B59,'Hub coords'!$A$14:$E$119,4,TRUE) -> 487977.94 | K59: =VLOOKUP($B59,'Hub coords'!$A$14:$E$119,5,TRUE) -> 5189689.1 | L59: =ABS(J59-I59) -> 4.0306 | M59: =ABS(K59-H59) -> 0.8345 | N59: =SQRT(L59^2+M59^2) -> 4.1160815 | O59: =N59*N59 -> 16.942127 | P59: =VLOOKUP(B59,'Hub coords'!$A$14:$E$118,1,TRUE) -> 11A
A60: Postprocessed Code | B60: 11A_300_4.cor | C60: 301 | D60: 325.826 | E60: 0.4 | F60: 0.3 | G60: 2.009868 | H60: 5189690.8 | I60: 487980.79 | J60: =VLOOKUP($B60,'Hub coords'!$A$14:$E$119,4,TRUE) -> 487977.94 | K60: =VLOOKUP($B60,'Hub coords'!$A$14:$E$119,5,TRUE) -> 5189689.1 | L60: =ABS(J60-I60) -> 2.8526 | M60: =ABS(K60-H60) -> 1.7105 | N60: =SQRT(L60^2+M60^2) -> 3.3261294 | O60: =N60*N60 -> 11.063137 | P60: =VLOOKUP(B60,'Hub coords'!$A$14:$E$118,1,TRUE) -> 11A | R60: Count | S60: =COUNT(C36:C65) -> 30
A61: Postprocessed Carrier Float | B61: 11A_300_5.cor | C61: 301 | D61: 323.851 | E61: 0.3 | F61: 0.4 | G61: 2.7566 | H61: 5189687.9 | I61: 487981.9 | J61: =VLOOKUP($B61,'Hub coords'!$A$14:$E$119,4,TRUE) -> 487977.94 | K61: =VLOOKUP($B61,'Hub coords'!$A$14:$E$119,5,TRUE) -> 5189689.1 | L61: =ABS(J61-I61) -> 3.9606 | M61: =ABS(K61-H61) -> 1.2015 | N61: =SQRT(L61^2+M61^2) -> 4.1388349 | O61: =N61*N61 -> 17.129955 | P61: =VLOOKUP(B61,'Hub coords'!$A$14:$E$118,1,TRUE) -> 11A | R61: Ave | S61: =AVERAGE(N36:N65) -> 3.6595288
A62: Postprocessed Carrier Float | B62: 11A_300_6.cor | C62: 301 | D62: 328.241 | E62: 0.8 | F62: 0.6 | G62: 2.498459 | H62: 5189684.5 | I62: 487983.21 | J62: =VLOOKUP($B62,'Hub coords'!$A$14:$E$119,4,TRUE) -> 487977.94 | K62: =VLOOKUP($B62,'Hub coords'!$A$14:$E$119,5,TRUE) -> 5189689.1 | L62: =ABS(J62-I62) -> 5.2726 | M62: =ABS(K62-H62) -> 4.5745 | N62: =SQRT(L62^2+M62^2) -> 6.980427 | O62: =N62*N62 -> 48.726361 | P62: =VLOOKUP(B62,'Hub coords'!$A$14:$E$118,1,TRUE) -> 11A | R62: Stdev | S62: =_xlfn.STDEV.S(N36:N65) -> 1.2882399
A63: Postprocessed Carrier Float | B63: 11A_300_7.cor | C63: 301 | D63: 327.754 | E63: 2 | F63: 1.1 | G63: 2.15914 | H63: 5189685.9 | I63: 487982.04 | J63: =VLOOKUP($B63,'Hub coords'!$A$14:$E$119,4,TRUE) -> 487977.94 | K63: =VLOOKUP($B63,'Hub coords'!$A$14:$E$119,5,TRUE) -> 5189689.1 | L63: =ABS(J63-I63) -> 4.1036 | M63: =ABS(K63-H63) -> 3.1865 | N63: =SQRT(L63^2+M63^2) -> 5.1955091 | O63: =N63*N63 -> 26.993315 | P63: =VLOOKUP(B63,'Hub coords'!$A$14:$E$118,1,TRUE) -> 11A | R63: Min | S63: =MIN(N36:N65) -> 1.0807866
A64: Postprocessed Carrier Float | B64: 11A_300_8.cor | C64: 301 | D64: 328.823 | E64: 0.3 | F64: 0.3 | G64: 2.241095 | H64: 5189692.6 | I64: 487982.12 | J64: =VLOOKUP($B64,'Hub coords'!$A$14:$E$119,4,TRUE) -> 487977.94 | K64: =VLOOKUP($B64,'Hub coords'!$A$14:$E$119,5,TRUE) -> 5189689.1 | L64: =ABS(J64-I64) -> 4.1766 | M64: =ABS(K64-H64) -> 3.5205 | N64: =SQRT(L64^2+M64^2) -> 5.4624086 | O64: =N64*N64 -> 29.837908 | P64: =VLOOKUP(B64,'Hub coords'!$A$14:$E$118,1,TRUE) -> 11A | R64: Max | S64: =MAX(N36:N65) -> 6.980427
A65: Postprocessed Code | B65: 11A_300_9.cor | C65: 301 | D65: 323.525 | E65: 0.3 | F65: 0.3 | G65: 1.375818 | H65: 5189688.7 | I65: 487981.19 | J65: =VLOOKUP($B65,'Hub coords'!$A$14:$E$119,4,TRUE) -> 487977.94 | K65: =VLOOKUP($B65,'Hub coords'!$A$14:$E$119,5,TRUE) -> 5189689.1 | L65: =ABS(J65-I65) -> 3.2466 | M65: =ABS(K65-H65) -> 0.4405 | N65: =SQRT(L65^2+M65^2) -> 3.2763473 | O65: =N65*N65 -> 10.734452 | P65: =VLOOKUP(B65,'Hub coords'!$A$14:$E$118,1,TRUE) -> 11A | R65: RMSE | S65: =SQRT(SUM(O36:O65)/S60) -> 3.8725179
A66: Postprocessed Code | B66: 12A_300_1.cor | C66: 301 | D66: 333.768 | E66: 0.5 | F66: 0.4 | G66: 1.879534 | H66: 5189683.3 | I66: 487924.47 | J66: =VLOOKUP($B66,'Hub coords'!$A$14:$E$119,4,TRUE) -> 487922.22 | K66: =VLOOKUP($B66,'Hub coords'!$A$14:$E$119,5,TRUE) -> 5189684.1 | L66: =ABS(J66-I66) -> 2.2496 | M66: =ABS(K66-H66) -> 0.7305 | N66: =SQRT(L66^2+M66^2) -> 2.3652337 | O66: =N66*N66 -> 5.5943304 | P66: =VLOOKUP(B66,'Hub coords'!$A$14:$E$118,1,TRUE) -> 12A
A67: Postprocessed Code | B67: 12A_300_10.cor | C67: 301 | D67: 351.496 | E67: 0.4 | F67: 0.4 | G67: 1.720313 | H67: 5189684.7 | I67: 487923.81 | J67: =VLOOKUP($B67,'Hub coords'!$A$14:$E$119,4,TRUE) -> 487922.22 | K67: =VLOOKUP($B67,'Hub coords'!$A$14:$E$119,5,TRUE) -> 5189684.1 | L67: =ABS(J67-I67) -> 1.5876 | M67: =ABS(K67-H67) -> 0.5825 | N67: =SQRT(L67^2+M67^2) -> 1.6910884 | O67: =N67*N67 -> 2.85978 | P67: =VLOOKUP(B67,'Hub coords'!$A$14:$E$118,1,TRUE) -> 12A | R67: Bin | S67: Frequency
A68: Postprocessed Code | B68: 12A_300_11.cor | C68: 301 | D68: 351.448 | E68: 0.4 | F68: 0.4 | G68: 1.895181 | H68: 5189684.7 | I68: 487923.87 | J68: =VLOOKUP($B68,'Hub coords'!$A$14:$E$119,4,TRUE) -> 487922.22 | K68: =VLOOKUP($B68,'Hub coords'!$A$14:$E$119,5,TRUE) -> 5189684.1 | L68: =ABS(J68-I68) -> 1.6486 | M68: =ABS(K68-H68) -> 0.6075 | N68: =SQRT(L68^2+M68^2) -> 1.7569685 | O68: =N68*N68 -> 3.0869382 | P68: =VLOOKUP(B68,'Hub coords'!$A$14:$E$118,1,TRUE) -> 12A | R68: 1 | S68: 0
A69: Postprocessed Carrier Float | B69: 12A_300_12.cor | C69: 301 | D69: 335.331 | E69: 0.3 | F69: 0.3 | G69: 1.655645 | H69: 5189685.1 | I69: 487926.66 | J69: =VLOOKUP($B69,'Hub coords'!$A$14:$E$119,4,TRUE) -> 487922.22 | K69: =VLOOKUP($B69,'Hub coords'!$A$14:$E$119,5,TRUE) -> 5189684.1 | L69: =ABS(J69-I69) -> 4.4346 | M69: =ABS(K69-H69) -> 1.0235 | N69: =SQRT(L69^2+M69^2) -> 4.5511789 | O69: =N69*N69 -> 20.713229 | P69: =VLOOKUP(B69,'Hub coords'!$A$14:$E$118,1,TRUE) -> 12A | R69: 2 | S69: 4
A70: Postprocessed Carrier Float | B70: 12A_300_13.cor | C70: 301 | D70: 334.552 | E70: 0.5 | F70: 0.3 | G70: 1.571232 | H70: 5189682.6 | I70: 487925.15 | J70: =VLOOKUP($B70,'Hub coords'!$A$14:$E$119,4,TRUE) -> 487922.22 | K70: =VLOOKUP($B70,'Hub coords'!$A$14:$E$119,5,TRUE) -> 5189684.1 | L70: =ABS(J70-I70) -> 2.9306 | M70: =ABS(K70-H70) -> 1.4445 | N70: =SQRT(L70^2+M70^2) -> 3.2672613 | O70: =N70*N70 -> 10.674997 | P70: =VLOOKUP(B70,'Hub coords'!$A$14:$E$118,1,TRUE) -> 12A | R70: 3 | S70: 14
A71: Postprocessed Carrier Float | B71: 12A_300_14.cor | C71: 301 | D71: 337.37 | E71: 0.3 | F71: 0.2 | G71: 1.805207 | H71: 5189681.1 | I71: 487924.97 | J71: =VLOOKUP($B71,'Hub coords'!$A$14:$E$119,4,TRUE) -> 487922.22 | K71: =VLOOKUP($B71,'Hub coords'!$A$14:$E$119,5,TRUE) -> 5189684.1 | L71: =ABS(J71-I71) -> 2.7446 | M71: =ABS(K71-H71) -> 2.9935 | N71: =SQRT(L71^2+M71^2) -> 4.0612648 | O71: =N71*N71 -> 16.493871 | P71: =VLOOKUP(B71,'Hub coords'!$A$14:$E$118,1,TRUE) -> 12A | R71: 4 | S71: 6
A72: Postprocessed Carrier Float | B72: 12A_300_15.cor | C72: 301 | D72: 336.324 | E72: 0.4 | F72: 0.4 | G72: 1.694269 | H72: 5189682.5 | I72: 487923.89 | J72: =VLOOKUP($B72,'Hub coords'!$A$14:$E$119,4,TRUE) -> 487922.22 | K72: =VLOOKUP($B72,'Hub coords'!$A$14:$E$119,5,TRUE) -> 5189684.1 | L72: =ABS(J72-I72) -> 1.6706 | M72: =ABS(K72-H72) -> 1.6225 | N72: =SQRT(L72^2+M72^2) -> 2.3288217 | O72: =N72*N72 -> 5.4234106 | P72: =VLOOKUP(B72,'Hub coords'!$A$14:$E$118,1,TRUE) -> 12A | R72: 5 | S72: 6
A73: Postprocessed Code | B73: 12A_300_16.cor | C73: 301 | D73: 344.889 | E73: 0.4 | F73: 0.2 | G73: 1.222316 | H73: 5189686.4 | I73: 487923.29 | J73: =VLOOKUP($B73,'Hub coords'!$A$14:$E$119,4,TRUE) -> 487922.22 | K73: =VLOOKUP($B73,'Hub coords'!$A$14:$E$119,5,TRUE) -> 5189684.1 | L73: =ABS(J73-I73) -> 1.0646 | M73: =ABS(K73-H73) -> 2.2735 | N73: =SQRT(L73^2+M73^2) -> 2.5104134 | O73: =N73*N73 -> 6.3021754 | P73: =VLOOKUP(B73,'Hub coords'!$A$14:$E$118,1,TRUE) -> 12A | R73: 6 | S73: 0
A74: Postprocessed Code | B74: 12A_300_17.cor | C74: 301 | D74: 333.313 | E74: 0.5 | F74: 0.3 | G74: 1.381973 | H74: 5189684.1 | I74: 487924.16 | J74: =VLOOKUP($B74,'Hub coords'!$A$14:$E$119,4,TRUE) -> 487922.22 | K74: =VLOOKUP($B74,'Hub coords'!$A$14:$E$119,5,TRUE) -> 5189684.1 | L74: =ABS(J74-I74) -> 1.9326 | M74: =ABS(K74-H74) -> 0.014500001 | N74: =SQRT(L74^2+M74^2) -> 1.9326544 | O74: =N74*N74 -> 3.735153 | P74: =VLOOKUP(B74,'Hub coords'!$A$14:$E$118,1,TRUE) -> 12A | R74: 7 | S74: 0
A75: Postprocessed Code | B75: 12A_300_18.cor | C75: 300 | D75: 330.536 | E75: 0.6 | F75: 0.5 | G75: 1.880411 | H75: 5189683.7 | I75: 487924.52 | J75: =VLOOKUP($B75,'Hub coords'!$A$14:$E$119,4,TRUE) -> 487922.22 | K75: =VLOOKUP($B75,'Hub coords'!$A$14:$E$119,5,TRUE) -> 5189684.1 | L75: =ABS(J75-I75) -> 2.2976 | M75: =ABS(K75-H75) -> 0.4135 | N75: =SQRT(L75^2+M75^2) -> 2.3345124 | O75: =N75*N75 -> 5.449948 | P75: =VLOOKUP(B75,'Hub coords'!$A$14:$E$118,1,TRUE) -> 12A | R75: 8 | S75: 0
A76: Postprocessed Code | B76: 12A_300_19.cor | C76: 301 | D76: 334.052 | E76: 0.4 | F76: 0.2 | G76: 2.107583 | H76: 5189682.7 | I76: 487925.76 | J76: =VLOOKUP($B76,'Hub coords'!$A$14:$E$119,4,TRUE) -> 487922.22 | K76: =VLOOKUP($B76,'Hub coords'!$A$14:$E$119,5,TRUE) -> 5189684.1 | L76: =ABS(J76-I76) -> 3.5406 | M76: =ABS(K76-H76) -> 1.3845 | N76: =SQRT(L76^2+M76^2) -> 3.8016692 | O76: =N76*N76 -> 14.452689 | P76: =VLOOKUP(B76,'Hub coords'!$A$14:$E$118,1,TRUE) -> 12A | R76: More | S76: 0
A77: Postprocessed Carrier Float | B77: 12A_300_2.cor | C77: 301 | D77: 335.678 | E77: 0.4 | F77: 0.3 | G77: 1.659703 | H77: 5189682.3 | I77: 487924.03 | J77: =VLOOKUP($B77,'Hub coords'!$A$14:$E$119,4,TRUE) -> 487922.22 | K77: =VLOOKUP($B77,'Hub coords'!$A$14:$E$119,5,TRUE) -> 5189684.1 | L77: =ABS(J77-I77) -> 1.8026 | M77: =ABS(K77-H77) -> 1.8175 | N77: =SQRT(L77^2+M77^2) -> 2.5598189 | O77: =N77*N77 -> 6.552673 | P77: =VLOOKUP(B77,'Hub coords'!$A$14:$E$118,1,TRUE) -> 12A | S77: =SUM(S68:S76) -> 30
A78: Postprocessed Code | B78: 12A_300_20.cor | C78: 301 | D78: 340.28 | E78: 0.4 | F78: 0.3 | G78: 1.882691 | H78: 5189685.1 | I78: 487924.25 | J78: =VLOOKUP($B78,'Hub coords'!$A$14:$E$119,4,TRUE) -> 487922.22 | K78: =VLOOKUP($B78,'Hub coords'!$A$14:$E$119,5,TRUE) -> 5189684.1 | L78: =ABS(J78-I78) -> 2.0266 | M78: =ABS(K78-H78) -> 0.9785 | N78: =SQRT(L78^2+M78^2) -> 2.2504599 | O78: =N78*N78 -> 5.0645698 | P78: =VLOOKUP(B78,'Hub coords'!$A$14:$E$118,1,TRUE) -> 12A
A79: Postprocessed Code | B79: 12A_300_21.cor | C79: 301 | D79: 332.424 | E79: 0.2 | F79: 0.2 | G79: 1.891308 | H79: 5189685.7 | I79: 487923.56 | J79: =VLOOKUP($B79,'Hub coords'!$A$14:$E$119,4,TRUE) -> 487922.22 | K79: =VLOOKUP($B79,'Hub coords'!$A$14:$E$119,5,TRUE) -> 5189684.1 | L79: =ABS(J79-I79) -> 1.3356 | M79: =ABS(K79-H79) -> 1.6125 | N79: =SQRT(L79^2+M79^2) -> 2.0937965 | O79: =N79*N79 -> 4.3839836 | P79: =VLOOKUP(B79,'Hub coords'!$A$14:$E$118,1,TRUE) -> 12A
A80: Postprocessed Carrier Float | B80: 12A_300_22.cor | C80: 301 | D80: 331.992 | E80: 0.5 | F80: 0.5 | G80: 1.838541 | H80: 5189686 | I80: 487924.42 | J80: =VLOOKUP($B80,'Hub coords'!$A$14:$E$119,4,TRUE) -> 487922.22 | K80: =VLOOKUP($B80,'Hub coords'!$A$14:$E$119,5,TRUE) -> 5189684.1 | L80: =ABS(J80-I80) -> 2.2016 | M80: =ABS(K80-H80) -> 1.9385 | N80: =SQRT(L80^2+M80^2) -> 2.9333982 | O80: =N80*N80 -> 8.6048248 | P80: =VLOOKUP(B80,'Hub coords'!$A$14:$E$118,1,TRUE) -> 12A
A81: Postprocessed Carrier Float | B81: 12A_300_23.cor | C81: 301 | D81: 342.301 | E81: 0.3 | F81: 0.3 | G81: 2.107865 | H81: 5189683.3 | I81: 487926.52 | J81: =VLOOKUP($B81,'Hub coords'!$A$14:$E$119,4,TRUE) -> 487922.22 | K81: =VLOOKUP($B81,'Hub coords'!$A$14:$E$119,5,TRUE) -> 5189684.1 | L81: =ABS(J81-I81) -> 4.2966 | M81: =ABS(K81-H81) -> 0.8055 | N81: =SQRT(L81^2+M81^2) -> 4.3714531 | O81: =N81*N81 -> 19.109602 | P81: =VLOOKUP(B81,'Hub coords'!$A$14:$E$118,1,TRUE) -> 12A
A82: Postprocessed Carrier Float | B82: 12A_300_24.cor | C82: 301 | D82: 339.778 | E82: 0.5 | F82: 0.2 | G82: 1.877167 | H82: 5189684.9 | I82: 487926.92 | J82: =VLOOKUP($B82,'Hub coords'!$A$14:$E$119,4,TRUE) -> 487922.22 | K82: =VLOOKUP($B82,'Hub coords'!$A$14:$E$119,5,TRUE) -> 5189684.1 | L82: =ABS(J82-I82) -> 4.6956 | M82: =ABS(K82-H82) -> 0.8625 | N82: =SQRT(L82^2+M82^2) -> 4.774156 | O82: =N82*N82 -> 22.792566 | P82: =VLOOKUP(B82,'Hub coords'!$A$14:$E$118,1,TRUE) -> 12A
A83: Postprocessed Code | B83: 12A_300_25.cor | C83: 301 | D83: 334.129 | E83: 0.5 | F83: 0.3 | G83: 2.073208 | H83: 5189683 | I83: 487926.04 | J83: =VLOOKUP($B83,'Hub coords'!$A$14:$E$119,4,TRUE) -> 487922.22 | K83: =VLOOKUP($B83,'Hub coords'!$A$14:$E$119,5,TRUE) -> 5189684.1 | L83: =ABS(J83-I83) -> 3.8196 | M83: =ABS(K83-H83) -> 1.1015 | N83: =SQRT(L83^2+M83^2) -> 3.9752543 | O83: =N83*N83 -> 15.802646 | P83: =VLOOKUP(B83,'Hub coords'!$A$14:$E$118,1,TRUE) -> 12A
A84: Postprocessed Code | B84: 12A_300_26.cor | C84: 300 | D84: 333.144 | E84: 0.7 | F84: 0.6 | G84: 1.865467 | H84: 5189683.9 | I84: 487926.25 | J84: =VLOOKUP($B84,'Hub coords'!$A$14:$E$119,4,TRUE) -> 487922.22 | K84: =VLOOKUP($B84,'Hub coords'!$A$14:$E$119,5,TRUE) -> 5189684.1 | L84: =ABS(J84-I84) -> 4.0296 | M84: =ABS(K84-H84) -> 0.1665 | N84: =SQRT(L84^2+M84^2) -> 4.0330384 | O84: =N84*N84 -> 16.265398 | P84: =VLOOKUP(B84,'Hub coords'!$A$14:$E$118,1,TRUE) -> 12A
A85: Postprocessed Carrier Float | B85: 12A_300_27.cor | C85: 301 | D85: 336.331 | E85: 0.4 | F85: 0.3 | G85: 1.563167 | H85: 5189682.2 | I85: 487924.07 | J85: =VLOOKUP($B85,'Hub coords'!$A$14:$E$119,4,TRUE) -> 487922.22 | K85: =VLOOKUP($B85,'Hub coords'!$A$14:$E$119,5,TRUE) -> 5189684.1 | L85: =ABS(J85-I85) -> 1.8476 | M85: =ABS(K85-H85) -> 1.9165 | N85: =SQRT(L85^2+M85^2) -> 2.6620665 | O85: =N85*N85 -> 7.086598 | P85: =VLOOKUP(B85,'Hub coords'!$A$14:$E$118,1,TRUE) -> 12A
A86: Postprocessed Code | B86: 12A_300_28.cor | C86: 301 | D86: 352.827 | E86: 0.2 | F86: 0.2 | G86: 1.956232 | H86: 5189681.8 | I86: 487924.32 | J86: =VLOOKUP($B86,'Hub coords'!$A$14:$E$119,4,TRUE) -> 487922.22 | K86: =VLOOKUP($B86,'Hub coords'!$A$14:$E$119,5,TRUE) -> 5189684.1 | L86: =ABS(J86-I86) -> 2.0946 | M86: =ABS(K86-H86) -> 2.2905 | N86: =SQRT(L86^2+M86^2) -> 3.1038266 | O86: =N86*N86 -> 9.6337394 | P86: =VLOOKUP(B86,'Hub coords'!$A$14:$E$118,1,TRUE) -> 12A
A87: Postprocessed Carrier Float | B87: 12A_300_29.cor | C87: 301 | D87: 335.22 | E87: 0.5 | F87: 0.5 | G87: 1.8916 | H87: 5189682.1 | I87: 487924.09 | J87: =VLOOKUP($B87,'Hub coords'!$A$14:$E$119,4,TRUE) -> 487922.22 | K87: =VLOOKUP($B87,'Hub coords'!$A$14:$E$119,5,TRUE) -> 5189684.1 | L87: =ABS(J87-I87) -> 1.8616 | M87: =ABS(K87-H87) -> 1.9975 | N87: =SQRT(L87^2+M87^2) -> 2.7304873 | O87: =N87*N87 -> 7.4555608 | P87: =VLOOKUP(B87,'Hub coords'!$A$14:$E$118,1,TRUE) -> 12A
A88: Postprocessed Code | B88: 12A_300_3.cor | C88: 301 | D88: 336.472 | E88: 0.3 | F88: 0.3 | G88: 1.65634 | H88: 5189682.2 | I88: 487924.21 | J88: =VLOOKUP($B88,'Hub coords'!$A$14:$E$119,4,TRUE) -> 487922.22 | K88: =VLOOKUP($B88,'Hub coords'!$A$14:$E$119,5,TRUE) -> 5189684.1 | L88: =ABS(J88-I88) -> 1.9836 | M88: =ABS(K88-H88) -> 1.9025 | N88: =SQRT(L88^2+M88^2) -> 2.748486 | O88: =N88*N88 -> 7.5541752 | P88: =VLOOKUP(B88,'Hub coords'!$A$14:$E$118,1,TRUE) -> 12A
A89: Postprocessed Code | B89: 12A_300_30.cor | C89: 301 | D89: 325.595 | E89: 2.9 | F89: 1.9 | G89: 0.724193 | H89: 5189686.9 | I89: 487924.53 | J89: =VLOOKUP($B89,'Hub coords'!$A$14:$E$119,4,TRUE) -> 487922.22 | K89: =VLOOKUP($B89,'Hub coords'!$A$14:$E$119,5,TRUE) -> 5189684.1 | L89: =ABS(J89-I89) -> 2.3056 | M89: =ABS(K89-H89) -> 2.7925 | N89: =SQRT(L89^2+M89^2) -> 3.6213047 | O89: =N89*N89 -> 13.113848 | P89: =VLOOKUP(B89,'Hub coords'!$A$14:$E$118,1,TRUE) -> 12A
A90: Postprocessed Carrier Float | B90: 12A_300_4.cor | C90: 301 | D90: 335.46 | E90: 0.5 | F90: 0.4 | G90: 1.422828 | H90: 5189684.2 | I90: 487924.08 | J90: =VLOOKUP($B90,'Hub coords'!$A$14:$E$119,4,TRUE) -> 487922.22 | K90: =VLOOKUP($B90,'Hub coords'!$A$14:$E$119,5,TRUE) -> 5189684.1 | L90: =ABS(J90-I90) -> 1.8516 | M90: =ABS(K90-H90) -> 0.0775 | N90: =SQRT(L90^2+M90^2) -> 1.8532212 | O90: =N90*N90 -> 3.4344288 | P90: =VLOOKUP(B90,'Hub coords'!$A$14:$E$118,1,TRUE) -> 12A | R90: Count | S90: =COUNT(C66:C95) -> 30
A91: Postprocessed Code | B91: 12A_300_5.cor | C91: 301 | D91: 340.442 | E91: 0.5 | F91: 0.3 | G91: 1.622423 | H91: 5189683 | I91: 487925.31 | J91: =VLOOKUP($B91,'Hub coords'!$A$14:$E$119,4,TRUE) -> 487922.22 | K91: =VLOOKUP($B91,'Hub coords'!$A$14:$E$119,5,TRUE) -> 5189684.1 | L91: =ABS(J91-I91) -> 3.0826 | M91: =ABS(K91-H91) -> 1.0365 | N91: =SQRT(L91^2+M91^2) -> 3.2521923 | O91: =N91*N91 -> 10.576755 | P91: =VLOOKUP(B91,'Hub coords'!$A$14:$E$118,1,TRUE) -> 12A | R91: Ave | S91: =AVERAGE(N66:N95) -> 2.9710648
A92: Postprocessed Carrier Float | B92: 12A_300_6.cor | C92: 301 | D92: 323.585 | E92: 0.5 | F92: 0.5 | G92: 2.18673 | H92: 5189682.5 | I92: 487924.56 | J92: =VLOOKUP($B92,'Hub coords'!$A$14:$E$119,4,TRUE) -> 487922.22 | K92: =VLOOKUP($B92,'Hub coords'!$A$14:$E$119,5,TRUE) -> 5189684.1 | L92: =ABS(J92-I92) -> 2.3326 | M92: =ABS(K92-H92) -> 1.5385 | N92: =SQRT(L92^2+M92^2) -> 2.7942808 | O92: =N92*N92 -> 7.808005 | P92: =VLOOKUP(B92,'Hub coords'!$A$14:$E$118,1,TRUE) -> 12A | R92: Stdev | S92: =_xlfn.STDEV.S(N66:N95) -> 0.85196794
A93: Postprocessed Code | B93: 12A_300_7.cor | C93: 301 | D93: 328.292 | E93: 0.7 | F93: 0.4 | G93: 2.108122 | H93: 5189683.3 | I93: 487924.77 | J93: =VLOOKUP($B93,'Hub coords'!$A$14:$E$119,4,TRUE) -> 487922.22 | K93: =VLOOKUP($B93,'Hub coords'!$A$14:$E$119,5,TRUE) -> 5189684.1 | L93: =ABS(J93-I93) -> 2.5506 | M93: =ABS(K93-H93) -> 0.7795 | N93: =SQRT(L93^2+M93^2) -> 2.6670547 | O93: =N93*N93 -> 7.1131806 | P93: =VLOOKUP(B93,'Hub coords'!$A$14:$E$118,1,TRUE) -> 12A | R93: Min | S93: =MIN(N66:N95) -> 1.6910884
A94: Postprocessed Code | B94: 12A_300_8.cor | C94: 301 | D94: 333.516 | E94: 0.3 | F94: 0.2 | G94: 2.39544 | H94: 5189681.6 | I94: 487924.31 | J94: =VLOOKUP($B94,'Hub coords'!$A$14:$E$119,4,TRUE) -> 487922.22 | K94: =VLOOKUP($B94,'Hub coords'!$A$14:$E$119,5,TRUE) -> 5189684.1 | L94: =ABS(J94-I94) -> 2.0866 | M94: =ABS(K94-H94) -> 2.4995 | N94: =SQRT(L94^2+M94^2) -> 3.2559791 | O94: =N94*N94 -> 10.6014 | P94: =VLOOKUP(B94,'Hub coords'!$A$14:$E$118,1,TRUE) -> 12A | R94: Max | S94: =MAX(N66:N95) -> 4.774156
A95: Postprocessed Code | B95: 12A_300_9.cor | C95: 301 | D95: 335.869 | E95: 0.3 | F95: 0.4 | G95: 2.011186 | H95: 5189685 | I95: 487924.93 | J95: =VLOOKUP($B95,'Hub coords'!$A$14:$E$119,4,TRUE) -> 487922.22 | K95: =VLOOKUP($B95,'Hub coords'!$A$14:$E$119,5,TRUE) -> 5189684.1 | L95: =ABS(J95-I95) -> 2.7086 | M95: =ABS(K95-H95) -> 0.8885 | N95: =SQRT(L95^2+M95^2) -> 2.8506045 | O95: =N95*N95 -> 8.1259462 | P95: =VLOOKUP(B95,'Hub coords'!$A$14:$E$118,1,TRUE) -> 12A | R95: RMSE | S95: =SQRT(SUM(O66:O95)/S90) -> 3.0868885
A96: Postprocessed Carrier Float | B96: 13A_300_1.cor | C96: 301 | D96: 338.8 | E96: 0.2 | F96: 0.1 | G96: 2.242979 | H96: 5189670.1 | I96: 487874.39 | J96: =VLOOKUP($B96,'Hub coords'!$A$14:$E$119,4,TRUE) -> 487870.82 | K96: =VLOOKUP($B96,'Hub coords'!$A$14:$E$119,5,TRUE) -> 5189670 | L96: =ABS(J96-I96) -> 3.5696 | M96: =ABS(K96-H96) -> 0.0995 | N96: =SQRT(L96^2+M96^2) -> 3.5709865 | O96: =N96*N96 -> 12.751944 | P96: =VLOOKUP(B96,'Hub coords'!$A$14:$E$118,1,TRUE) -> 13A
A97: Postprocessed Carrier Float | B97: 13A_300_10.cor | C97: 301 | D97: 333.866 | E97: 0.2 | F97: 0.2 | G97: 1.292424 | H97: 5189670.3 | I97: 487872.95 | J97: =VLOOKUP($B97,'Hub coords'!$A$14:$E$119,4,TRUE) -> 487870.82 | K97: =VLOOKUP($B97,'Hub coords'!$A$14:$E$119,5,TRUE) -> 5189670 | L97: =ABS(J97-I97) -> 2.1296 | M97: =ABS(K97-H97) -> 0.2895 | N97: =SQRT(L97^2+M97^2) -> 2.1491874 | O97: =N97*N97 -> 4.6190064 | P97: =VLOOKUP(B97,'Hub coords'!$A$14:$E$118,1,TRUE) -> 13A | R97: Bin | S97: Frequency
A98: Postprocessed Code | B98: 13A_300_11.cor | C98: 301 | D98: 335.211 | E98: 9.8 | F98: 4.3 | G98: 2.197098 | H98: 5189670 | I98: 487875.31 | J98: =VLOOKUP($B98,'Hub coords'!$A$14:$E$119,4,TRUE) -> 487870.82 | K98: =VLOOKUP($B98,'Hub coords'!$A$14:$E$119,5,TRUE) -> 5189670 | L98: =ABS(J98-I98) -> 4.4876 | M98: =ABS(K98-H98) -> 0.00049999915 | N98: =SQRT(L98^2+M98^2) -> 4.4876 | O98: =N98*N98 -> 20.138554 | P98: =VLOOKUP(B98,'Hub coords'!$A$14:$E$118,1,TRUE) -> 13A | R98: 1 | S98: 0
A99: Postprocessed Code | B99: 13A_300_12.cor | C99: 301 | D99: 336.956 | E99: 0.4 | F99: 0.3 | G99: 2.605819 | H99: 5189668.9 | I99: 487869.41 | J99: =VLOOKUP($B99,'Hub coords'!$A$14:$E$119,4,TRUE) -> 487870.82 | K99: =VLOOKUP($B99,'Hub coords'!$A$14:$E$119,5,TRUE) -> 5189670 | L99: =ABS(J99-I99) -> 1.4134 | M99: =ABS(K99-H99) -> 1.1205 | N99: =SQRT(L99^2+M99^2) -> 1.8036684 | O99: =N99*N99 -> 3.2532198 | P99: =VLOOKUP(B99,'Hub coords'!$A$14:$E$118,1,TRUE) -> 13A | R99: 2 | S99: 6
A100: Postprocessed Code | B100: 13A_300_13.cor | C100: 301 | D100: 341.499 | E100: 0.3 | F100: 0.3 | G100: 1.622746 | H100: 5189667.3 | I100: 487874.44 | J100: =VLOOKUP($B100,'Hub coords'!$A$14:$E$119,4,TRUE) -> 487870.82 | K100: =VLOOKUP($B100,'Hub coords'!$A$14:$E$119,5,TRUE) -> 5189670 | L100: =ABS(J100-I100) -> 3.6226 | M100: =ABS(K100-H100) -> 2.6315 | N100: =SQRT(L100^2+M100^2) -> 4.4775019 | O100: =N100*N100 -> 20.048023 | P100: =VLOOKUP(B100,'Hub coords'!$A$14:$E$118,1,TRUE) -> 13A | R100: 3 | S100: 7
A101: Postprocessed Carrier Float | B101: 13A_300_14.cor | C101: 301 | D101: 339.977 | E101: 0.6 | F101: 0.4 | G101: 1.816269 | H101: 5189667.5 | I101: 487873.77 | J101: =VLOOKUP($B101,'Hub coords'!$A$14:$E$119,4,TRUE) -> 487870.82 | K101: =VLOOKUP($B101,'Hub coords'!$A$14:$E$119,5,TRUE) -> 5189670 | L101: =ABS(J101-I101) -> 2.9526 | M101: =ABS(K101-H101) -> 2.5175 | N101: =SQRT(L101^2+M101^2) -> 3.8801615 | O101: =N101*N101 -> 15.055653 | P101: =VLOOKUP(B101,'Hub coords'!$A$14:$E$118,1,TRUE) -> 13A | R101: 4 | S101: 6
...

Sheet 10min_all_by_hub
A1: 10 min sub-samples from 37 one-hr occupation rover files
A2: PFO Auto/Smart
A3: CPXF GNSS basestation data used
A5: Corr Type | B5: Datafile | C5: Unfilt Pos | D5: GNSS Height | E5: Vert Prec | F5: Horz Prec | G5: Std Dev | H5: Northing | I5: Easting | J5: X_2013_TR1 | K5: Y_2013_TR1 | L5: Abs_X_diff | M5: Abs_Y_diff | N5: Horz Err (m) | O5: Horz Err^2 | P5: Hub
A6: Postprocessed Code | B6: 10A_600_1.cor | C6: 601 | D6: 331.162 | E6: 0.2 | F6: 0.2 | G6: 2.005979 | H6: 5189790.1 | I6: 487964.59 | J6: =VLOOKUP($B6,'Hub coords'!$A$14:$E$119,4,TRUE) -> 487964.07 | K6: =VLOOKUP($B6,'Hub coords'!$A$14:$E$119,5,TRUE) -> 5189790.6 | L6: =ABS(J6-I6) -> 0.5176 | M6: =ABS(K6-H6) -> 0.4415 | N6: =SQRT(L6^2+M6^2) -> 0.68031758 | O6: =N6*N6 -> 0.46283201 | P6: 10A
A7: Postprocessed Code | B7: 10A_600_10.cor | C7: 601 | D7: 324.837 | E7: 0.3 | F7: 0.2 | G7: 1.857952 | H7: 5189792 | I7: 487964.15 | J7: =VLOOKUP($B7,'Hub coords'!$A$14:$E$119,4,TRUE) -> 487964.07 | K7: =VLOOKUP($B7,'Hub coords'!$A$14:$E$119,5,TRUE) -> 5189790.6 | L7: =ABS(J7-I7) -> 0.0766 | M7: =ABS(K7-H7) -> 1.3785 | N7: =SQRT(L7^2+M7^2) -> 1.3806266 | O7: =N7*N7 -> 1.9061298 | P7: 10A | R7: Bin | S7: Frequency
A8: Postprocessed Code | B8: 10A_600_11.cor | C8: 601 | D8: 332.039 | E8: 0.3 | F8: 0.3 | G8: 1.720581 | H8: 5189790.2 | I8: 487964.78 | J8: =VLOOKUP($B8,'Hub coords'!$A$14:$E$119,4,TRUE) -> 487964.07 | K8: =VLOOKUP($B8,'Hub coords'!$A$14:$E$119,5,TRUE) -> 5189790.6 | L8: =ABS(J8-I8) -> 0.7126 | M8: =ABS(K8-H8) -> 0.3395 | N8: =SQRT(L8^2+M8^2) -> 0.78934087 | O8: =N8*N8 -> 0.62305901 | P8: 10A | R8: 1 | S8: 4
A9: Postprocessed Code | B9: 10A_600_12.cor | C9: 601 | D9: 329.952 | E9: 0.4 | F9: 0.3 | G9: 2.053207 | H9: 5189789.7 | I9: 487964.06 | J9: =VLOOKUP($B9,'Hub coords'!$A$14:$E$119,4,TRUE) -> 487964.07 | K9: =VLOOKUP($B9,'Hub coords'!$A$14:$E$119,5,TRUE) -> 5189790.6 | L9: =ABS(J9-I9) -> 0.0114 | M9: =ABS(K9-H9) -> 0.8885 | N9: =SQRT(L9^2+M9^2) -> 0.88857313 | O9: =N9*N9 -> 0.78956221 | P9: 10A | R9: 2 | S9: 9
A10: Postprocessed Code | B10: 10A_600_13.cor | C10: 601 | D10: 324.741 | E10: 0.4 | F10: 0.3 | G10: 1.605139 | H10: 5189793.9 | I10: 487965 | J10: =VLOOKUP($B10,'Hub coords'!$A$14:$E$119,4,TRUE) -> 487964.07 | K10: =VLOOKUP($B10,'Hub coords'!$A$14:$E$119,5,TRUE) -> 5189790.6 | L10: =ABS(J10-I10) -> 0.9276 | M10: =ABS(K10-H10) -> 3.3165 | N10: =SQRT(L10^2+M10^2) -> 3.443779 | O10: =N10*N10 -> 11.859614 | P10: 10A | R10: 3 | S10: 9
A11: Postprocessed Code | B11: 10A_600_14.cor | C11: 601 | D11: 324.646 | E11: 0.5 | F11: 0.4 | G11: 1.711778 | H11: 5189793.7 | I11: 487964.67 | J11: =VLOOKUP($B11,'Hub coords'!$A$14:$E$119,4,TRUE) -> 487964.07 | K11: =VLOOKUP($B11,'Hub coords'!$A$14:$E$119,5,TRUE) -> 5189790.6 | L11: =ABS(J11-I11) -> 0.6056 | M11: =ABS(K11-H11) -> 3.1225 | N11: =SQRT(L11^2+M11^2) -> 3.1806851 | O11: =N11*N11 -> 10.116758 | P11: 10A | R11: 4 | S11: 5
A12: Postprocessed Carrier Float | B12: 10A_600_15.cor | C12: 601 | D12: 321.008 | E12: 0.3 | F12: 0.3 | G12: 2.389013 | H12: 5189791.3 | I12: 487964.55 | J12: =VLOOKUP($B12,'Hub coords'!$A$14:$E$119,4,TRUE) -> 487964.07 | K12: =VLOOKUP($B12,'Hub coords'!$A$14:$E$119,5,TRUE) -> 5189790.6 | L12: =ABS(J12-I12) -> 0.4796 | M12: =ABS(K12-H12) -> 0.7195 | N12: =SQRT(L12^2+M12^2) -> 0.8646944 | O12: =N12*N12 -> 0.74769641 | P12: 10A | R12: 5 | S12: 2
A13: Postprocessed Code | B13: 10A_600_16.cor | C13: 601 | D13: 329.653 | E13: 0.4 | F13: 0.4 | G13: 1.842295 | H13: 5189790.2 | I13: 487964.08 | J13: =VLOOKUP($B13,'Hub coords'!$A$14:$E$119,4,TRUE) -> 487964.07 | K13: =VLOOKUP($B13,'Hub coords'!$A$14:$E$119,5,TRUE) -> 5189790.6 | L13: =ABS(J13-I13) -> 0.0096 | M13: =ABS(K13-H13) -> 0.4215 | N13: =SQRT(L13^2+M13^2) -> 0.42160931 | O13: =N13*N13 -> 0.17775441 | P13: 10A | R13: 6 | S13: 0
A14: Postprocessed Code | B14: 10A_600_17.cor | C14: 601 | D14: 326.229 | E14: 0.3 | F14: 0.3 | G14: 2.671453 | H14: 5189791.6 | I14: 487966.17 | J14: =VLOOKUP($B14,'Hub coords'!$A$14:$E$119,4,TRUE) -> 487964.07 | K14: =VLOOKUP($B14,'Hub coords'!$A$14:$E$119,5,TRUE) -> 5189790.6 | L14: =ABS(J14-I14) -> 2.1016 | M14: =ABS(K14-H14) -> 1.0665 | N14: =SQRT(L14^2+M14^2) -> 2.3567233 | O14: =N14*N14 -> 5.5541448 | P14: 10A | R14: 7 | S14: 0
A15: Postprocessed Code | B15: 10A_600_18.cor | C15: 601 | D15: 338.291 | E15: 0.3 | F15: 0.3 | G15: 2.974182 | H15: 5189789 | I15: 487967.77 | J15: =VLOOKUP($B15,'Hub coords'!$A$14:$E$119,4,TRUE) -> 487964.07 | K15: =VLOOKUP($B15,'Hub coords'!$A$14:$E$119,5,TRUE) -> 5189790.6 | L15: =ABS(J15-I15) -> 3.6976 | M15: =ABS(K15-H15) -> 1.5735 | N15: =SQRT(L15^2+M15^2) -> 4.0184758 | O15: =N15*N15 -> 16.148148 | P15: 10A | R15: 8 | S15: 1
A16: Postprocessed Code | B16: 10A_600_19.cor | C16: 601 | D16: 328.715 | E16: 0.5 | F16: 0.4 | G16: 3.293176 | H16: 5189793.4 | I16: 487967.12 | J16: =VLOOKUP($B16,'Hub coords'!$A$14:$E$119,4,TRUE) -> 487964.07 | K16: =VLOOKUP($B16,'Hub coords'!$A$14:$E$119,5,TRUE) -> 5189790.6 | L16: =ABS(J16-I16) -> 3.0556 | M16: =ABS(K16-H16) -> 2.8765 | N16: =SQRT(L16^2+M16^2) -> 4.1965395 | O16: =N16*N16 -> 17.610944 | P16: 10A | R16: More | S16: 0
A17: Postprocessed Code | B17: 10A_600_2.cor | C17: 601 | D17: 327.085 | E17: 0.3 | F17: 0.3 | G17: 1.809393 | H17: 5189790.8 | I17: 487964.28 | J17: =VLOOKUP($B17,'Hub coords'!$A$14:$E$119,4,TRUE) -> 487964.07 | K17: =VLOOKUP($B17,'Hub coords'!$A$14:$E$119,5,TRUE) -> 5189790.6 | L17: =ABS(J17-I17) -> 0.2076 | M17: =ABS(K17-H17) -> 0.2755 | N17: =SQRT(L17^2+M17^2) -> 0.34496088 | O17: =N17*N17 -> 0.11899801 | P17: 10A | S17: =SUM(S8:S16) -> 30
A18: Postprocessed Code | B18: 10A_600_20.cor | C18: 601 | D18: 323.337 | E18: 0.3 | F18: 0.2 | G18: 1.385815 | H18: 5189792.2 | I18: 487965.93 | J18: =VLOOKUP($B18,'Hub coords'!$A$14:$E$119,4,TRUE) -> 487964.07 | K18: =VLOOKUP($B18,'Hub coords'!$A$14:$E$119,5,TRUE) -> 5189790.6 | L18: =ABS(J18-I18) -> 1.8626 | M18: =ABS(K18-H18) -> 1.6315 | N18: =SQRT(L18^2+M18^2) -> 2.4761 | O18: =N18*N18 -> 6.131071 | P18: 10A
A19: Postprocessed Code | B19: 10A_600_21.cor | C19: 601 | D19: 321.98 | E19: 0.3 | F19: 0.3 | G19: 2.209515 | H19: 5189793.3 | I19: 487964.77 | J19: =VLOOKUP($B19,'Hub coords'!$A$14:$E$119,4,TRUE) -> 487964.07 | K19: =VLOOKUP($B19,'Hub coords'!$A$14:$E$119,5,TRUE) -> 5189790.6 | L19: =ABS(J19-I19) -> 0.6996 | M19: =ABS(K19-H19) -> 2.7275 | N19: =SQRT(L19^2+M19^2) -> 2.8157941 | O19: =N19*N19 -> 7.9286964 | P19: 10A
A20: Postprocessed Code | B20: 10A_600_22.cor | C20: 601 | D20: 322.966 | E20: 0.3 | F20: 0.3 | G20: 1.744499 | H20: 5189792.6 | I20: 487964.56 | J20: =VLOOKUP($B20,'Hub coords'!$A$14:$E$119,4,TRUE) -> 487964.07 | K20: =VLOOKUP($B20,'Hub coords'!$A$14:$E$119,5,TRUE) -> 5189790.6 | L20: =ABS(J20-I20) -> 0.4886 | M20: =ABS(K20-H20) -> 2.0595 | N20: =SQRT(L20^2+M20^2) -> 2.1166649 | O20: =N20*N20 -> 4.4802702 | P20: 10A
A21: Postprocessed Carrier Float | B21: 10A_600_23.cor | C21: 600 | D21: 326.424 | E21: 0.3 | F21: 0.2 | G21: 1.530277 | H21: 5189792.8 | I21: 487967.95 | J21: =VLOOKUP($B21,'Hub coords'!$A$14:$E$119,4,TRUE) -> 487964.07 | K21: =VLOOKUP($B21,'Hub coords'!$A$14:$E$119,5,TRUE) -> 5189790.6 | L21: =ABS(J21-I21) -> 3.8796 | M21: =ABS(K21-H21) -> 2.2195 | N21: =SQRT(L21^2+M21^2) -> 4.469617 | O21: =N21*N21 -> 19.977476 | P21: 10A
A22: Postprocessed Code | B22: 10A_600_24.cor | C22: 601 | D22: 325.303 | E22: 1 | F22: 0.7 | G22: 1.922029 | H22: 5189793.2 | I22: 487962.68 | J22: =VLOOKUP($B22,'Hub coords'!$A$14:$E$119,4,TRUE) -> 487964.07 | K22: =VLOOKUP($B22,'Hub coords'!$A$14:$E$119,5,TRUE) -> 5189790.6 | L22: =ABS(J22-I22) -> 1.3844 | M22: =ABS(K22-H22) -> 2.6195 | N22: =SQRT(L22^2+M22^2) -> 2.962827 | O22: =N22*N22 -> 8.7783436 | P22: 10A
A23: Postprocessed Carrier Float | B23: 10A_600_25.cor | C23: 601 | D23: 323.299 | E23: 0.3 | F23: 0.2 | G23: 2.238497 | H23: 5189790.5 | I23: 487963.8 | J23: =VLOOKUP($B23,'Hub coords'!$A$14:$E$119,4,TRUE) -> 487964.07 | K23: =VLOOKUP($B23,'Hub coords'!$A$14:$E$119,5,TRUE) -> 5189790.6 | L23: =ABS(J23-I23) -> 0.2644 | M23: =ABS(K23-H23) -> 0.096500001 | N23: =SQRT(L23^2+M23^2) -> 0.28145978 | O23: =N23*N23 -> 0.07921961 | P23: 10A
A24: Postprocessed Carrier Float | B24: 10A_600_26.cor | C24: 601 | D24: 323.801 | E24: 0.2 | F24: 0.2 | G24: 1.812764 | H24: 5189791 | I24: 487963.54 | J24: =VLOOKUP($B24,'Hub coords'!$A$14:$E$119,4,TRUE) -> 487964.07 | K24: =VLOOKUP($B24,'Hub coords'!$A$14:$E$119,5,TRUE) -> 5189790.6 | L24: =ABS(J24-I24) -> 0.5244 | M24: =ABS(K24-H24) -> 0.4165 | N24: =SQRT(L24^2+M24^2) -> 0.66967724 | O24: =N24*N24 -> 0.44846761 | P24: 10A
A25: Postprocessed Carrier Float | B25: 10A_600_27.cor | C25: 601 | D25: 323.904 | E25: 0.3 | F25: 0.3 | G25: 1.697898 | H25: 5189792.4 | I25: 487964.38 | J25: =VLOOKUP($B25,'Hub coords'!$A$14:$E$119,4,TRUE) -> 487964.07 | K25: =VLOOKUP($B25,'Hub coords'!$A$14:$E$119,5,TRUE) -> 5189790.6 | L25: =ABS(J25-I25) -> 0.3116 | M25: =ABS(K25-H25) -> 1.7825 | N25: =SQRT(L25^2+M25^2) -> 1.8095305 | O25: =N25*N25 -> 3.2744008 | P25: 10A
A26: Postprocessed Code | B26: 10A_600_28.cor | C26: 601 | D26: 330.504 | E26: 0.2 | F26: 0.2 | G26: 1.878761 | H26: 5189789.8 | I26: 487964.91 | J26: =VLOOKUP($B26,'Hub coords'!$A$14:$E$119,4,TRUE) -> 487964.07 | K26: =VLOOKUP($B26,'Hub coords'!$A$14:$E$119,5,TRUE) -> 5189790.6 | L26: =ABS(J26-I26) -> 0.8396 | M26: =ABS(K26-H26) -> 0.7525 | N26: =SQRT(L26^2+M26^2) -> 1.1274681 | O26: =N26*N26 -> 1.2711844 | P26: 10A
A27: Postprocessed Code | B27: 10A_600_29.cor | C27: 601 | D27: 323.325 | E27: 0.4 | F27: 0.4 | G27: 1.419162 | H27: 5189793.5 | I27: 487965.08 | J27: =VLOOKUP($B27,'Hub coords'!$A$14:$E$119,4,TRUE) -> 487964.07 | K27: =VLOOKUP($B27,'Hub coords'!$A$14:$E$119,5,TRUE) -> 5189790.6 | L27: =ABS(J27-I27) -> 1.0076 | M27: =ABS(K27-H27) -> 2.9435 | N27: =SQRT(L27^2+M27^2) -> 3.1111814 | O27: =N27*N27 -> 9.67945 | P27: 10A
A28: Postprocessed Carrier Float | B28: 10A_600_3.cor | C28: 600 | D28: 325.968 | E28: 0.3 | F28: 0.2 | G28: 1.556484 | H28: 5189792.7 | I28: 487967.81 | J28: =VLOOKUP($B28,'Hub coords'!$A$14:$E$119,4,TRUE) -> 487964.07 | K28: =VLOOKUP($B28,'Hub coords'!$A$14:$E$119,5,TRUE) -> 5189790.6 | L28: =ABS(J28-I28) -> 3.7366 | M28: =ABS(K28-H28) -> 2.1445 | N28: =SQRT(L28^2+M28^2) -> 4.3082548 | O28: =N28*N28 -> 18.56106 | P28: 10A
A29: Postprocessed Code | B29: 10A_600_30.cor | C29: 601 | D29: 329.08 | E29: 0.3 | F29: 0.4 | G29: 2.14089 | H29: 5189789.6 | I29: 487963.9 | J29: =VLOOKUP($B29,'Hub coords'!$A$14:$E$119,4,TRUE) -> 487964.07 | K29: =VLOOKUP($B29,'Hub coords'!$A$14:$E$119,5,TRUE) -> 5189790.6 | L29: =ABS(J29-I29) -> 0.1734 | M29: =ABS(K29-H29) -> 0.9885 | N29: =SQRT(L29^2+M29^2) -> 1.0035934 | O29: =N29*N29 -> 1.0071998 | P29: 10A
A30: Postprocessed Code | B30: 10A_600_4.cor | C30: 601 | D30: 319.936 | E30: 0.3 | F30: 0.2 | G30: 1.774385 | H30: 5189790.6 | I30: 487963.2 | J30: =VLOOKUP($B30,'Hub coords'!$A$14:$E$119,4,TRUE) -> 487964.07 | K30: =VLOOKUP($B30,'Hub coords'!$A$14:$E$119,5,TRUE) -> 5189790.6 | L30: =ABS(J30-I30) -> 0.8724 | M30: =ABS(K30-H30) -> 0.070499999 | N30: =SQRT(L30^2+M30^2) -> 0.87524397 | O30: =N30*N30 -> 0.76605201 | P30: 10A | R30: Count | S30: =COUNT(C6:C35) -> 30
A31: Postprocessed Carrier Float | B31: 10A_600_5.cor | C31: 601 | D31: 322.516 | E31: 0.3 | F31: 0.2 | G31: 1.829945 | H31: 5189791 | I31: 487963.14 | J31: =VLOOKUP($B31,'Hub coords'!$A$14:$E$119,4,TRUE) -> 487964.07 | K31: =VLOOKUP($B31,'Hub coords'!$A$14:$E$119,5,TRUE) -> 5189790.6 | L31: =ABS(J31-I31) -> 0.9284 | M31: =ABS(K31-H31) -> 0.4665 | N31: =SQRT(L31^2+M31^2) -> 1.0390134 | O31: =N31*N31 -> 1.0795488 | P31: 10A | R31: Ave | S31: =AVERAGE(N6:N35) -> 1.9715049
A32: Postprocessed Code | B32: 10A_600_6.cor | C32: 601 | D32: 327.272 | E32: 0.4 | F32: 0.3 | G32: 1.804308 | H32: 5189792.2 | I32: 487963.03 | J32: =VLOOKUP($B32,'Hub coords'!$A$14:$E$119,4,TRUE) -> 487964.07 | K32: =VLOOKUP($B32,'Hub coords'!$A$14:$E$119,5,TRUE) -> 5189790.6 | L32: =ABS(J32-I32) -> 1.0414 | M32: =ABS(K32-H32) -> 1.5945 | N32: =SQRT(L32^2+M32^2) -> 1.9044538 | O32: =N32*N32 -> 3.6269442 | P32: 10A | R32: Stdev | S32: =_xlfn.STDEV.S(N6:N35) -> 1.3288588
A33: Postprocessed Code | B33: 10A_600_7.cor | C33: 601 | D33: 331.784 | E33: 0.2 | F33: 0.2 | G33: 1.927193 | H33: 5189791.2 | I33: 487964.99 | J33: =VLOOKUP($B33,'Hub coords'!$A$14:$E$119,4,TRUE) -> 487964.07 | K33: =VLOOKUP($B33,'Hub coords'!$A$14:$E$119,5,TRUE) -> 5189790.6 | L33: =ABS(J33-I33) -> 0.9166 | M33: =ABS(K33-H33) -> 0.5815 | N33: =SQRT(L33^2+M33^2) -> 1.0854943 | O33: =N33*N33 -> 1.1782978 | P33: 10A | R33: Min | S33: =MIN(N6:N35) -> 0.28145978
A34: Postprocessed Code | B34: 10A_600_8.cor | C34: 600 | D34: 325.402 | E34: 0.3 | F34: 0.3 | G34: 1.525917 | H34: 5189792.3 | I34: 487967.13 | J34: =VLOOKUP($B34,'Hub coords'!$A$14:$E$119,4,TRUE) -> 487964.07 | K34: =VLOOKUP($B34,'Hub coords'!$A$14:$E$119,5,TRUE) -> 5189790.6 | L34: =ABS(J34-I34) -> 3.0576 | M34: =ABS(K34-H34) -> 1.7585 | N34: =SQRT(L34^2+M34^2) -> 3.5272142 | O34: =N34*N34 -> 12.44124 | P34: 10A | R34: Max | S34: =MAX(N6:N35) -> 4.469617
A35: Postprocessed Code | B35: 10A_600_9.cor | C35: 601 | D35: 320.987 | E35: 0.3 | F35: 0.2 | G35: 1.760822 | H35: 5189791.3 | I35: 487963.39 | J35: =VLOOKUP($B35,'Hub coords'!$A$14:$E$119,4,TRUE) -> 487964.07 | K35: =VLOOKUP($B35,'Hub coords'!$A$14:$E$119,5,TRUE) -> 5189790.6 | L35: =ABS(J35-I35) -> 0.6834 | M35: =ABS(K35-H35) -> 0.7235 | N35: =SQRT(L35^2+M35^2) -> 0.99523254 | O35: =N35*N35 -> 0.99048781 | P35: 10A | R35: RMSE | S35: =SQRT(SUM(O6:O35)/S30) -> 2.365129
A36: Postprocessed Code | B36: 11A_600_1.cor | C36: 601 | D36: 326.807 | E36: 0.7 | F36: 0.4 | G36: 2.063633 | H36: 5189688.5 | I36: 487979.24 | J36: =VLOOKUP($B36,'Hub coords'!$A$14:$E$119,4,TRUE) -> 487977.94 | K36: =VLOOKUP($B36,'Hub coords'!$A$14:$E$119,5,TRUE) -> 5189689.1 | L36: =ABS(J36-I36) -> 1.3016 | M36: =ABS(K36-H36) -> 0.6495 | N36: =SQRT(L36^2+M36^2) -> 1.4546521 | O36: =N36*N36 -> 2.1160128 | P36: 11A
A37: Postprocessed Code | B37: 11A_600_10.cor | C37: 601 | D37: 327.614 | E37: 0.5 | F37: 0.4 | G37: 1.757446 | H37: 5189688 | I37: 487981.23 | J37: =VLOOKUP($B37,'Hub coords'!$A$14:$E$119,4,TRUE) -> 487977.94 | K37: =VLOOKUP($B37,'Hub coords'!$A$14:$E$119,5,TRUE) -> 5189689.1 | L37: =ABS(J37-I37) -> 3.2896 | M37: =ABS(K37-H37) -> 1.1415 | N37: =SQRT(L37^2+M37^2) -> 3.4820239 | O37: =N37*N37 -> 12.12449 | P37: 11A | R37: Bin | S37: Frequency
A38: Postprocessed Code | B38: 11A_600_11.cor | C38: 601 | D38: 325.42 | E38: 0.2 | F38: 0.2 | G38: 2.358074 | H38: 5189688.3 | I38: 487980.66 | J38: =VLOOKUP($B38,'Hub coords'!$A$14:$E$119,4,TRUE) -> 487977.94 | K38: =VLOOKUP($B38,'Hub coords'!$A$14:$E$119,5,TRUE) -> 5189689.1 | L38: =ABS(J38-I38) -> 2.7206 | M38: =ABS(K38-H38) -> 0.8535 | N38: =SQRT(L38^2+M38^2) -> 2.8513377 | O38: =N38*N38 -> 8.1301266 | P38: 11A | R38: 1 | S38: 0
A39: Postprocessed Code | B39: 11A_600_12.cor | C39: 601 | D39: 327.357 | E39: 0.3 | F39: 0.2 | G39: 2.20182 | H39: 5189691.4 | I39: 487981.64 | J39: =VLOOKUP($B39,'Hub coords'!$A$14:$E$119,4,TRUE) -> 487977.94 | K39: =VLOOKUP($B39,'Hub coords'!$A$14:$E$119,5,TRUE) -> 5189689.1 | L39: =ABS(J39-I39) -> 3.6986 | M39: =ABS(K39-H39) -> 2.2945 | N39: =SQRT(L39^2+M39^2) -> 4.3525133 | O39: =N39*N39 -> 18.944372 | P39: 11A | R39: 2 | S39: 3
A40: Postprocessed Code | B40: 11A_600_13.cor | C40: 601 | D40: 324.283 | E40: 0.2 | F40: 0.2 | G40: 2.384241 | H40: 5189688 | I40: 487981.56 | J40: =VLOOKUP($B40,'Hub coords'!$A$14:$E$119,4,TRUE) -> 487977.94 | K40: =VLOOKUP($B40,'Hub coords'!$A$14:$E$119,5,TRUE) -> 5189689.1 | L40: =ABS(J40-I40) -> 3.6186 | M40: =ABS(K40-H40) -> 1.1305 | N40: =SQRT(L40^2+M40^2) -> 3.7910811 | O40: =N40*N40 -> 14.372296 | P40: 11A | R40: 3 | S40: 4
A41: Postprocessed Carrier Float | B41: 11A_600_14.cor | C41: 601 | D41: 327.873 | E41: 0.3 | F41: 0.3 | G41: 1.766669 | H41: 5189688.8 | I41: 487981.45 | J41: =VLOOKUP($B41,'Hub coords'!$A$14:$E$119,4,TRUE) -> 487977.94 | K41: =VLOOKUP($B41,'Hub coords'!$A$14:$E$119,5,TRUE) -> 5189689.1 | L41: =ABS(J41-I41) -> 3.5066 | M41: =ABS(K41-H41) -> 0.3125 | N41: =SQRT(L41^2+M41^2) -> 3.5204971 | O41: =N41*N41 -> 12.3939 | P41: 11A | R41: 4 | S41: 10
A42: Postprocessed Code | B42: 11A_600_15.cor | C42: 601 | D42: 325.719 | E42: 0.2 | F42: 0.2 | G42: 2.675365 | H42: 5189691.2 | I42: 487981.5 | J42: =VLOOKUP($B42,'Hub coords'!$A$14:$E$119,4,TRUE) -> 487977.94 | K42: =VLOOKUP($B42,'Hub coords'!$A$14:$E$119,5,TRUE) -> 5189689.1 | L42: =ABS(J42-I42) -> 3.5636 | M42: =ABS(K42-H42) -> 2.0965 | N42: =SQRT(L42^2+M42^2) -> 4.1345565 | O42: =N42*N42 -> 17.094557 | P42: 11A | R42: 5 | S42: 8
A43: Postprocessed Carrier Float | B43: 11A_600_16.cor | C43: 601 | D43: 328.214 | E43: 0.3 | F43: 0.2 | G43: 1.327776 | H43: 5189688.5 | I43: 487981.57 | J43: =VLOOKUP($B43,'Hub coords'!$A$14:$E$119,4,TRUE) -> 487977.94 | K43: =VLOOKUP($B43,'Hub coords'!$A$14:$E$119,5,TRUE) -> 5189689.1 | L43: =ABS(J43-I43) -> 3.6256 | M43: =ABS(K43-H43) -> 0.6195 | N43: =SQRT(L43^2+M43^2) -> 3.6781457 | O43: =N43*N43 -> 13.528756 | P43: 11A | R43: 6 | S43: 4
A44: Postprocessed Code | B44: 11A_600_17.cor | C44: 601 | D44: 326.464 | E44: 0.4 | F44: 0.4 | G44: 1.684617 | H44: 5189688.4 | I44: 487980.75 | J44: =VLOOKUP($B44,'Hub coords'!$A$14:$E$119,4,TRUE) -> 487977.94 | K44: =VLOOKUP($B44,'Hub coords'!$A$14:$E$119,5,TRUE) -> 5189689.1 | L44: =ABS(J44-I44) -> 2.8106 | M44: =ABS(K44-H44) -> 0.7245 | N44: =SQRT(L44^2+M44^2) -> 2.902477 | O44: =N44*N44 -> 8.4243726 | P44: 11A | R44: 7 | S44: 0
A45: Postprocessed Code | B45: 11A_600_18.cor | C45: 601 | D45: 327.338 | E45: 0.3 | F45: 0.3 | G45: 4.220458 | H45: 5189688.3 | I45: 487981.39 | J45: =VLOOKUP($B45,'Hub coords'!$A$14:$E$119,4,TRUE) -> 487977.94 | K45: =VLOOKUP($B45,'Hub coords'!$A$14:$E$119,5,TRUE) -> 5189689.1 | L45: =ABS(J45-I45) -> 3.4526 | M45: =ABS(K45-H45) -> 0.7925 | N45: =SQRT(L45^2+M45^2) -> 3.5423866 | O45: =N45*N45 -> 12.548503 | P45: 11A | R45: 8 | S45: 1
A46: Postprocessed Code | B46: 11A_600_19.cor | C46: 601 | D46: 325.216 | E46: 0.3 | F46: 0.2 | G46: 1.498528 | H46: 5189688 | I46: 487981.01 | J46: =VLOOKUP($B46,'Hub coords'!$A$14:$E$119,4,TRUE) -> 487977.94 | K46: =VLOOKUP($B46,'Hub coords'!$A$14:$E$119,5,TRUE) -> 5189689.1 | L46: =ABS(J46-I46) -> 3.0666 | M46: =ABS(K46-H46) -> 1.0955 | N46: =SQRT(L46^2+M46^2) -> 3.2564023 | O46: =N46*N46 -> 10.604156 | P46: 11A | R46: More | S46: 0
A47: Postprocessed Code | B47: 11A_600_2.cor | C47: 601 | D47: 327.162 | E47: 0.4 | F47: 0.3 | G47: 2.756533 | H47: 5189688.4 | I47: 487981.67 | J47: =VLOOKUP($B47,'Hub coords'!$A$14:$E$119,4,TRUE) -> 487977.94 | K47: =VLOOKUP($B47,'Hub coords'!$A$14:$E$119,5,TRUE) -> 5189689.1 | L47: =ABS(J47-I47) -> 3.7276 | M47: =ABS(K47-H47) -> 0.7035 | N47: =SQRT(L47^2+M47^2) -> 3.793404 | O47: =N47*N47 -> 14.389914 | P47: 11A | S47: =SUM(S38:S46) -> 30
A48: Postprocessed Code | B48: 11A_600_20.cor | C48: 601 | D48: 325.512 | E48: 0.2 | F48: 0.2 | G48: 2.518063 | H48: 5189688.4 | I48: 487980.89 | J48: =VLOOKUP($B48,'Hub coords'!$A$14:$E$119,4,TRUE) -> 487977.94 | K48: =VLOOKUP($B48,'Hub coords'!$A$14:$E$119,5,TRUE) -> 5189689.1 | L48: =ABS(J48-I48) -> 2.9506 | M48: =ABS(K48-H48) -> 0.7395 | N48: =SQRT(L48^2+M48^2) -> 3.0418581 | O48: =N48*N48 -> 9.2529006 | P48: 11A
A49: Postprocessed Carrier Float | B49: 11A_600_21.cor | C49: 601 | D49: 328.43 | E49: 0.5 | F49: 0.4 | G49: 2.226432 | H49: 5189691.8 | I49: 487980.72 | J49: =VLOOKUP($B49,'Hub coords'!$A$14:$E$119,4,TRUE) -> 487977.94 | K49: =VLOOKUP($B49,'Hub coords'!$A$14:$E$119,5,TRUE) -> 5189689.1 | L49: =ABS(J49-I49) -> 2.7786 | M49: =ABS(K49-H49) -> 2.6845 | N49: =SQRT(L49^2+M49^2) -> 3.8635681 | O49: =N49*N49 -> 14.927158 | P49: 11A
A50: Postprocessed Carrier Float | B50: 11A_600_22.cor | C50: 601 | D50: 327.368 | E50: 0.3 | F50: 0.2 | G50: 2.328122 | H50: 5189689.2 | I50: 487979.85 | J50: =VLOOKUP($B50,'Hub coords'!$A$14:$E$119,4,TRUE) -> 487977.94 | K50: =VLOOKUP($B50,'Hub coords'!$A$14:$E$119,5,TRUE) -> 5189689.1 | L50: =ABS(J50-I50) -> 1.9106 | M50: =ABS(K50-H50) -> 0.0615 | N50: =SQRT(L50^2+M50^2) -> 1.9115896 | O50: =N50*N50 -> 3.6541746 | P50: 11A
A51: Postprocessed Code | B51: 11A_600_23.cor | C51: 601 | D51: 330.847 | E51: 0.5 | F51: 0.4 | G51: 1.427121 | H51: 5189686.6 | I51: 487979.9 | J51: =VLOOKUP($B51,'Hub coords'!$A$14:$E$119,4,TRUE) -> 487977.94 | K51: =VLOOKUP($B51,'Hub coords'!$A$14:$E$119,5,TRUE) -> 5189689.1 | L51: =ABS(J51-I51) -> 1.9636 | M51: =ABS(K51-H51) -> 2.5335 | N51: =SQRT(L51^2+M51^2) -> 3.2053623 | O51: =N51*N51 -> 10.274347 | P51: 11A
A52: Postprocessed Code | B52: 11A_600_24.cor | C52: 601 | D52: 328.138 | E52: 0.3 | F52: 0.3 | G52: 2.262315 | H52: 5189689.3 | I52: 487979.1 | J52: =VLOOKUP($B52,'Hub coords'!$A$14:$E$119,4,TRUE) -> 487977.94 | K52: =VLOOKUP($B52,'Hub coords'!$A$14:$E$119,5,TRUE) -> 5189689.1 | L52: =ABS(J52-I52) -> 1.1626 | M52: =ABS(K52-H52) -> 0.1595 | N52: =SQRT(L52^2+M52^2) -> 1.1734901 | O52: =N52*N52 -> 1.377079 | P52: 11A
A53: Postprocessed Code | B53: 11A_600_25.cor | C53: 601 | D53: 324.673 | E53: 0.3 | F53: 0.7 | G53: 2.52729 | H53: 5189690.9 | I53: 487980.54 | J53: =VLOOKUP($B53,'Hub coords'!$A$14:$E$119,4,TRUE) -> 487977.94 | K53: =VLOOKUP($B53,'Hub coords'!$A$14:$E$119,5,TRUE) -> 5189689.1 | L53: =ABS(J53-I53) -> 2.6026 | M53: =ABS(K53-H53) -> 1.7345 | N53: =SQRT(L53^2+M53^2) -> 3.1276216 | O53: =N53*N53 -> 9.782017 | P53: 11A
A54: Postprocessed Code | B54: 11A_600_26.cor | C54: 601 | D54: 329.082 | E54: 0.3 | F54: 0.3 | G54: 2.138095 | H54: 5189689.5 | I54: 487980.01 | J54: =VLOOKUP($B54,'Hub coords'!$A$14:$E$119,4,TRUE) -> 487977.94 | K54: =VLOOKUP($B54,'Hub coords'!$A$14:$E$119,5,TRUE) -> 5189689.1 | L54: =ABS(J54-I54) -> 2.0726 | M54: =ABS(K54-H54) -> 0.3375 | N54: =SQRT(L54^2+M54^2) -> 2.0998993 | O54: =N54*N54 -> 4.409577 | P54: 11A
A55: Postprocessed Carrier Float | B55: 11A_600_27.cor | C55: 601 | D55: 331.071 | E55: 0.8 | F55: 0.6 | G55: 2.142166 | H55: 5189688.3 | I55: 487979.91 | J55: =VLOOKUP($B55,'Hub coords'!$A$14:$E$119,4,TRUE) -> 487977.94 | K55: =VLOOKUP($B55,'Hub coords'!$A$14:$E$119,5,TRUE) -> 5189689.1 | L55: =ABS(J55-I55) -> 1.9726 | M55: =ABS(K55-H55) -> 0.7895 | N55: =SQRT(L55^2+M55^2) -> 2.1247261 | O55: =N55*N55 -> 4.514461 | P55: 11A
A56: Postprocessed Code | B56: 11A_600_28.cor | C56: 601 | D56: 329.654 | E56: 0.3 | F56: 0.3 | G56: 2.508499 | H56: 5189688.8 | I56: 487979.54 | J56: =VLOOKUP($B56,'Hub coords'!$A$14:$E$119,4,TRUE) -> 487977.94 | K56: =VLOOKUP($B56,'Hub coords'!$A$14:$E$119,5,TRUE) -> 5189689.1 | L56: =ABS(J56-I56) -> 1.5976 | M56: =ABS(K56-H56) -> 0.3425 | N56: =SQRT(L56^2+M56^2) -> 1.6339009 | O56: =N56*N56 -> 2.669632 | P56: 11A
A57: Postprocessed Code | B57: 11A_600_29.cor | C57: 601 | D57: 328.881 | E57: 0.9 | F57: 0.4 | G57: 2.530141 | H57: 5189690.2 | I57: 487980.46 | J57: =VLOOKUP($B57,'Hub coords'!$A$14:$E$119,4,TRUE) -> 487977.94 | K57: =VLOOKUP($B57,'Hub coords'!$A$14:$E$119,5,TRUE) -> 5189689.1 | L57: =ABS(J57-I57) -> 2.5216 | M57: =ABS(K57-H57) -> 1.0505 | N57: =SQRT(L57^2+M57^2) -> 2.7316692 | O57: =N57*N57 -> 7.4620168 | P57: 11A
A58: Postprocessed Code | B58: 11A_600_3.cor | C58: 601 | D58: 329.537 | E58: 0.3 | F58: 0.2 | G58: 3.47579 | H58: 5189688.9 | I58: 487980.16 | J58: =VLOOKUP($B58,'Hub coords'!$A$14:$E$119,4,TRUE) -> 487977.94 | K58: =VLOOKUP($B58,'Hub coords'!$A$14:$E$119,5,TRUE) -> 5189689.1 | L58: =ABS(J58-I58) -> 2.2166 | M58: =ABS(K58-H58) -> 0.1965 | N58: =SQRT(L58^2+M58^2) -> 2.2252927 | O58: =N58*N58 -> 4.9519278 | P58: 11A
A59: Postprocessed Carrier Float | B59: 11A_600_30.cor | C59: 601 | D59: 325.18 | E59: 0.2 | F59: 0.2 | G59: 1.879171 | H59: 5189688.7 | I59: 487980.8 | J59: =VLOOKUP($B59,'Hub coords'!$A$14:$E$119,4,TRUE) -> 487977.94 | K59: =VLOOKUP($B59,'Hub coords'!$A$14:$E$119,5,TRUE) -> 5189689.1 | L59: =ABS(J59-I59) -> 2.8636 | M59: =ABS(K59-H59) -> 0.4245 | N59: =SQRT(L59^2+M59^2) -> 2.894893 | O59: =N59*N59 -> 8.3804052 | P59: 11A
A60: Postprocessed Code | B60: 11A_600_4.cor | C60: 601 | D60: 327.16 | E60: 0.6 | F60: 0.5 | G60: 1.723119 | H60: 5189688.2 | I60: 487981.66 | J60: =VLOOKUP($B60,'Hub coords'!$A$14:$E$119,4,TRUE) -> 487977.94 | K60: =VLOOKUP($B60,'Hub coords'!$A$14:$E$119,5,TRUE) -> 5189689.1 | L60: =ABS(J60-I60) -> 3.7176 | M60: =ABS(K60-H60) -> 0.9455 | N60: =SQRT(L60^2+M60^2) -> 3.835951 | O60: =N60*N60 -> 14.71452 | P60: 11A | R60: Count | S60: =COUNT(C36:C65) -> 30
A61: Postprocessed Carrier Float | B61: 11A_600_5.cor | C61: 601 | D61: 328.613 | E61: 0.4 | F61: 0.3 | G61: 1.510172 | H61: 5189689.2 | I61: 487979.91 | J61: =VLOOKUP($B61,'Hub coords'!$A$14:$E$119,4,TRUE) -> 487977.94 | K61: =VLOOKUP($B61,'Hub coords'!$A$14:$E$119,5,TRUE) -> 5189689.1 | L61: =ABS(J61-I61) -> 1.9716 | M61: =ABS(K61-H61) -> 0.1055 | N61: =SQRT(L61^2+M61^2) -> 1.9744206 | O61: =N61*N61 -> 3.8983368 | P61: 11A | R61: Ave | S61: =AVERAGE(N36:N65) -> 2.9683052
A62: Postprocessed Carrier Float | B62: 11A_600_6.cor | C62: 601 | D62: 326.168 | E62: 0.3 | F62: 0.2 | G62: 1.538305 | H62: 5189688.1 | I62: 487981.24 | J62: =VLOOKUP($B62,'Hub coords'!$A$14:$E$119,4,TRUE) -> 487977.94 | K62: =VLOOKUP($B62,'Hub coords'!$A$14:$E$119,5,TRUE) -> 5189689.1 | L62: =ABS(J62-I62) -> 3.3026 | M62: =ABS(K62-H62) -> 1.0625 | N62: =SQRT(L62^2+M62^2) -> 3.4693044 | O62: =N62*N62 -> 12.036073 | P62: 11A | R62: Stdev | S62: =_xlfn.STDEV.S(N36:N65) -> 0.86772892
A63: Postprocessed Code | B63: 11A_600_7.cor | C63: 601 | D63: 326.822 | E63: 0.3 | F63: 0.2 | G63: 2.071096 | H63: 5189688 | I63: 487981.22 | J63: =VLOOKUP($B63,'Hub coords'!$A$14:$E$119,4,TRUE) -> 487977.94 | K63: =VLOOKUP($B63,'Hub coords'!$A$14:$E$119,5,TRUE) -> 5189689.1 | L63: =ABS(J63-I63) -> 3.2766 | M63: =ABS(K63-H63) -> 1.1505 | N63: =SQRT(L63^2+M63^2) -> 3.4727162 | O63: =N63*N63 -> 12.059758 | P63: 11A | R63: Min | S63: =MIN(N36:N65) -> 1.1734901
A64: Postprocessed Code | B64: 11A_600_8.cor | C64: 601 | D64: 330.369 | E64: 0.5 | F64: 0.4 | G64: 6.113564 | H64: 5189687 | I64: 487981.01 | J64: =VLOOKUP($B64,'Hub coords'!$A$14:$E$119,4,TRUE) -> 487977.94 | K64: =VLOOKUP($B64,'Hub coords'!$A$14:$E$119,5,TRUE) -> 5189689.1 | L64: =ABS(J64-I64) -> 3.0656 | M64: =ABS(K64-H64) -> 2.1545 | N64: =SQRT(L64^2+M64^2) -> 3.7469686 | O64: =N64*N64 -> 14.039774 | P64: 11A | R64: Max | S64: =MAX(N36:N65) -> 4.3525133
A65: Postprocessed Carrier Float | B65: 11A_600_9.cor | C65: 601 | D65: 329.233 | E65: 0.3 | F65: 0.3 | G65: 1.557532 | H65: 5189689.2 | I65: 487979.69 | J65: =VLOOKUP($B65,'Hub coords'!$A$14:$E$119,4,TRUE) -> 487977.94 | K65: =VLOOKUP($B65,'Hub coords'!$A$14:$E$119,5,TRUE) -> 5189689.1 | L65: =ABS(J65-I65) -> 1.7546 | M65: =ABS(K65-H65) -> 0.0805 | N65: =SQRT(L65^2+M65^2) -> 1.7564457 | O65: =N65*N65 -> 3.0851014 | P65: 11A | R65: RMSE | S65: =SQRT(SUM(O36:O65)/S60) -> 3.0884771
A66: Postprocessed Code | B66: 12A_600_1.cor | C66: 601 | D66: 333.897 | E66: 0.3 | F66: 0.2 | G66: 1.442074 | H66: 5189684.3 | I66: 487924.77 | J66: =VLOOKUP($B66,'Hub coords'!$A$14:$E$119,4,TRUE) -> 487922.22 | K66: =VLOOKUP($B66,'Hub coords'!$A$14:$E$119,5,TRUE) -> 5189684.1 | L66: =ABS(J66-I66) -> 2.5476 | M66: =ABS(K66-H66) -> 0.1995 | N66: =SQRT(L66^2+M66^2) -> 2.5553994 | O66: =N66*N66 -> 6.530066 | P66: 12A
A67: Postprocessed Carrier Float | B67: 12A_600_10.cor | C67: 600 | D67: 334.974 | E67: 0.3 | F67: 0.3 | G67: 2.778206 | H67: 5189684.8 | I67: 487923.27 | J67: =VLOOKUP($B67,'Hub coords'!$A$14:$E$119,4,TRUE) -> 487922.22 | K67: =VLOOKUP($B67,'Hub coords'!$A$14:$E$119,5,TRUE) -> 5189684.1 | L67: =ABS(J67-I67) -> 1.0486 | M67: =ABS(K67-H67) -> 0.7505 | N67: =SQRT(L67^2+M67^2) -> 1.2895008 | O67: =N67*N67 -> 1.6628122 | P67: 12A | R67: Bin | S67: Frequency
A68: Postprocessed Code | B68: 12A_600_11.cor | C68: 601 | D68: 329.092 | E68: 0.8 | F68: 0.6 | G68: 1.639811 | H68: 5189684.4 | I68: 487923.57 | J68: =VLOOKUP($B68,'Hub coords'!$A$14:$E$119,4,TRUE) -> 487922.22 | K68: =VLOOKUP($B68,'Hub coords'!$A$14:$E$119,5,TRUE) -> 5189684.1 | L68: =ABS(J68-I68) -> 1.3436 | M68: =ABS(K68-H68) -> 0.3475 | N68: =SQRT(L68^2+M68^2) -> 1.3878102 | O68: =N68*N68 -> 1.9260172 | P68: 12A | R68: 1 | S68: 0
A69: Postprocessed Code | B69: 12A_600_12.cor | C69: 601 | D69: 342.96 | E69: 0.4 | F69: 0.4 | G69: 2.609682 | H69: 5189684.1 | I69: 487924.76 | J69: =VLOOKUP($B69,'Hub coords'!$A$14:$E$119,4,TRUE) -> 487922.22 | K69: =VLOOKUP($B69,'Hub coords'!$A$14:$E$119,5,TRUE) -> 5189684.1 | L69: =ABS(J69-I69) -> 2.5386 | M69: =ABS(K69-H69) -> 0.017499999 | N69: =SQRT(L69^2+M69^2) -> 2.5386603 | O69: =N69*N69 -> 6.4447962 | P69: 12A | R69: 2 | S69: 4
A70: Postprocessed Carrier Float | B70: 12A_600_13.cor | C70: 601 | D70: 337.262 | E70: 0.3 | F70: 0.2 | G70: 1.768384 | H70: 5189681 | I70: 487924.17 | J70: =VLOOKUP($B70,'Hub coords'!$A$14:$E$119,4,TRUE) -> 487922.22 | K70: =VLOOKUP($B70,'Hub coords'!$A$14:$E$119,5,TRUE) -> 5189684.1 | L70: =ABS(J70-I70) -> 1.9476 | M70: =ABS(K70-H70) -> 3.0565 | N70: =SQRT(L70^2+M70^2) -> 3.6242707 | O70: =N70*N70 -> 13.135338 | P70: 12A | R70: 3 | S70: 14
A71: Postprocessed Carrier Float | B71: 12A_600_14.cor | C71: 600 | D71: 334.086 | E71: 0.4 | F71: 0.3 | G71: 2.68145 | H71: 5189683.7 | I71: 487923.38 | J71: =VLOOKUP($B71,'Hub coords'!$A$14:$E$119,4,TRUE) -> 487922.22 | K71: =VLOOKUP($B71,'Hub coords'!$A$14:$E$119,5,TRUE) -> 5189684.1 | L71: =ABS(J71-I71) -> 1.1516 | M71: =ABS(K71-H71) -> 0.3575 | N71: =SQRT(L71^2+M71^2) -> 1.2058146 | O71: =N71*N71 -> 1.4539888 | P71: 12A | R71: 4 | S71: 6
A72: Postprocessed Code | B72: 12A_600_15.cor | C72: 601 | D72: 336.851 | E72: 0.3 | F72: 0.3 | G72: 1.901517 | H72: 5189681.4 | I72: 487924.5 | J72: =VLOOKUP($B72,'Hub coords'!$A$14:$E$119,4,TRUE) -> 487922.22 | K72: =VLOOKUP($B72,'Hub coords'!$A$14:$E$119,5,TRUE) -> 5189684.1 | L72: =ABS(J72-I72) -> 2.2756 | M72: =ABS(K72-H72) -> 2.6405 | N72: =SQRT(L72^2+M72^2) -> 3.4857704 | O72: =N72*N72 -> 12.150596 | P72: 12A | R72: 5 | S72: 6
A73: Postprocessed Code | B73: 12A_600_16.cor | C73: 600 | D73: 329.87 | E73: 0.4 | F73: 0.3 | G73: 1.663891 | H73: 5189682.7 | I73: 487924.31 | J73: =VLOOKUP($B73,'Hub coords'!$A$14:$E$119,4,TRUE) -> 487922.22 | K73: =VLOOKUP($B73,'Hub coords'!$A$14:$E$119,5,TRUE) -> 5189684.1 | L73: =ABS(J73-I73) -> 2.0826 | M73: =ABS(K73-H73) -> 1.3425 | N73: =SQRT(L73^2+M73^2) -> 2.4778073 | O73: =N73*N73 -> 6.139529 | P73: 12A | R73: 6 | S73: 0
A74: Postprocessed Carrier Float | B74: 12A_600_17.cor | C74: 601 | D74: 337.413 | E74: 0.3 | F74: 0.2 | G74: 1.89202 | H74: 5189680.6 | I74: 487925.35 | J74: =VLOOKUP($B74,'Hub coords'!$A$14:$E$119,4,TRUE) -> 487922.22 | K74: =VLOOKUP($B74,'Hub coords'!$A$14:$E$119,5,TRUE) -> 5189684.1 | L74: =ABS(J74-I74) -> 3.1266 | M74: =ABS(K74-H74) -> 3.4825 | N74: =SQRT(L74^2+M74^2) -> 4.6801104 | O74: =N74*N74 -> 21.903434 | P74: 12A | R74: 7 | S74: 0
A75: Postprocessed Code | B75: 12A_600_18.cor | C75: 601 | D75: 340.003 | E75: 0.4 | F75: 0.3 | G75: 2.114642 | H75: 5189684.2 | I75: 487925.22 | J75: =VLOOKUP($B75,'Hub coords'!$A$14:$E$119,4,TRUE) -> 487922.22 | K75: =VLOOKUP($B75,'Hub coords'!$A$14:$E$119,5,TRUE) -> 5189684.1 | L75: =ABS(J75-I75) -> 2.9916 | M75: =ABS(K75-H75) -> 0.1275 | N75: =SQRT(L75^2+M75^2) -> 2.9943157 | O75: =N75*N75 -> 8.9659268 | P75: 12A | R75: 8 | S75: 0
A76: Postprocessed Carrier Float | B76: 12A_600_19.cor | C76: 601 | D76: 336.393 | E76: 0.4 | F76: 0.3 | G76: 1.700131 | H76: 5189681.5 | I76: 487923.52 | J76: =VLOOKUP($B76,'Hub coords'!$A$14:$E$119,4,TRUE) -> 487922.22 | K76: =VLOOKUP($B76,'Hub coords'!$A$14:$E$119,5,TRUE) -> 5189684.1 | L76: =ABS(J76-I76) -> 1.2966 | M76: =ABS(K76-H76) -> 2.5695 | N76: =SQRT(L76^2+M76^2) -> 2.8781073 | O76: =N76*N76 -> 8.2835018 | P76: 12A | R76: More | S76: 0
A77: Postprocessed Carrier Float | B77: 12A_600_2.cor | C77: 601 | D77: 335.007 | E77: 0.3 | F77: 0.2 | G77: 1.974268 | H77: 5189681.8 | I77: 487924.86 | J77: =VLOOKUP($B77,'Hub coords'!$A$14:$E$119,4,TRUE) -> 487922.22 | K77: =VLOOKUP($B77,'Hub coords'!$A$14:$E$119,5,TRUE) -> 5189684.1 | L77: =ABS(J77-I77) -> 2.6346 | M77: =ABS(K77-H77) -> 2.2395 | N77: =SQRT(L77^2+M77^2) -> 3.457814 | O77: =N77*N77 -> 11.956477 | P77: 12A | S77: =SUM(S68:S76) -> 30
A78: Postprocessed Code | B78: 12A_600_20.cor | C78: 601 | D78: 337.273 | E78: 0.5 | F78: 0.4 | G78: 3.064397 | H78: 5189682.9 | I78: 487925.67 | J78: =VLOOKUP($B78,'Hub coords'!$A$14:$E$119,4,TRUE) -> 487922.22 | K78: =VLOOKUP($B78,'Hub coords'!$A$14:$E$119,5,TRUE) -> 5189684.1 | L78: =ABS(J78-I78) -> 3.4456 | M78: =ABS(K78-H78) -> 1.1985 | N78: =SQRT(L78^2+M78^2) -> 3.6480901 | O78: =N78*N78 -> 13.308562 | P78: 12A
A79: Postprocessed Code | B79: 12A_600_21.cor | C79: 601 | D79: 337.378 | E79: 0.4 | F79: 0.2 | G79: 1.689526 | H79: 5189681.3 | I79: 487925.34 | J79: =VLOOKUP($B79,'Hub coords'!$A$14:$E$119,4,TRUE) -> 487922.22 | K79: =VLOOKUP($B79,'Hub coords'!$A$14:$E$119,5,TRUE) -> 5189684.1 | L79: =ABS(J79-I79) -> 3.1166 | M79: =ABS(K79-H79) -> 2.8095 | N79: =SQRT(L79^2+M79^2) -> 4.1960083 | O79: =N79*N79 -> 17.606486 | P79: 12A
A80: Postprocessed Carrier Float | B80: 12A_600_22.cor | C80: 600 | D80: 333.687 | E80: 0.4 | F80: 0.5 | G80: 2.42482 | H80: 5189686.3 | I80: 487923.84 | J80: =VLOOKUP($B80,'Hub coords'!$A$14:$E$119,4,TRUE) -> 487922.22 | K80: =VLOOKUP($B80,'Hub coords'!$A$14:$E$119,5,TRUE) -> 5189684.1 | L80: =ABS(J80-I80) -> 1.6146 | M80: =ABS(K80-H80) -> 2.1845 | N80: =SQRT(L80^2+M80^2) -> 2.7164266 | O80: =N80*N80 -> 7.3789734 | P80: 12A
A81: Postprocessed Code | B81: 12A_600_23.cor | C81: 600 | D81: 331.865 | E81: 0.4 | F81: 0.3 | G81: 2.414608 | H81: 5189687.8 | I81: 487923.71 | J81: =VLOOKUP($B81,'Hub coords'!$A$14:$E$119,4,TRUE) -> 487922.22 | K81: =VLOOKUP($B81,'Hub coords'!$A$14:$E$119,5,TRUE) -> 5189684.1 | L81: =ABS(J81-I81) -> 1.4836 | M81: =ABS(K81-H81) -> 3.6755 | N81: =SQRT(L81^2+M81^2) -> 3.9636308 | O81: =N81*N81 -> 15.710369 | P81: 12A
A82: Postprocessed Carrier Float | B82: 12A_600_24.cor | C82: 601 | D82: 339.011 | E82: 0.6 | F82: 0.3 | G82: 1.785056 | H82: 5189682.9 | I82: 487924.58 | J82: =VLOOKUP($B82,'Hub coords'!$A$14:$E$119,4,TRUE) -> 487922.22 | K82: =VLOOKUP($B82,'Hub coords'!$A$14:$E$119,5,TRUE) -> 5189684.1 | L82: =ABS(J82-I82) -> 2.3556 | M82: =ABS(K82-H82) -> 1.2095 | N82: =SQRT(L82^2+M82^2) -> 2.6479693 | O82: =N82*N82 -> 7.0117416 | P82: 12A
A83: Postprocessed Code | B83: 12A_600_25.cor | C83: 601 | D83: 332.391 | E83: 0.4 | F83: 0.4 | G83: 1.969539 | H83: 5189683.6 | I83: 487924.16 | J83: =VLOOKUP($B83,'Hub coords'!$A$14:$E$119,4,TRUE) -> 487922.22 | K83: =VLOOKUP($B83,'Hub coords'!$A$14:$E$119,5,TRUE) -> 5189684.1 | L83: =ABS(J83-I83) -> 1.9366 | M83: =ABS(K83-H83) -> 0.4495 | N83: =SQRT(L83^2+M83^2) -> 1.9880819 | O83: =N83*N83 -> 3.9524698 | P83: 12A
A84: Postprocessed Carrier Float | B84: 12A_600_26.cor | C84: 601 | D84: 337.509 | E84: 0.3 | F84: 0.2 | G84: 1.813409 | H84: 5189681 | I84: 487924.7 | J84: =VLOOKUP($B84,'Hub coords'!$A$14:$E$119,4,TRUE) -> 487922.22 | K84: =VLOOKUP($B84,'Hub coords'!$A$14:$E$119,5,TRUE) -> 5189684.1 | L84: =ABS(J84-I84) -> 2.4796 | M84: =ABS(K84-H84) -> 3.1085 | N84: =SQRT(L84^2+M84^2) -> 3.9763285 | O84: =N84*N84 -> 15.811188 | P84: 12A
A85: Postprocessed Code | B85: 12A_600_27.cor | C85: 601 | D85: 336.104 | E85: 0.6 | F85: 0.3 | G85: 1.664341 | H85: 5189684.2 | I85: 487924.16 | J85: =VLOOKUP($B85,'Hub coords'!$A$14:$E$119,4,TRUE) -> 487922.22 | K85: =VLOOKUP($B85,'Hub coords'!$A$14:$E$119,5,TRUE) -> 5189684.1 | L85: =ABS(J85-I85) -> 1.9416 | M85: =ABS(K85-H85) -> 0.1715 | N85: =SQRT(L85^2+M85^2) -> 1.9491595 | O85: =N85*N85 -> 3.7992228 | P85: 12A
A86: Postprocessed Code | B86: 12A_600_28.cor | C86: 601 | D86: 335.942 | E86: 0.3 | F86: 0.2 | G86: 1.730042 | H86: 5189681.7 | I86: 487924.75 | J86: =VLOOKUP($B86,'Hub coords'!$A$14:$E$119,4,TRUE) -> 487922.22 | K86: =VLOOKUP($B86,'Hub coords'!$A$14:$E$119,5,TRUE) -> 5189684.1 | L86: =ABS(J86-I86) -> 2.5276 | M86: =ABS(K86-H86) -> 2.3575 | N86: =SQRT(L86^2+M86^2) -> 3.4563808 | O86: =N86*N86 -> 11.946568 | P86: 12A
A87: Postprocessed Code | B87: 12A_600_29.cor | C87: 601 | D87: 327.897 | E87: 0.6 | F87: 0.4 | G87: 2.153813 | H87: 5189682.3 | I87: 487923.61 | J87: =VLOOKUP($B87,'Hub coords'!$A$14:$E$119,4,TRUE) -> 487922.22 | K87: =VLOOKUP($B87,'Hub coords'!$A$14:$E$119,5,TRUE) -> 5189684.1 | L87: =ABS(J87-I87) -> 1.3906 | M87: =ABS(K87-H87) -> 1.8205 | N87: =SQRT(L87^2+M87^2) -> 2.2908489 | O87: =N87*N87 -> 5.2479886 | P87: 12A
A88: Postprocessed Code | B88: 12A_600_3.cor | C88: 600 | D88: 330.73 | E88: 0.5 | F88: 0.4 | G88: 1.656884 | H88: 5189682.7 | I88: 487924.78 | J88: =VLOOKUP($B88,'Hub coords'!$A$14:$E$119,4,TRUE) -> 487922.22 | K88: =VLOOKUP($B88,'Hub coords'!$A$14:$E$119,5,TRUE) -> 5189684.1 | L88: =ABS(J88-I88) -> 2.5576 | M88: =ABS(K88-H88) -> 1.3475 | N88: =SQRT(L88^2+M88^2) -> 2.8908604 | O88: =N88*N88 -> 8.357074 | P88: 12A
A89: Postprocessed Code | B89: 12A_600_30.cor | C89: 601 | D89: 333.444 | E89: 0.5 | F89: 0.4 | G89: 2.121044 | H89: 5189683.5 | I89: 487924.55 | J89: =VLOOKUP($B89,'Hub coords'!$A$14:$E$119,4,TRUE) -> 487922.22 | K89: =VLOOKUP($B89,'Hub coords'!$A$14:$E$119,5,TRUE) -> 5189684.1 | L89: =ABS(J89-I89) -> 2.3226 | M89: =ABS(K89-H89) -> 0.5375 | N89: =SQRT(L89^2+M89^2) -> 2.3839834 | O89: =N89*N89 -> 5.683377 | P89: 12A
A90: Postprocessed Code | B90: 12A_600_4.cor | C90: 601 | D90: 332.587 | E90: 0.5 | F90: 0.3 | G90: 1.968208 | H90: 5189683.1 | I90: 487924.52 | J90: =VLOOKUP($B90,'Hub coords'!$A$14:$E$119,4,TRUE) -> 487922.22 | K90: =VLOOKUP($B90,'Hub coords'!$A$14:$E$119,5,TRUE) -> 5189684.1 | L90: =ABS(J90-I90) -> 2.2926 | M90: =ABS(K90-H90) -> 0.9505 | N90: =SQRT(L90^2+M90^2) -> 2.481827 | O90: =N90*N90 -> 6.159465 | P90: 12A | R90: Count | S90: =COUNT(C66:C95) -> 30
A91: Postprocessed Code | B91: 12A_600_5.cor | C91: 600 | D91: 337.949 | E91: 0.6 | F91: 0.6 | G91: 2.27815 | H91: 5189683.7 | I91: 487925.73 | J91: =VLOOKUP($B91,'Hub coords'!$A$14:$E$119,4,TRUE) -> 487922.22 | K91: =VLOOKUP($B91,'Hub coords'!$A$14:$E$119,5,TRUE) -> 5189684.1 | L91: =ABS(J91-I91) -> 3.5036 | M91: =ABS(K91-H91) -> 0.3845 | N91: =SQRT(L91^2+M91^2) -> 3.5246352 | O91: =N91*N91 -> 12.423053 | P91: 12A | R91: Ave | S91: =AVERAGE(N66:N95) -> 2.8322124
A92: Postprocessed Carrier Float | B92: 12A_600_6.cor | C92: 601 | D92: 337.034 | E92: 0.4 | F92: 0.3 | G92: 1.578723 | H92: 5189681.7 | I92: 487924.41 | J92: =VLOOKUP($B92,'Hub coords'!$A$14:$E$119,4,TRUE) -> 487922.22 | K92: =VLOOKUP($B92,'Hub coords'!$A$14:$E$119,5,TRUE) -> 5189684.1 | L92: =ABS(J92-I92) -> 2.1876 | M92: =ABS(K92-H92) -> 2.3685 | N92: =SQRT(L92^2+M92^2) -> 3.2241877 | O92: =N92*N92 -> 10.395386 | P92: 12A | R92: Stdev | S92: =_xlfn.STDEV.S(N66:N95) -> 0.91890283
A93: Postprocessed Carrier Float | B93: 12A_600_7.cor | C93: 600 | D93: 329.484 | E93: 0.4 | F93: 0.3 | G93: 1.463686 | H93: 5189683.5 | I93: 487924.47 | J93: =VLOOKUP($B93,'Hub coords'!$A$14:$E$119,4,TRUE) -> 487922.22 | K93: =VLOOKUP($B93,'Hub coords'!$A$14:$E$119,5,TRUE) -> 5189684.1 | L93: =ABS(J93-I93) -> 2.2486 | M93: =ABS(K93-H93) -> 0.5995 | N93: =SQRT(L93^2+M93^2) -> 2.3271446 | O93: =N93*N93 -> 5.4156022 | P93: 12A | R93: Min | S93: =MIN(N66:N95) -> 1.0968037
A94: Postprocessed Code | B94: 12A_600_8.cor | C94: 600 | D94: 332.408 | E94: 0.4 | F94: 0.3 | G94: 2.631943 | H94: 5189684.3 | I94: 487923.3 | J94: =VLOOKUP($B94,'Hub coords'!$A$14:$E$119,4,TRUE) -> 487922.22 | K94: =VLOOKUP($B94,'Hub coords'!$A$14:$E$119,5,TRUE) -> 5189684.1 | L94: =ABS(J94-I94) -> 1.0796 | M94: =ABS(K94-H94) -> 0.1935 | N94: =SQRT(L94^2+M94^2) -> 1.0968037 | O94: =N94*N94 -> 1.2029784 | P94: 12A | R94: Max | S94: =MAX(N66:N95) -> 4.6801104
A95: Postprocessed Code | B95: 12A_600_9.cor | C95: 601 | D95: 335.355 | E95: 0.6 | F95: 0.4 | G95: 3.12443 | H95: 5189683.1 | I95: 487925.72 | J95: =VLOOKUP($B95,'Hub coords'!$A$14:$E$119,4,TRUE) -> 487922.22 | K95: =VLOOKUP($B95,'Hub coords'!$A$14:$E$119,5,TRUE) -> 5189684.1 | L95: =ABS(J95-I95) -> 3.4956 | M95: =ABS(K95-H95) -> 0.9735 | N95: =SQRT(L95^2+M95^2) -> 3.6286253 | O95: =N95*N95 -> 13.166922 | P95: 12A | R95: RMSE | S95: =SQRT(SUM(O66:O95)/S90) -> 2.9728208
A96: Postprocessed Code | B96: 13A_600_1.cor | C96: 601 | D96: 347.04 | E96: 0.3 | F96: 0.2 | G96: 2.353685 | H96: 5189667.7 | I96: 487873.63 | J96: =VLOOKUP($B96,'Hub coords'!$A$14:$E$119,4,TRUE) -> 487870.82 | K96: =VLOOKUP($B96,'Hub coords'!$A$14:$E$119,5,TRUE) -> 5189670 | L96: =ABS(J96-I96) -> 2.8096 | M96: =ABS(K96-H96) -> 2.2825 | N96: =SQRT(L96^2+M96^2) -> 3.6198976 | O96: =N96*N96 -> 13.103658 | P96: 13A
A97: Postprocessed Code | B97: 13A_600_10.cor | C97: 601 | D97: 337.925 | E97: 0.6 | F97: 0.3 | G97: 2.431728 | H97: 5189669.9 | I97: 487873.61 | J97: =VLOOKUP($B97,'Hub coords'!$A$14:$E$119,4,TRUE) -> 487870.82 | K97: =VLOOKUP($B97,'Hub coords'!$A$14:$E$119,5,TRUE) -> 5189670 | L97: =ABS(J97-I97) -> 2.7936 | M97: =ABS(K97-H97) -> 0.1185 | N97: =SQRT(L97^2+M97^2) -> 2.7961122 | O97: =N97*N97 -> 7.8182432 | P97: 13A | R97: Bin | S97: Frequency
A98: Postprocessed Code | B98: 13A_600_11.cor | C98: 601 | D98: 337.121 | E98: 0.3 | F98: 0.2 | G98: 2.342462 | H98: 5189670.4 | I98: 487873.39 | J98: =VLOOKUP($B98,'Hub coords'!$A$14:$E$119,4,TRUE) -> 487870.82 | K98: =VLOOKUP($B98,'Hub coords'!$A$14:$E$119,5,TRUE) -> 5189670 | L98: =ABS(J98-I98) -> 2.5686 | M98: =ABS(K98-H98) -> 0.4725 | N98: =SQRT(L98^2+M98^2) -> 2.6116972 | O98: =N98*N98 -> 6.8209622 | P98: 13A | R98: 1 | S98: 0
A99: Postprocessed Code | B99: 13A_600_12.cor | C99: 601 | D99: 337.928 | E99: 0.3 | F99: 0.2 | G99: 1.839076 | H99: 5189669.4 | I99: 487872.68 | J99: =VLOOKUP($B99,'Hub coords'!$A$14:$E$119,4,TRUE) -> 487870.82 | K99: =VLOOKUP($B99,'Hub coords'!$A$14:$E$119,5,TRUE) -> 5189670 | L99: =ABS(J99-I99) -> 1.8666 | M99: =ABS(K99-H99) -> 0.6075 | N99: =SQRT(L99^2+M99^2) -> 1.9629702 | O99: =N99*N99 -> 3.8532518 | P99: 13A | R99: 2 | S99: 6
A100: Postprocessed Carrier Float | B100: 13A_600_13.cor | C100: 601 | D100: 343.507 | E100: 0.3 | F100: 0.2 | G100: 2.35658 | H100: 5189667.7 | I100: 487873.42 | J100: =VLOOKUP($B100,'Hub coords'!$A$14:$E$119,4,TRUE) -> 487870.82 | K100: =VLOOKUP($B100,'Hub coords'!$A$14:$E$119,5,TRUE) -> 5189670 | L100: =ABS(J100-I100) -> 2.6056 | M100: =ABS(K100-H100) -> 2.2555 | N100: =SQRT(L100^2+M100^2) -> 3.4462199 | O100: =N100*N100 -> 11.876432 | P100: 13A | R100: 3 | S100: 7
A101: Postprocessed Code | B101: 13A_600_14.cor | C101: 601 | D101: 335.05 | E101: 0.3 | F101: 0.5 | G101: 2.214471 | H101: 5189671 | I101: 487874.27 | J101: =VLOOKUP($B101,'Hub coords'!$A$14:$E$119,4,TRUE) -> 487870.82 | K101: =VLOOKUP($B101,'Hub coords'!$A$14:$E$119,5,TRUE) -> 5189670 | L101: =ABS(J101-I101) -> 3.4506 | M101: =ABS(K101-H101) -> 0.9755 | N101: =SQRT(L101^2+M101^2) -> 3.5858389 | O101: =N101*N101 -> 12.858241 | P101: 13A | R101: 4 | S101: 6
...

Sheet 15min_all_by_hub
A1: 15 min sub-samples from 37 one-hr occupation rover files | Z1: 1
A2: PFO Auto/Smart | Z2: 2
A3: CPXF GNSS basestation data used | Z3: 3
Z4: 4
A5: Corr Type | B5: Long file | C5: Datafile | D5: Unfilt Pos | E5: GNSS Height | F5: Vert Prec | G5: Horz Prec | H5: Std Dev | I5: Northing | J5: Easting | K5: X_2013_TR1 | L5: Y_2013_TR1 | M5: Abs_X_diff | N5: Abs_Y_diff | O5: Horz Err (m) | P5: Horz Err^2 | Q5: Hub | Z5: 5
A6: Postprocessed Code | B6: 0 | C6: 10A_900_1.cor | D6: 901 | E6: 324.51 | F6: 0.4 | G6: 0.3 | H6: 1.68446 | I6: 5189793.5 | J6: 487965.06 | K6: =VLOOKUP($C6,'Hub coords'!$A$14:$E$119,4,TRUE) -> 487964.07 | L6: =VLOOKUP($C6,'Hub coords'!$A$14:$E$119,5,TRUE) -> 5189790.6 | M6: =ABS(K6-J6) -> 0.9906 | N6: =ABS(L6-I6) -> 2.8865 | O6: =SQRT(M6^2+N6^2) -> 3.0517488 | P6: =O6*O6 -> 9.3131706 | Q6: =VLOOKUP($C6,'Hub coords'!$A$14:$E$118,1,TRUE) -> 10A | Z6: 6
A7: Postprocessed Carrier Float | B7: 0 | C7: 10A_900_10.cor | D7: 901 | E7: 321.632 | F7: 0.5 | G7: 0.4 | H7: 1.929982 | I7: 5189792.8 | J7: 487964.02 | K7: =VLOOKUP($C7,'Hub coords'!$A$14:$E$119,4,TRUE) -> 487964.07 | L7: =VLOOKUP($C7,'Hub coords'!$A$14:$E$119,5,TRUE) -> 5189790.6 | M7: =ABS(K7-J7) -> 0.0474 | N7: =ABS(L7-I7) -> 2.2015 | O7: =SQRT(M7^2+N7^2) -> 2.2020102 | P7: =O7*O7 -> 4.848849 | Q7: =VLOOKUP($C7,'Hub coords'!$A$14:$E$118,1,TRUE) -> 10A | R7: Bin | S7: Frequency | Z7: 7
A8: Postprocessed Carrier Float | B8: 0 | C8: 10A_900_11.cor | D8: 901 | E8: 324.65 | F8: 0.3 | G8: 0.2 | H8: 1.997451 | I8: 5189791.2 | J8: 487964.08 | K8: =VLOOKUP($C8,'Hub coords'!$A$14:$E$119,4,TRUE) -> 487964.07 | L8: =VLOOKUP($C8,'Hub coords'!$A$14:$E$119,5,TRUE) -> 5189790.6 | M8: =ABS(K8-J8) -> 0.0096 | N8: =ABS(L8-I8) -> 0.6245 | O8: =SQRT(M8^2+N8^2) -> 0.62457378 | P8: =O8*O8 -> 0.39009241 | Q8: =VLOOKUP($C8,'Hub coords'!$A$14:$E$118,1,TRUE) -> 10A | R8: 1 | S8: 11 | Z8: 8
A9: Postprocessed Carrier Float | B9: 0 | C9: 10A_900_12.cor | D9: 901 | E9: 323.854 | F9: 0.2 | G9: 0.2 | H9: 2.086726 | I9: 5189791.5 | J9: 487963.73 | K9: =VLOOKUP($C9,'Hub coords'!$A$14:$E$119,4,TRUE) -> 487964.07 | L9: =VLOOKUP($C9,'Hub coords'!$A$14:$E$119,5,TRUE) -> 5189790.6 | M9: =ABS(K9-J9) -> 0.3404 | N9: =ABS(L9-I9) -> 0.8825 | O9: =SQRT(M9^2+N9^2) -> 0.94587441 | P9: =O9*O9 -> 0.89467841 | Q9: =VLOOKUP($C9,'Hub coords'!$A$14:$E$118,1,TRUE) -> 10A | R9: 2 | S9: 7
A10: Postprocessed Code | B10: 0 | C10: 10A_900_13.cor | D10: 900 | E10: 324.524 | F10: 0.2 | G10: 0.2 | H10: 2.025946 | I10: 5189792.5 | J10: 487966.87 | K10: =VLOOKUP($C10,'Hub coords'!$A$14:$E$119,4,TRUE) -> 487964.07 | L10: =VLOOKUP($C10,'Hub coords'!$A$14:$E$119,5,TRUE) -> 5189790.6 | M10: =ABS(K10-J10) -> 2.8046 | N10: =ABS(L10-I10) -> 1.9645 | O10: =SQRT(M10^2+N10^2) -> 3.4241848 | P10: =O10*O10 -> 11.725041 | Q10: =VLOOKUP($C10,'Hub coords'!$A$14:$E$118,1,TRUE) -> 10A | R10: 3 | S10: 7
A11: Postprocessed Code | B11: 0 | C11: 10A_900_14.cor | D11: 901 | E11: 319.699 | F11: 0.3 | G11: 0.2 | H11: 1.79333 | I11: 5189790.8 | J11: 487962.96 | K11: =VLOOKUP($C11,'Hub coords'!$A$14:$E$119,4,TRUE) -> 487964.07 | L11: =VLOOKUP($C11,'Hub coords'!$A$14:$E$119,5,TRUE) -> 5189790.6 | M11: =ABS(K11-J11) -> 1.1134 | N11: =ABS(L11-I11) -> 0.2665 | O11: =SQRT(M11^2+N11^2) -> 1.1448501 | P11: =O11*O11 -> 1.3106818 | Q11: =VLOOKUP($C11,'Hub coords'!$A$14:$E$118,1,TRUE) -> 10A | R11: 4 | S11: 5
A12: Postprocessed Code | B12: 0 | C12: 10A_900_15.cor | D12: 901 | E12: 325.542 | F12: 0.5 | G12: 0.4 | H12: 1.70016 | I12: 5189793.8 | J12: 487964.36 | K12: =VLOOKUP($C12,'Hub coords'!$A$14:$E$119,4,TRUE) -> 487964.07 | L12: =VLOOKUP($C12,'Hub coords'!$A$14:$E$119,5,TRUE) -> 5189790.6 | M12: =ABS(K12-J12) -> 0.2936 | N12: =ABS(L12-I12) -> 3.1915 | O12: =SQRT(M12^2+N12^2) -> 3.2049763 | P12: =O12*O12 -> 10.271873 | Q12: =VLOOKUP($C12,'Hub coords'!$A$14:$E$118,1,TRUE) -> 10A | R12: 5 | S12: 0
A13: Postprocessed Carrier Float | B13: 0 | C13: 10A_900_16.cor | D13: 901 | E13: 322.119 | F13: 0.3 | G13: 0.3 | H13: 2.341327 | I13: 5189792.6 | J13: 487963.84 | K13: =VLOOKUP($C13,'Hub coords'!$A$14:$E$119,4,TRUE) -> 487964.07 | L13: =VLOOKUP($C13,'Hub coords'!$A$14:$E$119,5,TRUE) -> 5189790.6 | M13: =ABS(K13-J13) -> 0.2324 | N13: =ABS(L13-I13) -> 2.0365 | O13: =SQRT(M13^2+N13^2) -> 2.0497175 | P13: =O13*O13 -> 4.201342 | Q13: =VLOOKUP($C13,'Hub coords'!$A$14:$E$118,1,TRUE) -> 10A | R13: 6 | S13: 0
A14: Postprocessed Carrier Float | B14: 0 | C14: 10A_900_17.cor | D14: 901 | E14: 324.812 | F14: 0.2 | G14: 0.2 | H14: 1.907101 | I14: 5189791.4 | J14: 487964.14 | K14: =VLOOKUP($C14,'Hub coords'!$A$14:$E$119,4,TRUE) -> 487964.07 | L14: =VLOOKUP($C14,'Hub coords'!$A$14:$E$119,5,TRUE) -> 5189790.6 | M14: =ABS(K14-J14) -> 0.0666 | N14: =ABS(L14-I14) -> 0.7905 | O14: =SQRT(M14^2+N14^2) -> 0.79330058 | P14: =O14*O14 -> 0.62932581 | Q14: =VLOOKUP($C14,'Hub coords'!$A$14:$E$118,1,TRUE) -> 10A | R14: 7 | S14: 0
A15: Postprocessed Code | B15: 0 | C15: 10A_900_18.cor | D15: 901 | E15: 323.576 | F15: 0.2 | G15: 0.2 | H15: 2.043952 | I15: 5189791.2 | J15: 487964.04 | K15: =VLOOKUP($C15,'Hub coords'!$A$14:$E$119,4,TRUE) -> 487964.07 | L15: =VLOOKUP($C15,'Hub coords'!$A$14:$E$119,5,TRUE) -> 5189790.6 | M15: =ABS(K15-J15) -> 0.0254 | N15: =ABS(L15-I15) -> 0.6155 | O15: =SQRT(M15^2+N15^2) -> 0.61602387 | P15: =O15*O15 -> 0.37948541 | Q15: =VLOOKUP($C15,'Hub coords'!$A$14:$E$118,1,TRUE) -> 10A | R15: 8 | S15: 0
A16: Postprocessed Carrier Float | B16: 0 | C16: 10A_900_19.cor | D16: 900 | E16: 324.187 | F16: 0.2 | G16: 0.2 | H16: 2.114911 | I16: 5189792.8 | J16: 487966.53 | K16: =VLOOKUP($C16,'Hub coords'!$A$14:$E$119,4,TRUE) -> 487964.07 | L16: =VLOOKUP($C16,'Hub coords'!$A$14:$E$119,5,TRUE) -> 5189790.6 | M16: =ABS(K16-J16) -> 2.4586 | N16: =ABS(L16-I16) -> 2.2095 | O16: =SQRT(M16^2+N16^2) -> 3.3055414 | P16: =O16*O16 -> 10.926604 | Q16: =VLOOKUP($C16,'Hub coords'!$A$14:$E$118,1,TRUE) -> 10A | R16: More | S16: 0
A17: Postprocessed Code | B17: 0 | C17: 10A_900_2.cor | D17: 901 | E17: 323.635 | F17: 0.2 | G17: 0.2 | H17: 2.254791 | I17: 5189793 | J17: 487965.34 | K17: =VLOOKUP($C17,'Hub coords'!$A$14:$E$119,4,TRUE) -> 487964.07 | L17: =VLOOKUP($C17,'Hub coords'!$A$14:$E$119,5,TRUE) -> 5189790.6 | M17: =ABS(K17-J17) -> 1.2716 | N17: =ABS(L17-I17) -> 2.4735 | O17: =SQRT(M17^2+N17^2) -> 2.7812171 | P17: =O17*O17 -> 7.7351688 | Q17: =VLOOKUP($C17,'Hub coords'!$A$14:$E$118,1,TRUE) -> 10A
A18: Postprocessed Carrier Float | B18: 0 | C18: 10A_900_20.cor | D18: 901 | E18: 320.064 | F18: 0.4 | G18: 0.4 | H18: 2.329518 | I18: 5189791.2 | J18: 487963.94 | K18: =VLOOKUP($C18,'Hub coords'!$A$14:$E$119,4,TRUE) -> 487964.07 | L18: =VLOOKUP($C18,'Hub coords'!$A$14:$E$119,5,TRUE) -> 5189790.6 | M18: =ABS(K18-J18) -> 0.1314 | N18: =ABS(L18-I18) -> 0.6705 | O18: =SQRT(M18^2+N18^2) -> 0.68325413 | P18: =O18*O18 -> 0.46683621 | Q18: =VLOOKUP($C18,'Hub coords'!$A$14:$E$118,1,TRUE) -> 10A
A19: Postprocessed Code | B19: 0 | C19: 10A_900_21.cor | D19: 901 | E19: 321.43 | F19: 0.3 | G19: 0.3 | H19: 2.706943 | I19: 5189792 | J19: 487964.43 | K19: =VLOOKUP($C19,'Hub coords'!$A$14:$E$119,4,TRUE) -> 487964.07 | L19: =VLOOKUP($C19,'Hub coords'!$A$14:$E$119,5,TRUE) -> 5189790.6 | M19: =ABS(K19-J19) -> 0.3596 | N19: =ABS(L19-I19) -> 1.4325 | O19: =SQRT(M19^2+N19^2) -> 1.4769456 | P19: =O19*O19 -> 2.1813684 | Q19: =VLOOKUP($C19,'Hub coords'!$A$14:$E$118,1,TRUE) -> 10A
A20: Postprocessed Code | B20: 0 | C20: 10A_900_22.cor | D20: 900 | E20: 326.921 | F20: 0.3 | G20: 0.3 | H20: 1.962216 | I20: 5189792.2 | J20: 487967.69 | K20: =VLOOKUP($C20,'Hub coords'!$A$14:$E$119,4,TRUE) -> 487964.07 | L20: =VLOOKUP($C20,'Hub coords'!$A$14:$E$119,5,TRUE) -> 5189790.6 | M20: =ABS(K20-J20) -> 3.6176 | N20: =ABS(L20-I20) -> 1.5785 | O20: =SQRT(M20^2+N20^2) -> 3.9469852 | P20: =O20*O20 -> 15.578692 | Q20: =VLOOKUP($C20,'Hub coords'!$A$14:$E$118,1,TRUE) -> 10A
A21: Postprocessed Code | B21: 0 | C21: 10A_900_23.cor | D21: 901 | E21: 322.328 | F21: 0.3 | G21: 0.3 | H21: 2.255746 | I21: 5189792.8 | J21: 487964.34 | K21: =VLOOKUP($C21,'Hub coords'!$A$14:$E$119,4,TRUE) -> 487964.07 | L21: =VLOOKUP($C21,'Hub coords'!$A$14:$E$119,5,TRUE) -> 5189790.6 | M21: =ABS(K21-J21) -> 0.2726 | N21: =ABS(L21-I21) -> 2.1845 | O21: =SQRT(M21^2+N21^2) -> 2.2014429 | P21: =O21*O21 -> 4.846351 | Q21: =VLOOKUP($C21,'Hub coords'!$A$14:$E$118,1,TRUE) -> 10A
A22: Postprocessed Code | B22: 0 | C22: 10A_900_24.cor | D22: 901 | E22: 332.277 | F22: 0.5 | G22: 0.4 | H22: 2.785714 | I22: 5189790.3 | J22: 487964.23 | K22: =VLOOKUP($C22,'Hub coords'!$A$14:$E$119,4,TRUE) -> 487964.07 | L22: =VLOOKUP($C22,'Hub coords'!$A$14:$E$119,5,TRUE) -> 5189790.6 | M22: =ABS(K22-J22) -> 0.1646 | N22: =ABS(L22-I22) -> 0.2645 | O22: =SQRT(M22^2+N22^2) -> 0.31153396 | P22: =O22*O22 -> 0.09705341 | Q22: =VLOOKUP($C22,'Hub coords'!$A$14:$E$118,1,TRUE) -> 10A
A23: Postprocessed Code | B23: 0 | C23: 10A_900_25.cor | D23: 901 | E23: 322.487 | F23: 0.3 | G23: 0.2 | H23: 1.969807 | I23: 5189791.3 | J23: 487963.26 | K23: =VLOOKUP($C23,'Hub coords'!$A$14:$E$119,4,TRUE) -> 487964.07 | L23: =VLOOKUP($C23,'Hub coords'!$A$14:$E$119,5,TRUE) -> 5189790.6 | M23: =ABS(K23-J23) -> 0.8114 | N23: =ABS(L23-I23) -> 0.7275 | O23: =SQRT(M23^2+N23^2) -> 1.0897826 | P23: =O23*O23 -> 1.1876262 | Q23: =VLOOKUP($C23,'Hub coords'!$A$14:$E$118,1,TRUE) -> 10A
A24: Postprocessed Code | B24: 0 | C24: 10A_900_26.cor | D24: 901 | E24: 324.643 | F24: 0.3 | G24: 0.2 | H24: 1.92385 | I24: 5189791.3 | J24: 487963.83 | K24: =VLOOKUP($C24,'Hub coords'!$A$14:$E$119,4,TRUE) -> 487964.07 | L24: =VLOOKUP($C24,'Hub coords'!$A$14:$E$119,5,TRUE) -> 5189790.6 | M24: =ABS(K24-J24) -> 0.2374 | N24: =ABS(L24-I24) -> 0.7055 | O24: =SQRT(M24^2+N24^2) -> 0.74437155 | P24: =O24*O24 -> 0.55408901 | Q24: =VLOOKUP($C24,'Hub coords'!$A$14:$E$118,1,TRUE) -> 10A
A25: Postprocessed Code | B25: 0 | C25: 10A_900_27.cor | D25: 901 | E25: 322.975 | F25: 0.3 | G25: 0.2 | H25: 1.950004 | I25: 5189791.5 | J25: 487963.43 | K25: =VLOOKUP($C25,'Hub coords'!$A$14:$E$119,4,TRUE) -> 487964.07 | L25: =VLOOKUP($C25,'Hub coords'!$A$14:$E$119,5,TRUE) -> 5189790.6 | M25: =ABS(K25-J25) -> 0.6364 | N25: =ABS(L25-I25) -> 0.8795 | O25: =SQRT(M25^2+N25^2) -> 1.085599 | P25: =O25*O25 -> 1.1785252 | Q25: =VLOOKUP($C25,'Hub coords'!$A$14:$E$118,1,TRUE) -> 10A
A26: Postprocessed Code | B26: 0 | C26: 10A_900_28.cor | D26: 901 | E26: 329.69 | F26: 0.3 | G26: 0.2 | H26: 1.780916 | I26: 5189790.5 | J26: 487964.83 | K26: =VLOOKUP($C26,'Hub coords'!$A$14:$E$119,4,TRUE) -> 487964.07 | L26: =VLOOKUP($C26,'Hub coords'!$A$14:$E$119,5,TRUE) -> 5189790.6 | M26: =ABS(K26-J26) -> 0.7646 | N26: =ABS(L26-I26) -> 0.023500001 | O26: =SQRT(M26^2+N26^2) -> 0.76496105 | P26: =O26*O26 -> 0.58516541 | Q26: =VLOOKUP($C26,'Hub coords'!$A$14:$E$118,1,TRUE) -> 10A
A27: Postprocessed Carrier Float | B27: 0 | C27: 10A_900_29.cor | D27: 901 | E27: 320.651 | F27: 0.4 | G27: 0.3 | H27: 2.126389 | I27: 5189792.1 | J27: 487963.75 | K27: =VLOOKUP($C27,'Hub coords'!$A$14:$E$119,4,TRUE) -> 487964.07 | L27: =VLOOKUP($C27,'Hub coords'!$A$14:$E$119,5,TRUE) -> 5189790.6 | M27: =ABS(K27-J27) -> 0.3194 | N27: =ABS(L27-I27) -> 1.5725 | O27: =SQRT(M27^2+N27^2) -> 1.6046098 | P27: =O27*O27 -> 2.5747726 | Q27: =VLOOKUP($C27,'Hub coords'!$A$14:$E$118,1,TRUE) -> 10A
A28: Postprocessed Carrier Float | B28: 0 | C28: 10A_900_3.cor | D28: 901 | E28: 328.122 | F28: 0.2 | G28: 0.2 | H28: 2.033559 | I28: 5189791.2 | J28: 487964.92 | K28: =VLOOKUP($C28,'Hub coords'!$A$14:$E$119,4,TRUE) -> 487964.07 | L28: =VLOOKUP($C28,'Hub coords'!$A$14:$E$119,5,TRUE) -> 5189790.6 | M28: =ABS(K28-J28) -> 0.8536 | N28: =ABS(L28-I28) -> 0.5925 | O28: =SQRT(M28^2+N28^2) -> 1.0390809 | P28: =O28*O28 -> 1.0796892 | Q28: =VLOOKUP($C28,'Hub coords'!$A$14:$E$118,1,TRUE) -> 10A
A29: Postprocessed Code | B29: 0 | C29: 10A_900_30.cor | D29: 901 | E29: 328.277 | F29: 0.3 | G29: 0.2 | H29: 1.82408 | I29: 5189789.8 | J29: 487963.95 | K29: =VLOOKUP($C29,'Hub coords'!$A$14:$E$119,4,TRUE) -> 487964.07 | L29: =VLOOKUP($C29,'Hub coords'!$A$14:$E$119,5,TRUE) -> 5189790.6 | M29: =ABS(K29-J29) -> 0.1234 | N29: =ABS(L29-I29) -> 0.7815 | O29: =SQRT(M29^2+N29^2) -> 0.79118254 | P29: =O29*O29 -> 0.62596981 | Q29: =VLOOKUP($C29,'Hub coords'!$A$14:$E$118,1,TRUE) -> 10A
A30: Postprocessed Code | B30: 0 | C30: 10A_900_4.cor | D30: 900 | E30: 323.558 | F30: 0.2 | G30: 0.2 | H30: 2.06437 | I30: 5189792.4 | J30: 487966.3 | K30: =VLOOKUP($C30,'Hub coords'!$A$14:$E$119,4,TRUE) -> 487964.07 | L30: =VLOOKUP($C30,'Hub coords'!$A$14:$E$119,5,TRUE) -> 5189790.6 | M30: =ABS(K30-J30) -> 2.2316 | N30: =ABS(L30-I30) -> 1.7885 | O30: =SQRT(M30^2+N30^2) -> 2.859855 | P30: =O30*O30 -> 8.1787708 | Q30: =VLOOKUP($C30,'Hub coords'!$A$14:$E$118,1,TRUE) -> 10A | R30: Count | S30: =COUNT(D6:D35) -> 30
A31: Postprocessed Code | B31: 0 | C31: 10A_900_5.cor | D31: 901 | E31: 320.133 | F31: 0.3 | G31: 0.2 | H31: 1.850212 | I31: 5189791 | J31: 487962.78 | K31: =VLOOKUP($C31,'Hub coords'!$A$14:$E$119,4,TRUE) -> 487964.07 | L31: =VLOOKUP($C31,'Hub coords'!$A$14:$E$119,5,TRUE) -> 5189790.6 | M31: =ABS(K31-J31) -> 1.2874 | N31: =ABS(L31-I31) -> 0.3985 | O31: =SQRT(M31^2+N31^2) -> 1.347665 | P31: =O31*O31 -> 1.816201 | Q31: =VLOOKUP($C31,'Hub coords'!$A$14:$E$118,1,TRUE) -> 10A | R31: Ave | S31: =AVERAGE(O6:O35) -> 1.6784639
A32: Postprocessed Code | B32: 0 | C32: 10A_900_6.cor | D32: 901 | E32: 327.668 | F32: 0.2 | G32: 0.3 | H32: 3.425307 | I32: 5189792.7 | J32: 487965.72 | K32: =VLOOKUP($C32,'Hub coords'!$A$14:$E$119,4,TRUE) -> 487964.07 | L32: =VLOOKUP($C32,'Hub coords'!$A$14:$E$119,5,TRUE) -> 5189790.6 | M32: =ABS(K32-J32) -> 1.6456 | N32: =ABS(L32-I32) -> 2.1675 | O32: =SQRT(M32^2+N32^2) -> 2.7214069 | P32: =O32*O32 -> 7.4060556 | Q32: =VLOOKUP($C32,'Hub coords'!$A$14:$E$118,1,TRUE) -> 10A | R32: Stdev | S32: =_xlfn.STDEV.S(O6:O35) -> 1.054779
A33: Postprocessed Code | B33: 0 | C33: 10A_900_7.cor | D33: 901 | E33: 320.779 | F33: 0.3 | G33: 0.2 | H33: 1.842902 | I33: 5189791 | J33: 487963.39 | K33: =VLOOKUP($C33,'Hub coords'!$A$14:$E$119,4,TRUE) -> 487964.07 | L33: =VLOOKUP($C33,'Hub coords'!$A$14:$E$119,5,TRUE) -> 5189790.6 | M33: =ABS(K33-J33) -> 0.6824 | N33: =ABS(L33-I33) -> 0.4365 | O33: =SQRT(M33^2+N33^2) -> 0.81006297 | P33: =O33*O33 -> 0.65620201 | Q33: =VLOOKUP($C33,'Hub coords'!$A$14:$E$118,1,TRUE) -> 10A | R33: Min | S33: =MIN(O6:O35) -> 0.31153396
A34: Postprocessed Carrier Float | B34: 0 | C34: 10A_900_8.cor | D34: 901 | E34: 332.856 | F34: 0.4 | G34: 0.3 | H34: 2.808974 | I34: 5189790.3 | J34: 487966.26 | K34: =VLOOKUP($C34,'Hub coords'!$A$14:$E$119,4,TRUE) -> 487964.07 | L34: =VLOOKUP($C34,'Hub coords'!$A$14:$E$119,5,TRUE) -> 5189790.6 | M34: =ABS(K34-J34) -> 2.1926 | N34: =ABS(L34-I34) -> 0.2415 | O34: =SQRT(M34^2+N34^2) -> 2.2058597 | P34: =O34*O34 -> 4.865817 | Q34: =VLOOKUP($C34,'Hub coords'!$A$14:$E$118,1,TRUE) -> 10A | R34: Max | S34: =MAX(O6:O35) -> 3.9469852
A35: Postprocessed Code | B35: 0 | C35: 10A_900_9.cor | D35: 901 | E35: 328.173 | F35: 0.2 | G35: 0.2 | H35: 1.980526 | I35: 5189791.1 | J35: 487964.23 | K35: =VLOOKUP($C35,'Hub coords'!$A$14:$E$119,4,TRUE) -> 487964.07 | L35: =VLOOKUP($C35,'Hub coords'!$A$14:$E$119,5,TRUE) -> 5189790.6 | M35: =ABS(K35-J35) -> 0.1626 | N35: =ABS(L35-I35) -> 0.4995 | O35: =SQRT(M35^2+N35^2) -> 0.52529897 | P35: =O35*O35 -> 0.27593901 | Q35: =VLOOKUP($C35,'Hub coords'!$A$14:$E$118,1,TRUE) -> 10A | R35: RMSE | S35: =SQRT(SUM(P6:P35)/S30) -> 1.9729963
A36: Postprocessed Code | B36: 0 | C36: 11A_900_1.cor | D36: 901 | E36: 325.89 | F36: 0.3 | G36: 0.2 | H36: 1.545078 | I36: 5189687.3 | J36: 487981.08 | K36: =VLOOKUP($C36,'Hub coords'!$A$14:$E$119,4,TRUE) -> 487977.94 | L36: =VLOOKUP($C36,'Hub coords'!$A$14:$E$119,5,TRUE) -> 5189689.1 | M36: =ABS(K36-J36) -> 3.1386 | N36: =ABS(L36-I36) -> 1.8575 | O36: =SQRT(M36^2+N36^2) -> 3.6470695 | P36: =O36*O36 -> 13.301116 | Q36: =VLOOKUP($C36,'Hub coords'!$A$14:$E$118,1,TRUE) -> 11A
A37: Postprocessed Code | B37: 0 | C37: 11A_900_10.cor | D37: 901 | E37: 325.814 | F37: 0.3 | G37: 0.2 | H37: 1.576233 | I37: 5189688.3 | J37: 487980.86 | K37: =VLOOKUP($C37,'Hub coords'!$A$14:$E$119,4,TRUE) -> 487977.94 | L37: =VLOOKUP($C37,'Hub coords'!$A$14:$E$119,5,TRUE) -> 5189689.1 | M37: =ABS(K37-J37) -> 2.9246 | N37: =ABS(L37-I37) -> 0.8585 | O37: =SQRT(M37^2+N37^2) -> 3.0480006 | P37: =O37*O37 -> 9.2903074 | Q37: =VLOOKUP($C37,'Hub coords'!$A$14:$E$118,1,TRUE) -> 11A | R37: Bin | S37: Frequency
A38: Postprocessed Code | B38: 0 | C38: 11A_900_11.cor | D38: 901 | E38: 327.215 | F38: 0.3 | G38: 0.3 | H38: 2.781118 | I38: 5189688.6 | J38: 487981.2 | K38: =VLOOKUP($C38,'Hub coords'!$A$14:$E$119,4,TRUE) -> 487977.94 | L38: =VLOOKUP($C38,'Hub coords'!$A$14:$E$119,5,TRUE) -> 5189689.1 | M38: =ABS(K38-J38) -> 3.2646 | N38: =ABS(L38-I38) -> 0.5065 | O38: =SQRT(M38^2+N38^2) -> 3.3036579 | P38: =O38*O38 -> 10.914155 | Q38: =VLOOKUP($C38,'Hub coords'!$A$14:$E$118,1,TRUE) -> 11A | R38: 1 | S38: 0
A39: Postprocessed Carrier Float | B39: 0 | C39: 11A_900_12.cor | D39: 901 | E39: 323.736 | F39: 0.3 | G39: 0.3 | H39: 2.361123 | I39: 5189688.5 | J39: 487981.11 | K39: =VLOOKUP($C39,'Hub coords'!$A$14:$E$119,4,TRUE) -> 487977.94 | L39: =VLOOKUP($C39,'Hub coords'!$A$14:$E$119,5,TRUE) -> 5189689.1 | M39: =ABS(K39-J39) -> 3.1716 | N39: =ABS(L39-I39) -> 0.6015 | O39: =SQRT(M39^2+N39^2) -> 3.228134 | P39: =O39*O39 -> 10.420849 | Q39: =VLOOKUP($C39,'Hub coords'!$A$14:$E$118,1,TRUE) -> 11A | R39: 2 | S39: 0
A40: Postprocessed Carrier Float | B40: 0 | C40: 11A_900_13.cor | D40: 901 | E40: 329.295 | F40: 0.3 | G40: 0.2 | H40: 2.022447 | I40: 5189689.1 | J40: 487980.28 | K40: =VLOOKUP($C40,'Hub coords'!$A$14:$E$119,4,TRUE) -> 487977.94 | L40: =VLOOKUP($C40,'Hub coords'!$A$14:$E$119,5,TRUE) -> 5189689.1 | M40: =ABS(K40-J40) -> 2.3456 | N40: =ABS(L40-I40) -> 0.0075000003 | O40: =SQRT(M40^2+N40^2) -> 2.345612 | P40: =O40*O40 -> 5.5018956 | Q40: =VLOOKUP($C40,'Hub coords'!$A$14:$E$118,1,TRUE) -> 11A | R40: 3 | S40: 15
A41: Postprocessed Code | B41: 0 | C41: 11A_900_14.cor | D41: 901 | E41: 327.13 | F41: 0.3 | G41: 0.3 | H41: 2.043295 | I41: 5189688.6 | J41: 487981.03 | K41: =VLOOKUP($C41,'Hub coords'!$A$14:$E$119,4,TRUE) -> 487977.94 | L41: =VLOOKUP($C41,'Hub coords'!$A$14:$E$119,5,TRUE) -> 5189689.1 | M41: =ABS(K41-J41) -> 3.0886 | N41: =ABS(L41-I41) -> 0.5085 | O41: =SQRT(M41^2+N41^2) -> 3.1301793 | P41: =O41*O41 -> 9.7980222 | Q41: =VLOOKUP($C41,'Hub coords'!$A$14:$E$118,1,TRUE) -> 11A | R41: 4 | S41: 15
A42: Postprocessed Carrier Float | B42: 0 | C42: 11A_900_15.cor | D42: 901 | E42: 330.653 | F42: 0.8 | G42: 0.4 | H42: 2.272296 | I42: 5189688.8 | J42: 487980.03 | K42: =VLOOKUP($C42,'Hub coords'!$A$14:$E$119,4,TRUE) -> 487977.94 | L42: =VLOOKUP($C42,'Hub coords'!$A$14:$E$119,5,TRUE) -> 5189689.1 | M42: =ABS(K42-J42) -> 2.0956 | N42: =ABS(L42-I42) -> 0.3375 | O42: =SQRT(M42^2+N42^2) -> 2.1226035 | P42: =O42*O42 -> 4.5054456 | Q42: =VLOOKUP($C42,'Hub coords'!$A$14:$E$118,1,TRUE) -> 11A | R42: 5 | S42: 0
A43: Postprocessed Code | B43: 0 | C43: 11A_900_16.cor | D43: 901 | E43: 325.124 | F43: 0.3 | G43: 0.2 | H43: 2.574277 | I43: 5189687.9 | J43: 487980.53 | K43: =VLOOKUP($C43,'Hub coords'!$A$14:$E$119,4,TRUE) -> 487977.94 | L43: =VLOOKUP($C43,'Hub coords'!$A$14:$E$119,5,TRUE) -> 5189689.1 | M43: =ABS(K43-J43) -> 2.5956 | N43: =ABS(L43-I43) -> 1.2185 | O43: =SQRT(M43^2+N43^2) -> 2.8673824 | P43: =O43*O43 -> 8.2218816 | Q43: =VLOOKUP($C43,'Hub coords'!$A$14:$E$118,1,TRUE) -> 11A | R43: 6 | S43: 0
A44: Postprocessed Carrier Float | B44: 0 | C44: 11A_900_17.cor | D44: 901 | E44: 328.412 | F44: 0.3 | G44: 0.2 | H44: 2.361654 | I44: 5189688.6 | J44: 487980.57 | K44: =VLOOKUP($C44,'Hub coords'!$A$14:$E$119,4,TRUE) -> 487977.94 | L44: =VLOOKUP($C44,'Hub coords'!$A$14:$E$119,5,TRUE) -> 5189689.1 | M44: =ABS(K44-J44) -> 2.6276 | N44: =ABS(L44-I44) -> 0.4965 | O44: =SQRT(M44^2+N44^2) -> 2.6740969 | P44: =O44*O44 -> 7.150794 | Q44: =VLOOKUP($C44,'Hub coords'!$A$14:$E$118,1,TRUE) -> 11A | R44: 7 | S44: 0
A45: Postprocessed Carrier Float | B45: 0 | C45: 11A_900_18.cor | D45: 901 | E45: 328.015 | F45: 0.3 | G45: 0.3 | H45: 2.446072 | I45: 5189688.8 | J45: 487980.16 | K45: =VLOOKUP($C45,'Hub coords'!$A$14:$E$119,4,TRUE) -> 487977.94 | L45: =VLOOKUP($C45,'Hub coords'!$A$14:$E$119,5,TRUE) -> 5189689.1 | M45: =ABS(K45-J45) -> 2.2216 | N45: =ABS(L45-I45) -> 0.3675 | O45: =SQRT(M45^2+N45^2) -> 2.251791 | P45: =O45*O45 -> 5.0705628 | Q45: =VLOOKUP($C45,'Hub coords'!$A$14:$E$118,1,TRUE) -> 11A | R45: 8 | S45: 0
A46: Postprocessed Code | B46: 0 | C46: 11A_900_19.cor | D46: 901 | E46: 328.768 | F46: 0.3 | G46: 0.2 | H46: 2.705338 | I46: 5189688.1 | J46: 487981.34 | K46: =VLOOKUP($C46,'Hub coords'!$A$14:$E$119,4,TRUE) -> 487977.94 | L46: =VLOOKUP($C46,'Hub coords'!$A$14:$E$119,5,TRUE) -> 5189689.1 | M46: =ABS(K46-J46) -> 3.3976 | N46: =ABS(L46-I46) -> 1.0405 | O46: =SQRT(M46^2+N46^2) -> 3.5533542 | P46: =O46*O46 -> 12.626326 | Q46: =VLOOKUP($C46,'Hub coords'!$A$14:$E$118,1,TRUE) -> 11A | R46: More | S46: 0
A47: Postprocessed Carrier Float | B47: 0 | C47: 11A_900_2.cor | D47: 901 | E47: 327.543 | F47: 0.4 | G47: 0.2 | H47: 2.831039 | I47: 5189688.7 | J47: 487979.96 | K47: =VLOOKUP($C47,'Hub coords'!$A$14:$E$119,4,TRUE) -> 487977.94 | L47: =VLOOKUP($C47,'Hub coords'!$A$14:$E$119,5,TRUE) -> 5189689.1 | M47: =ABS(K47-J47) -> 2.0156 | N47: =ABS(L47-I47) -> 0.3765 | O47: =SQRT(M47^2+N47^2) -> 2.0504623 | P47: =O47*O47 -> 4.2043956 | Q47: =VLOOKUP($C47,'Hub coords'!$A$14:$E$118,1,TRUE) -> 11A
A48: Postprocessed Code | B48: 0 | C48: 11A_900_20.cor | D48: 901 | E48: 328.796 | F48: 0.3 | G48: 0.2 | H48: 2.819144 | I48: 5189688.1 | J48: 487981.28 | K48: =VLOOKUP($C48,'Hub coords'!$A$14:$E$119,4,TRUE) -> 487977.94 | L48: =VLOOKUP($C48,'Hub coords'!$A$14:$E$119,5,TRUE) -> 5189689.1 | M48: =ABS(K48-J48) -> 3.3446 | N48: =ABS(L48-I48) -> 0.9735 | O48: =SQRT(M48^2+N48^2) -> 3.4833965 | P48: =O48*O48 -> 12.134051 | Q48: =VLOOKUP($C48,'Hub coords'!$A$14:$E$118,1,TRUE) -> 11A
A49: Postprocessed Code | B49: 0 | C49: 11A_900_21.cor | D49: 901 | E49: 329.041 | F49: 0.3 | G49: 0.2 | H49: 2.826157 | I49: 5189688 | J49: 487981.13 | K49: =VLOOKUP($C49,'Hub coords'!$A$14:$E$119,4,TRUE) -> 487977.94 | L49: =VLOOKUP($C49,'Hub coords'!$A$14:$E$119,5,TRUE) -> 5189689.1 | M49: =ABS(K49-J49) -> 3.1926 | N49: =ABS(L49-I49) -> 1.0795 | O49: =SQRT(M49^2+N49^2) -> 3.3701654 | P49: =O49*O49 -> 11.358015 | Q49: =VLOOKUP($C49,'Hub coords'!$A$14:$E$118,1,TRUE) -> 11A
A50: Postprocessed Code | B50: 0 | C50: 11A_900_22.cor | D50: 901 | E50: 331.713 | F50: 0.5 | G50: 0.4 | H50: 2.147863 | I50: 5189689.2 | J50: 487980.36 | K50: =VLOOKUP($C50,'Hub coords'!$A$14:$E$119,4,TRUE) -> 487977.94 | L50: =VLOOKUP($C50,'Hub coords'!$A$14:$E$119,5,TRUE) -> 5189689.1 | M50: =ABS(K50-J50) -> 2.4166 | N50: =ABS(L50-I50) -> 0.0615 | O50: =SQRT(M50^2+N50^2) -> 2.4173824 | P50: =O50*O50 -> 5.8437378 | Q50: =VLOOKUP($C50,'Hub coords'!$A$14:$E$118,1,TRUE) -> 11A
A51: Postprocessed Code | B51: 0 | C51: 11A_900_23.cor | D51: 901 | E51: 327.741 | F51: 0.3 | G51: 0.2 | H51: 3.292279 | I51: 5189688.6 | J51: 487979.85 | K51: =VLOOKUP($C51,'Hub coords'!$A$14:$E$119,4,TRUE) -> 487977.94 | L51: =VLOOKUP($C51,'Hub coords'!$A$14:$E$119,5,TRUE) -> 5189689.1 | M51: =ABS(K51-J51) -> 1.9126 | N51: =ABS(L51-I51) -> 0.5075 | O51: =SQRT(M51^2+N51^2) -> 1.9787862 | P51: =O51*O51 -> 3.915595 | Q51: =VLOOKUP($C51,'Hub coords'!$A$14:$E$118,1,TRUE) -> 11A
A52: Postprocessed Code | B52: 0 | C52: 11A_900_24.cor | D52: 901 | E52: 327.771 | F52: 0.2 | G52: 0.2 | H52: 2.728898 | I52: 5189688.5 | J52: 487981.31 | K52: =VLOOKUP($C52,'Hub coords'!$A$14:$E$119,4,TRUE) -> 487977.94 | L52: =VLOOKUP($C52,'Hub coords'!$A$14:$E$119,5,TRUE) -> 5189689.1 | M52: =ABS(K52-J52) -> 3.3676 | N52: =ABS(L52-I52) -> 0.6395 | O52: =SQRT(M52^2+N52^2) -> 3.4277821 | P52: =O52*O52 -> 11.74969 | Q52: =VLOOKUP($C52,'Hub coords'!$A$14:$E$118,1,TRUE) -> 11A
A53: Postprocessed Code | B53: 0 | C53: 11A_900_25.cor | D53: 901 | E53: 327.744 | F53: 0.3 | G53: 0.3 | H53: 2.313332 | I53: 5189690 | J53: 487979.8 | K53: =VLOOKUP($C53,'Hub coords'!$A$14:$E$119,4,TRUE) -> 487977.94 | L53: =VLOOKUP($C53,'Hub coords'!$A$14:$E$119,5,TRUE) -> 5189689.1 | M53: =ABS(K53-J53) -> 1.8656 | N53: =ABS(L53-I53) -> 0.9165 | O53: =SQRT(M53^2+N53^2) -> 2.0785658 | P53: =O53*O53 -> 4.3204356 | Q53: =VLOOKUP($C53,'Hub coords'!$A$14:$E$118,1,TRUE) -> 11A
A54: Postprocessed Carrier Float | B54: 0 | C54: 11A_900_26.cor | D54: 901 | E54: 324.138 | F54: 0.3 | G54: 0.2 | H54: 1.870316 | I54: 5189688.3 | J54: 487981.2 | K54: =VLOOKUP($C54,'Hub coords'!$A$14:$E$119,4,TRUE) -> 487977.94 | L54: =VLOOKUP($C54,'Hub coords'!$A$14:$E$119,5,TRUE) -> 5189689.1 | M54: =ABS(K54-J54) -> 3.2596 | N54: =ABS(L54-I54) -> 0.8115 | O54: =SQRT(M54^2+N54^2) -> 3.3590958 | P54: =O54*O54 -> 11.283524 | Q54: =VLOOKUP($C54,'Hub coords'!$A$14:$E$118,1,TRUE) -> 11A
A55: Postprocessed Code | B55: 0 | C55: 11A_900_27.cor | D55: 901 | E55: 328.723 | F55: 0.3 | G55: 0.3 | H55: 1.86207 | I55: 5189688.7 | J55: 487980.42 | K55: =VLOOKUP($C55,'Hub coords'!$A$14:$E$119,4,TRUE) -> 487977.94 | L55: =VLOOKUP($C55,'Hub coords'!$A$14:$E$119,5,TRUE) -> 5189689.1 | M55: =ABS(K55-J55) -> 2.4826 | N55: =ABS(L55-I55) -> 0.4025 | O55: =SQRT(M55^2+N55^2) -> 2.5150167 | P55: =O55*O55 -> 6.325309 | Q55: =VLOOKUP($C55,'Hub coords'!$A$14:$E$118,1,TRUE) -> 11A
A56: Postprocessed Carrier Float | B56: 0 | C56: 11A_900_28.cor | D56: 901 | E56: 328.412 | F56: 0.3 | G56: 0.2 | H56: 2.361654 | I56: 5189688.6 | J56: 487980.57 | K56: =VLOOKUP($C56,'Hub coords'!$A$14:$E$119,4,TRUE) -> 487977.94 | L56: =VLOOKUP($C56,'Hub coords'!$A$14:$E$119,5,TRUE) -> 5189689.1 | M56: =ABS(K56-J56) -> 2.6276 | N56: =ABS(L56-I56) -> 0.4965 | O56: =SQRT(M56^2+N56^2) -> 2.6740969 | P56: =O56*O56 -> 7.150794 | Q56: =VLOOKUP($C56,'Hub coords'!$A$14:$E$118,1,TRUE) -> 11A
A57: Postprocessed Code | B57: 0 | C57: 11A_900_29.cor | D57: 901 | E57: 327.845 | F57: 0.3 | G57: 0.2 | H57: 1.720902 | I57: 5189688.4 | J57: 487979.84 | K57: =VLOOKUP($C57,'Hub coords'!$A$14:$E$119,4,TRUE) -> 487977.94 | L57: =VLOOKUP($C57,'Hub coords'!$A$14:$E$119,5,TRUE) -> 5189689.1 | M57: =ABS(K57-J57) -> 1.9006 | N57: =ABS(L57-I57) -> 0.6785 | O57: =SQRT(M57^2+N57^2) -> 2.0180789 | P57: =O57*O57 -> 4.0726426 | Q57: =VLOOKUP($C57,'Hub coords'!$A$14:$E$118,1,TRUE) -> 11A
A58: Postprocessed Carrier Float | B58: 0 | C58: 11A_900_3.cor | D58: 901 | E58: 328.694 | F58: 0.3 | G58: 0.2 | H58: 1.588767 | I58: 5189689.1 | J58: 487980.54 | K58: =VLOOKUP($C58,'Hub coords'!$A$14:$E$119,4,TRUE) -> 487977.94 | L58: =VLOOKUP($C58,'Hub coords'!$A$14:$E$119,5,TRUE) -> 5189689.1 | M58: =ABS(K58-J58) -> 2.5976 | N58: =ABS(L58-I58) -> 0.0185 | O58: =SQRT(M58^2+N58^2) -> 2.5976659 | P58: =O58*O58 -> 6.747868 | Q58: =VLOOKUP($C58,'Hub coords'!$A$14:$E$118,1,TRUE) -> 11A
A59: Postprocessed Carrier Float | B59: 0 | C59: 11A_900_30.cor | D59: 901 | E59: 328.744 | F59: 0.3 | G59: 0.2 | H59: 1.529528 | I59: 5189688.6 | J59: 487979.91 | K59: =VLOOKUP($C59,'Hub coords'!$A$14:$E$119,4,TRUE) -> 487977.94 | L59: =VLOOKUP($C59,'Hub coords'!$A$14:$E$119,5,TRUE) -> 5189689.1 | M59: =ABS(K59-J59) -> 1.9736 | N59: =ABS(L59-I59) -> 0.4715 | O59: =SQRT(M59^2+N59^2) -> 2.02914 | P59: =O59*O59 -> 4.1174092 | Q59: =VLOOKUP($C59,'Hub coords'!$A$14:$E$118,1,TRUE) -> 11A
A60: Postprocessed Carrier Float | B60: 0 | C60: 11A_900_4.cor | D60: 901 | E60: 329.37 | F60: 0.3 | G60: 0.2 | H60: 2.139764 | I60: 5189689.1 | J60: 487980.73 | K60: =VLOOKUP($C60,'Hub coords'!$A$14:$E$119,4,TRUE) -> 487977.94 | L60: =VLOOKUP($C60,'Hub coords'!$A$14:$E$119,5,TRUE) -> 5189689.1 | M60: =ABS(K60-J60) -> 2.7956 | N60: =ABS(L60-I60) -> 0.00050000008 | O60: =SQRT(M60^2+N60^2) -> 2.7956 | P60: =O60*O60 -> 7.8153796 | Q60: =VLOOKUP($C60,'Hub coords'!$A$14:$E$118,1,TRUE) -> 11A | R60: Count | S60: =COUNT(D36:D65) -> 30
A61: Postprocessed Carrier Float | B61: 0 | C61: 11A_900_5.cor | D61: 901 | E61: 324.067 | F61: 0.3 | G61: 0.3 | H61: 2.301894 | I61: 5189688 | J61: 487981.25 | K61: =VLOOKUP($C61,'Hub coords'!$A$14:$E$119,4,TRUE) -> 487977.94 | L61: =VLOOKUP($C61,'Hub coords'!$A$14:$E$119,5,TRUE) -> 5189689.1 | M61: =ABS(K61-J61) -> 3.3076 | N61: =ABS(L61-I61) -> 1.1135 | O61: =SQRT(M61^2+N61^2) -> 3.49 | P61: =O61*O61 -> 12.1801 | Q61: =VLOOKUP($C61,'Hub coords'!$A$14:$E$118,1,TRUE) -> 11A | R61: Ave | S61: =AVERAGE(O36:O65) -> 2.8736071
A62: Postprocessed Code | B62: 0 | C62: 11A_900_6.cor | D62: 901 | E62: 327.891 | F62: 0.3 | G62: 0.3 | H62: 2.266 | I62: 5189688.1 | J62: 487981.27 | K62: =VLOOKUP($C62,'Hub coords'!$A$14:$E$119,4,TRUE) -> 487977.94 | L62: =VLOOKUP($C62,'Hub coords'!$A$14:$E$119,5,TRUE) -> 5189689.1 | M62: =ABS(K62-J62) -> 3.3346 | N62: =ABS(L62-I62) -> 1.0135 | O62: =SQRT(M62^2+N62^2) -> 3.4852173 | P62: =O62*O62 -> 12.146739 | Q62: =VLOOKUP($C62,'Hub coords'!$A$14:$E$118,1,TRUE) -> 11A | R62: Stdev | S62: =_xlfn.STDEV.S(O36:O65) -> 0.57759551
A63: Postprocessed Carrier Float | B63: 0 | C63: 11A_900_7.cor | D63: 901 | E63: 326.945 | F63: 0.3 | G63: 0.3 | H63: 1.551798 | I63: 5189687.9 | J63: 487981.29 | K63: =VLOOKUP($C63,'Hub coords'!$A$14:$E$119,4,TRUE) -> 487977.94 | L63: =VLOOKUP($C63,'Hub coords'!$A$14:$E$119,5,TRUE) -> 5189689.1 | M63: =ABS(K63-J63) -> 3.3496 | N63: =ABS(L63-I63) -> 1.1745 | O63: =SQRT(M63^2+N63^2) -> 3.5495451 | P63: =O63*O63 -> 12.59927 | Q63: =VLOOKUP($C63,'Hub coords'!$A$14:$E$118,1,TRUE) -> 11A | R63: Min | S63: =MIN(O36:O65) -> 1.9787862
A64: Postprocessed Carrier Float | B64: 0 | C64: 11A_900_8.cor | D64: 901 | E64: 323.516 | F64: 0.3 | G64: 0.2 | H64: 2.395211 | I64: 5189688.6 | J64: 487981.05 | K64: =VLOOKUP($C64,'Hub coords'!$A$14:$E$119,4,TRUE) -> 487977.94 | L64: =VLOOKUP($C64,'Hub coords'!$A$14:$E$119,5,TRUE) -> 5189689.1 | M64: =ABS(K64-J64) -> 3.1096 | N64: =ABS(L64-I64) -> 0.5335 | O64: =SQRT(M64^2+N64^2) -> 3.1550332 | P64: =O64*O64 -> 9.9542344 | Q64: =VLOOKUP($C64,'Hub coords'!$A$14:$E$118,1,TRUE) -> 11A | R64: Max | S64: =MAX(O36:O65) -> 3.6470695
A65: Postprocessed Code | B65: 0 | C65: 11A_900_9.cor | D65: 901 | E65: 326.027 | F65: 0.3 | G65: 0.2 | H65: 1.629396 | I65: 5189688 | J65: 487981.34 | K65: =VLOOKUP($C65,'Hub coords'!$A$14:$E$119,4,TRUE) -> 487977.94 | L65: =VLOOKUP($C65,'Hub coords'!$A$14:$E$119,5,TRUE) -> 5189689.1 | M65: =ABS(K65-J65) -> 3.3966 | N65: =ABS(L65-I65) -> 1.0705 | O65: =SQRT(M65^2+N65^2) -> 3.5613006 | P65: =O65*O65 -> 12.682862 | Q65: =VLOOKUP($C65,'Hub coords'!$A$14:$E$118,1,TRUE) -> 11A | R65: RMSE | S65: =SQRT(SUM(P36:P65)/S60) -> 2.9291831
A66: Postprocessed Code | B66: 0 | C66: 12A_900_1.cor | D66: 901 | E66: 332.484 | F66: 0.5 | G66: 0.3 | H66: 2.717335 | I66: 5189683.3 | J66: 487924.63 | K66: =VLOOKUP($C66,'Hub coords'!$A$14:$E$119,4,TRUE) -> 487922.22 | L66: =VLOOKUP($C66,'Hub coords'!$A$14:$E$119,5,TRUE) -> 5189684.1 | M66: =ABS(K66-J66) -> 2.4086 | N66: =ABS(L66-I66) -> 0.7905 | O66: =SQRT(M66^2+N66^2) -> 2.5350038 | P66: =O66*O66 -> 6.4262442 | Q66: =VLOOKUP($C66,'Hub coords'!$A$14:$E$118,1,TRUE) -> 12A
A67: Postprocessed Code | B67: 0 | C67: 12A_900_10.cor | D67: 900 | E67: 329.924 | F67: 0.3 | G67: 0.2 | H67: 2.61749 | I67: 5189682.9 | J67: 487924.39 | K67: =VLOOKUP($C67,'Hub coords'!$A$14:$E$119,4,TRUE) -> 487922.22 | L67: =VLOOKUP($C67,'Hub coords'!$A$14:$E$119,5,TRUE) -> 5189684.1 | M67: =ABS(K67-J67) -> 2.1696 | N67: =ABS(L67-I67) -> 1.1485 | O67: =SQRT(M67^2+N67^2) -> 2.4548353 | P67: =O67*O67 -> 6.0262164 | Q67: =VLOOKUP($C67,'Hub coords'!$A$14:$E$118,1,TRUE) -> 12A | R67: Bin | S67: Frequency
A68: Postprocessed Code | B68: 0 | C68: 12A_900_11.cor | D68: 900 | E68: 330.549 | F68: 0.3 | G68: 0.2 | H68: 2.548497 | I68: 5189683.2 | J68: 487924.75 | K68: =VLOOKUP($C68,'Hub coords'!$A$14:$E$119,4,TRUE) -> 487922.22 | L68: =VLOOKUP($C68,'Hub coords'!$A$14:$E$119,5,TRUE) -> 5189684.1 | M68: =ABS(K68-J68) -> 2.5276 | N68: =ABS(L68-I68) -> 0.8855 | O68: =SQRT(M68^2+N68^2) -> 2.6782218 | P68: =O68*O68 -> 7.172872 | Q68: =VLOOKUP($C68,'Hub coords'!$A$14:$E$118,1,TRUE) -> 12A | R68: 1 | S68: 0
A69: Postprocessed Code | B69: 0 | C69: 12A_900_12.cor | D69: 901 | E69: 332.011 | F69: 0.4 | G69: 0.2 | H69: 1.733885 | I69: 5189683 | J69: 487924.7 | K69: =VLOOKUP($C69,'Hub coords'!$A$14:$E$119,4,TRUE) -> 487922.22 | L69: =VLOOKUP($C69,'Hub coords'!$A$14:$E$119,5,TRUE) -> 5189684.1 | M69: =ABS(K69-J69) -> 2.4766 | N69: =ABS(L69-I69) -> 1.1105 | O69: =SQRT(M69^2+N69^2) -> 2.7141772 | P69: =O69*O69 -> 7.3667578 | Q69: =VLOOKUP($C69,'Hub coords'!$A$14:$E$118,1,TRUE) -> 12A | R69: 2 | S69: 6
A70: Postprocessed Carrier Float | B70: 0 | C70: 12A_900_13.cor | D70: 900 | E70: 335.724 | F70: 0.3 | G70: 0.3 | H70: 2.42911 | I70: 5189684.1 | J70: 487923.37 | K70: =VLOOKUP($C70,'Hub coords'!$A$14:$E$119,4,TRUE) -> 487922.22 | L70: =VLOOKUP($C70,'Hub coords'!$A$14:$E$119,5,TRUE) -> 5189684.1 | M70: =ABS(K70-J70) -> 1.1486 | N70: =ABS(L70-I70) -> 0.017500001 | O70: =SQRT(M70^2+N70^2) -> 1.1487333 | P70: =O70*O70 -> 1.3195882 | Q70: =VLOOKUP($C70,'Hub coords'!$A$14:$E$118,1,TRUE) -> 12A | R70: 3 | S70: 22
A71: Postprocessed Code | B71: 0 | C71: 12A_900_14.cor | D71: 901 | E71: 332.433 | F71: 0.4 | G71: 0.3 | H71: 2.760917 | I71: 5189683.6 | J71: 487924.85 | K71: =VLOOKUP($C71,'Hub coords'!$A$14:$E$119,4,TRUE) -> 487922.22 | L71: =VLOOKUP($C71,'Hub coords'!$A$14:$E$119,5,TRUE) -> 5189684.1 | M71: =ABS(K71-J71) -> 2.6236 | N71: =ABS(L71-I71) -> 0.4975 | O71: =SQRT(M71^2+N71^2) -> 2.6703526 | P71: =O71*O71 -> 7.1307832 | Q71: =VLOOKUP($C71,'Hub coords'!$A$14:$E$118,1,TRUE) -> 12A | R71: 4 | S71: 2
A72: Postprocessed Code | B72: 0 | C72: 12A_900_15.cor | D72: 900 | E72: 329.402 | F72: 0.4 | G72: 0.3 | H72: 2.121146 | I72: 5189683.4 | J72: 487924.67 | K72: =VLOOKUP($C72,'Hub coords'!$A$14:$E$119,4,TRUE) -> 487922.22 | L72: =VLOOKUP($C72,'Hub coords'!$A$14:$E$119,5,TRUE) -> 5189684.1 | M72: =ABS(K72-J72) -> 2.4466 | N72: =ABS(L72-I72) -> 0.6305 | O72: =SQRT(M72^2+N72^2) -> 2.5265355 | P72: =O72*O72 -> 6.3833818 | Q72: =VLOOKUP($C72,'Hub coords'!$A$14:$E$118,1,TRUE) -> 12A | R72: 5 | S72: 0
A73: Postprocessed Code | B73: 0 | C73: 12A_900_16.cor | D73: 901 | E73: 334.582 | F73: 0.3 | G73: 0.2 | H73: 1.527463 | I73: 5189684.1 | J73: 487925.05 | K73: =VLOOKUP($C73,'Hub coords'!$A$14:$E$119,4,TRUE) -> 487922.22 | L73: =VLOOKUP($C73,'Hub coords'!$A$14:$E$119,5,TRUE) -> 5189684.1 | M73: =ABS(K73-J73) -> 2.8306 | N73: =ABS(L73-I73) -> 0.026500001 | O73: =SQRT(M73^2+N73^2) -> 2.830724 | P73: =O73*O73 -> 8.0129986 | Q73: =VLOOKUP($C73,'Hub coords'!$A$14:$E$118,1,TRUE) -> 12A | R73: 6 | S73: 0
A74: Postprocessed Code | B74: 0 | C74: 12A_900_17.cor | D74: 901 | E74: 334.293 | F74: 0.3 | G74: 0.2 | H74: 1.62699 | I74: 5189684.2 | J74: 487925.03 | K74: =VLOOKUP($C74,'Hub coords'!$A$14:$E$119,4,TRUE) -> 487922.22 | L74: =VLOOKUP($C74,'Hub coords'!$A$14:$E$119,5,TRUE) -> 5189684.1 | M74: =ABS(K74-J74) -> 2.8116 | N74: =ABS(L74-I74) -> 0.078499999 | O74: =SQRT(M74^2+N74^2) -> 2.8126956 | P74: =O74*O74 -> 7.9112568 | Q74: =VLOOKUP($C74,'Hub coords'!$A$14:$E$118,1,TRUE) -> 12A | R74: 7 | S74: 0
A75: Postprocessed Carrier Float | B75: 0 | C75: 12A_900_18.cor | D75: 900 | E75: 334.891 | F75: 0.4 | G75: 0.3 | H75: 2.41433 | I75: 5189682.6 | J75: 487923.67 | K75: =VLOOKUP($C75,'Hub coords'!$A$14:$E$119,4,TRUE) -> 487922.22 | L75: =VLOOKUP($C75,'Hub coords'!$A$14:$E$119,5,TRUE) -> 5189684.1 | M75: =ABS(K75-J75) -> 1.4446 | N75: =ABS(L75-I75) -> 1.5025 | O75: =SQRT(M75^2+N75^2) -> 2.0843165 | P75: =O75*O75 -> 4.3443754 | Q75: =VLOOKUP($C75,'Hub coords'!$A$14:$E$118,1,TRUE) -> 12A | R75: 8 | S75: 0
A76: Postprocessed Code | B76: 0 | C76: 12A_900_19.cor | D76: 901 | E76: 337.938 | F76: 0.5 | G76: 0.3 | H76: 2.135597 | I76: 5189683.9 | J76: 487924.47 | K76: =VLOOKUP($C76,'Hub coords'!$A$14:$E$119,4,TRUE) -> 487922.22 | L76: =VLOOKUP($C76,'Hub coords'!$A$14:$E$119,5,TRUE) -> 5189684.1 | M76: =ABS(K76-J76) -> 2.2476 | N76: =ABS(L76-I76) -> 0.1435 | O76: =SQRT(M76^2+N76^2) -> 2.2521763 | P76: =O76*O76 -> 5.072298 | Q76: =VLOOKUP($C76,'Hub coords'!$A$14:$E$118,1,TRUE) -> 12A | R76: More | S76: 0
A77: Postprocessed Code | B77: 0 | C77: 12A_900_2.cor | D77: 901 | E77: 335.806 | F77: 0.4 | G77: 0.2 | H77: 1.517684 | I77: 5189683.9 | J77: 487924.62 | K77: =VLOOKUP($C77,'Hub coords'!$A$14:$E$119,4,TRUE) -> 487922.22 | L77: =VLOOKUP($C77,'Hub coords'!$A$14:$E$119,5,TRUE) -> 5189684.1 | M77: =ABS(K77-J77) -> 2.3976 | N77: =ABS(L77-I77) -> 0.1835 | O77: =SQRT(M77^2+N77^2) -> 2.4046118 | P77: =O77*O77 -> 5.782158 | Q77: =VLOOKUP($C77,'Hub coords'!$A$14:$E$118,1,TRUE) -> 12A
A78: Postprocessed Carrier Float | B78: 0 | C78: 12A_900_20.cor | D78: 900 | E78: 336.302 | F78: 0.4 | G78: 0.2 | H78: 2.377639 | I78: 5189681.4 | J78: 487924.37 | K78: =VLOOKUP($C78,'Hub coords'!$A$14:$E$119,4,TRUE) -> 487922.22 | L78: =VLOOKUP($C78,'Hub coords'!$A$14:$E$119,5,TRUE) -> 5189684.1 | M78: =ABS(K78-J78) -> 2.1426 | N78: =ABS(L78-I78) -> 2.6815 | O78: =SQRT(M78^2+N78^2) -> 3.4323719 | P78: =O78*O78 -> 11.781177 | Q78: =VLOOKUP($C78,'Hub coords'!$A$14:$E$118,1,TRUE) -> 12A
A79: Postprocessed Code | B79: 0 | C79: 12A_900_21.cor | D79: 901 | E79: 337.17 | F79: 0.5 | G79: 0.3 | H79: 2.102012 | I79: 5189683.9 | J79: 487924.46 | K79: =VLOOKUP($C79,'Hub coords'!$A$14:$E$119,4,TRUE) -> 487922.22 | L79: =VLOOKUP($C79,'Hub coords'!$A$14:$E$119,5,TRUE) -> 5189684.1 | M79: =ABS(K79-J79) -> 2.2366 | N79: =ABS(L79-I79) -> 0.1975 | O79: =SQRT(M79^2+N79^2) -> 2.2453031 | P79: =O79*O79 -> 5.0413858 | Q79: =VLOOKUP($C79,'Hub coords'!$A$14:$E$118,1,TRUE) -> 12A
A80: Postprocessed Carrier Float | B80: 0 | C80: 12A_900_22.cor | D80: 900 | E80: 338.493 | F80: 0.3 | G80: 0.2 | H80: 2.33106 | I80: 5189684.7 | J80: 487924 | K80: =VLOOKUP($C80,'Hub coords'!$A$14:$E$119,4,TRUE) -> 487922.22 | L80: =VLOOKUP($C80,'Hub coords'!$A$14:$E$119,5,TRUE) -> 5189684.1 | M80: =ABS(K80-J80) -> 1.7766 | N80: =ABS(L80-I80) -> 0.6105 | O80: =SQRT(M80^2+N80^2) -> 1.878568 | P80: =O80*O80 -> 3.5290178 | Q80: =VLOOKUP($C80,'Hub coords'!$A$14:$E$118,1,TRUE) -> 12A
A81: Postprocessed Code | B81: 0 | C81: 12A_900_23.cor | D81: 900 | E81: 334.285 | F81: 0.4 | G81: 0.3 | H81: 2.376525 | I81: 5189683.9 | J81: 487923.48 | K81: =VLOOKUP($C81,'Hub coords'!$A$14:$E$119,4,TRUE) -> 487922.22 | L81: =VLOOKUP($C81,'Hub coords'!$A$14:$E$119,5,TRUE) -> 5189684.1 | M81: =ABS(K81-J81) -> 1.2526 | N81: =ABS(L81-I81) -> 0.1315 | O81: =SQRT(M81^2+N81^2) -> 1.2594836 | P81: =O81*O81 -> 1.586299 | Q81: =VLOOKUP($C81,'Hub coords'!$A$14:$E$118,1,TRUE) -> 12A
A82: Postprocessed Carrier Float | B82: 0 | C82: 12A_900_24.cor | D82: 900 | E82: 335.025 | F82: 0.3 | G82: 0.3 | H82: 2.466521 | I82: 5189683.5 | J82: 487923.66 | K82: =VLOOKUP($C82,'Hub coords'!$A$14:$E$119,4,TRUE) -> 487922.22 | L82: =VLOOKUP($C82,'Hub coords'!$A$14:$E$119,5,TRUE) -> 5189684.1 | M82: =ABS(K82-J82) -> 1.4366 | N82: =ABS(L82-I82) -> 0.5385 | O82: =SQRT(M82^2+N82^2) -> 1.5342105 | P82: =O82*O82 -> 2.3538018 | Q82: =VLOOKUP($C82,'Hub coords'!$A$14:$E$118,1,TRUE) -> 12A
A83: Postprocessed Code | B83: 0 | C83: 12A_900_25.cor | D83: 900 | E83: 330.172 | F83: 0.5 | G83: 0.4 | H83: 2.401764 | I83: 5189683.5 | J83: 487924.38 | K83: =VLOOKUP($C83,'Hub coords'!$A$14:$E$119,4,TRUE) -> 487922.22 | L83: =VLOOKUP($C83,'Hub coords'!$A$14:$E$119,5,TRUE) -> 5189684.1 | M83: =ABS(K83-J83) -> 2.1516 | N83: =ABS(L83-I83) -> 0.6265 | O83: =SQRT(M83^2+N83^2) -> 2.2409562 | P83: =O83*O83 -> 5.0218848 | Q83: =VLOOKUP($C83,'Hub coords'!$A$14:$E$118,1,TRUE) -> 12A
A84: Postprocessed Carrier Float | B84: 0 | C84: 12A_900_26.cor | D84: 900 | E84: 334.225 | F84: 0.4 | G84: 0.3 | H84: 2.413986 | I84: 5189682.7 | J84: 487923.89 | K84: =VLOOKUP($C84,'Hub coords'!$A$14:$E$119,4,TRUE) -> 487922.22 | L84: =VLOOKUP($C84,'Hub coords'!$A$14:$E$119,5,TRUE) -> 5189684.1 | M84: =ABS(K84-J84) -> 1.6656 | N84: =ABS(L84-I84) -> 1.4185 | O84: =SQRT(M84^2+N84^2) -> 2.1877764 | P84: =O84*O84 -> 4.7863656 | Q84: =VLOOKUP($C84,'Hub coords'!$A$14:$E$118,1,TRUE) -> 12A
A85: Postprocessed Carrier Float | B85: 0 | C85: 12A_900_27.cor | D85: 900 | E85: 331.598 | F85: 0.4 | G85: 0.2 | H85: 2.408491 | I85: 5189682.8 | J85: 487924.42 | K85: =VLOOKUP($C85,'Hub coords'!$A$14:$E$119,4,TRUE) -> 487922.22 | L85: =VLOOKUP($C85,'Hub coords'!$A$14:$E$119,5,TRUE) -> 5189684.1 | M85: =ABS(K85-J85) -> 2.1976 | N85: =ABS(L85-I85) -> 1.2745 | O85: =SQRT(M85^2+N85^2) -> 2.5404322 | P85: =O85*O85 -> 6.453796 | Q85: =VLOOKUP($C85,'Hub coords'!$A$14:$E$118,1,TRUE) -> 12A
A86: Postprocessed Carrier Float | B86: 0 | C86: 12A_900_28.cor | D86: 900 | E86: 334.523 | F86: 0.4 | G86: 0.4 | H86: 2.569019 | I86: 5189683.9 | J86: 487923.84 | K86: =VLOOKUP($C86,'Hub coords'!$A$14:$E$119,4,TRUE) -> 487922.22 | L86: =VLOOKUP($C86,'Hub coords'!$A$14:$E$119,5,TRUE) -> 5189684.1 | M86: =ABS(K86-J86) -> 1.6136 | N86: =ABS(L86-I86) -> 0.1805 | O86: =SQRT(M86^2+N86^2) -> 1.6236641 | P86: =O86*O86 -> 2.6362852 | Q86: =VLOOKUP($C86,'Hub coords'!$A$14:$E$118,1,TRUE) -> 12A
A87: Postprocessed Carrier Float | B87: 0 | C87: 12A_900_29.cor | D87: 901 | E87: 337.018 | F87: 0.3 | G87: 0.2 | H87: 1.971836 | I87: 5189681.3 | J87: 487924.37 | K87: =VLOOKUP($C87,'Hub coords'!$A$14:$E$119,4,TRUE) -> 487922.22 | L87: =VLOOKUP($C87,'Hub coords'!$A$14:$E$119,5,TRUE) -> 5189684.1 | M87: =ABS(K87-J87) -> 2.1496 | N87: =ABS(L87-I87) -> 2.8235 | O87: =SQRT(M87^2+N87^2) -> 3.5486522 | P87: =O87*O87 -> 12.592932 | Q87: =VLOOKUP($C87,'Hub coords'!$A$14:$E$118,1,TRUE) -> 12A
A88: Postprocessed Code | B88: 0 | C88: 12A_900_3.cor | D88: 900 | E88: 331.128 | F88: 0.3 | G88: 0.3 | H88: 2.820814 | I88: 5189683.7 | J88: 487924.65 | K88: =VLOOKUP($C88,'Hub coords'!$A$14:$E$119,4,TRUE) -> 487922.22 | L88: =VLOOKUP($C88,'Hub coords'!$A$14:$E$119,5,TRUE) -> 5189684.1 | M88: =ABS(K88-J88) -> 2.4296 | N88: =ABS(L88-I88) -> 0.3325 | O88: =SQRT(M88^2+N88^2) -> 2.4522464 | P88: =O88*O88 -> 6.0135124 | Q88: =VLOOKUP($C88,'Hub coords'!$A$14:$E$118,1,TRUE) -> 12A
A89: Postprocessed Carrier Float | B89: 0 | C89: 12A_900_30.cor | D89: 900 | E89: 331.825 | F89: 0.3 | G89: 0.3 | H89: 2.693198 | I89: 5189684.2 | J89: 487924.53 | K89: =VLOOKUP($C89,'Hub coords'!$A$14:$E$119,4,TRUE) -> 487922.22 | L89: =VLOOKUP($C89,'Hub coords'!$A$14:$E$119,5,TRUE) -> 5189684.1 | M89: =ABS(K89-J89) -> 2.3026 | N89: =ABS(L89-I89) -> 0.1435 | O89: =SQRT(M89^2+N89^2) -> 2.3070672 | P89: =O89*O89 -> 5.322559 | Q89: =VLOOKUP($C89,'Hub coords'!$A$14:$E$118,1,TRUE) -> 12A
A90: Postprocessed Carrier Float | B90: 0 | C90: 12A_900_4.cor | D90: 900 | E90: 334.408 | F90: 0.3 | G90: 0.3 | H90: 2.536859 | I90: 5189683.8 | J90: 487923.48 | K90: =VLOOKUP($C90,'Hub coords'!$A$14:$E$119,4,TRUE) -> 487922.22 | L90: =VLOOKUP($C90,'Hub coords'!$A$14:$E$119,5,TRUE) -> 5189684.1 | M90: =ABS(K90-J90) -> 1.2556 | N90: =ABS(L90-I90) -> 0.2805 | O90: =SQRT(M90^2+N90^2) -> 1.2865503 | P90: =O90*O90 -> 1.6552116 | Q90: =VLOOKUP($C90,'Hub coords'!$A$14:$E$118,1,TRUE) -> 12A | R90: Count | S90: =COUNT(D66:D95) -> 30
A91: Postprocessed Code | B91: 0 | C91: 12A_900_5.cor | D91: 901 | E91: 331.494 | F91: 0.4 | G91: 0.3 | H91: 1.765405 | I91: 5189683.2 | J91: 487924.16 | K91: =VLOOKUP($C91,'Hub coords'!$A$14:$E$119,4,TRUE) -> 487922.22 | L91: =VLOOKUP($C91,'Hub coords'!$A$14:$E$119,5,TRUE) -> 5189684.1 | M91: =ABS(K91-J91) -> 1.9356 | N91: =ABS(L91-I91) -> 0.9145 | O91: =SQRT(M91^2+N91^2) -> 2.140761 | P91: =O91*O91 -> 4.5828576 | Q91: =VLOOKUP($C91,'Hub coords'!$A$14:$E$118,1,TRUE) -> 12A | R91: Ave | S91: =AVERAGE(O66:O95) -> 2.3212203
A92: Postprocessed Code | B92: 0 | C92: 12A_900_6.cor | D92: 901 | E92: 336.044 | F92: 0.4 | G92: 0.2 | H92: 2.387674 | I92: 5189684.3 | J92: 487924.54 | K92: =VLOOKUP($C92,'Hub coords'!$A$14:$E$119,4,TRUE) -> 487922.22 | L92: =VLOOKUP($C92,'Hub coords'!$A$14:$E$119,5,TRUE) -> 5189684.1 | M92: =ABS(K92-J92) -> 2.3216 | N92: =ABS(L92-I92) -> 0.1915 | O92: =SQRT(M92^2+N92^2) -> 2.3294847 | P92: =O92*O92 -> 5.4264988 | Q92: =VLOOKUP($C92,'Hub coords'!$A$14:$E$118,1,TRUE) -> 12A | R92: Stdev | S92: =_xlfn.STDEV.S(O66:O95) -> 0.56016352
A93: Postprocessed Code | B93: 0 | C93: 12A_900_7.cor | D93: 901 | E93: 334.204 | F93: 0.4 | G93: 0.3 | H93: 1.582275 | I93: 5189684.1 | J93: 487924.8 | K93: =VLOOKUP($C93,'Hub coords'!$A$14:$E$119,4,TRUE) -> 487922.22 | L93: =VLOOKUP($C93,'Hub coords'!$A$14:$E$119,5,TRUE) -> 5189684.1 | M93: =ABS(K93-J93) -> 2.5786 | N93: =ABS(L93-I93) -> 0.015499999 | O93: =SQRT(M93^2+N93^2) -> 2.5786466 | P93: =O93*O93 -> 6.6494182 | Q93: =VLOOKUP($C93,'Hub coords'!$A$14:$E$118,1,TRUE) -> 12A | R93: Min | S93: =MIN(O66:O95) -> 1.1487333
A94: Postprocessed Code | B94: 0 | C94: 12A_900_8.cor | D94: 901 | E94: 338.331 | F94: 0.5 | G94: 0.3 | H94: 2.185765 | I94: 5189684 | J94: 487924.4 | K94: =VLOOKUP($C94,'Hub coords'!$A$14:$E$119,4,TRUE) -> 487922.22 | L94: =VLOOKUP($C94,'Hub coords'!$A$14:$E$119,5,TRUE) -> 5189684.1 | M94: =ABS(K94-J94) -> 2.1786 | N94: =ABS(L94-I94) -> 0.066500001 | O94: =SQRT(M94^2+N94^2) -> 2.1796147 | P94: =O94*O94 -> 4.7507202 | Q94: =VLOOKUP($C94,'Hub coords'!$A$14:$E$118,1,TRUE) -> 12A | R94: Max | S94: =MAX(O66:O95) -> 3.5486522
A95: Postprocessed Code | B95: 0 | C95: 12A_900_9.cor | D95: 901 | E95: 334.702 | F95: 0.4 | G95: 0.3 | H95: 1.528915 | I95: 5189683.1 | J95: 487924.81 | K95: =VLOOKUP($C95,'Hub coords'!$A$14:$E$119,4,TRUE) -> 487922.22 | L95: =VLOOKUP($C95,'Hub coords'!$A$14:$E$119,5,TRUE) -> 5189684.1 | M95: =ABS(K95-J95) -> 2.5906 | N95: =ABS(L95-I95) -> 0.9475 | O95: =SQRT(M95^2+N95^2) -> 2.7584352 | P95: =O95*O95 -> 7.6089646 | Q95: =VLOOKUP($C95,'Hub coords'!$A$14:$E$118,1,TRUE) -> 12A | R95: RMSE | S95: =SQRT(SUM(P66:P95)/S90) -> 2.3856629
A96: Postprocessed Code | B96: 0 | C96: 13A_900_1.cor | D96: 901 | E96: 341.269 | F96: 0.2 | G96: 0.2 | H96: 2.400991 | I96: 5189667.3 | J96: 487873.22 | K96: =VLOOKUP($C96,'Hub coords'!$A$14:$E$119,4,TRUE) -> 487870.82 | L96: =VLOOKUP($C96,'Hub coords'!$A$14:$E$119,5,TRUE) -> 5189670 | M96: =ABS(K96-J96) -> 2.4006 | N96: =ABS(L96-I96) -> 2.6595 | O96: =SQRT(M96^2+N96^2) -> 3.5827113 | P96: =O96*O96 -> 12.835821 | Q96: =VLOOKUP($C96,'Hub coords'!$A$14:$E$118,1,TRUE) -> 13A
A97: Postprocessed Code | B97: 0 | C97: 13A_900_10.cor | D97: 901 | E97: 342.986 | F97: 0.2 | G97: 0.2 | H97: 2.210179 | I97: 5189668.7 | J97: 487874.58 | K97: =VLOOKUP($C97,'Hub coords'!$A$14:$E$119,4,TRUE) -> 487870.82 | L97: =VLOOKUP($C97,'Hub coords'!$A$14:$E$119,5,TRUE) -> 5189670 | M97: =ABS(K97-J97) -> 3.7596 | N97: =ABS(L97-I97) -> 1.2875 | O97: =SQRT(M97^2+N97^2) -> 3.9739462 | P97: =O97*O97 -> 15.792248 | Q97: =VLOOKUP($C97,'Hub coords'!$A$14:$E$118,1,TRUE) -> 13A | R97: Bin | S97: Frequency
A98: Postprocessed Code | B98: 0 | C98: 13A_900_11.cor | D98: 901 | E98: 338.128 | F98: 0.3 | G98: 0.2 | H98: 2.332531 | I98: 5189667.2 | J98: 487873.42 | K98: =VLOOKUP($C98,'Hub coords'!$A$14:$E$119,4,TRUE) -> 487870.82 | L98: =VLOOKUP($C98,'Hub coords'!$A$14:$E$119,5,TRUE) -> 5189670 | M98: =ABS(K98-J98) -> 2.6046 | N98: =ABS(L98-I98) -> 2.7445 | O98: =SQRT(M98^2+N98^2) -> 3.7836783 | P98: =O98*O98 -> 14.316221 | Q98: =VLOOKUP($C98,'Hub coords'!$A$14:$E$118,1,TRUE) -> 13A | R98: 1 | S98: 0
A99: Postprocessed Code | B99: 0 | C99: 13A_900_12.cor | D99: 901 | E99: 336.475 | F99: 0.4 | G99: 0.3 | H99: 2.419215 | I99: 5189669.3 | J99: 487872.79 | K99: =VLOOKUP($C99,'Hub coords'!$A$14:$E$119,4,TRUE) -> 487870.82 | L99: =VLOOKUP($C99,'Hub coords'!$A$14:$E$119,5,TRUE) -> 5189670 | M99: =ABS(K99-J99) -> 1.9766 | N99: =ABS(L99-I99) -> 0.7215 | O99: =SQRT(M99^2+N99^2) -> 2.1041649 | P99: =O99*O99 -> 4.4275098 | Q99: =VLOOKUP($C99,'Hub coords'!$A$14:$E$118,1,TRUE) -> 13A | R99: 2 | S99: 4
A100: Postprocessed Carrier Float | B100: 0 | C100: 13A_900_13.cor | D100: 901 | E100: 334.078 | F100: 0.2 | G100: 0.2 | H100: 1.880166 | I100: 5189669.2 | J100: 487872.12 | K100: =VLOOKUP($C100,'Hub coords'!$A$14:$E$119,4,TRUE) -> 487870.82 | L100: =VLOOKUP($C100,'Hub coords'!$A$14:$E$119,5,TRUE) -> 5189670 | M100: =ABS(K100-J100) -> 1.3056 | N100: =ABS(L100-I100) -> 0.8025 | O100: =SQRT(M100^2+N100^2) -> 1.5325135 | P100: =O100*O100 -> 2.3485976 | Q100: =VLOOKUP($C100,'Hub coords'!$A$14:$E$118,1,TRUE) -> 13A | R100: 3 | S100: 16
...

Sheet 20min_all_by_hub
A1: 20 min sub-samples from 37 one-hr occupation rover files
A2: PFO Auto/Smart
A3: CPXF GNSS basestation data used
A5: Corr Type | B5: Long file | C5: Datafile | D5: Unfilt Pos | E5: GNSS Height | F5: Vert Prec | G5: Horz Prec | H5: Std Dev | I5: Northing | J5: Easting | K5: X_2013_TR1 | L5: Y_2013_TR1 | M5: Abs_X_diff | N5: Abs_Y_diff | O5: Horz Err (m) | P5: Horz Err^2 | Q5: Hub
